{"text_format":"1","workbook":"xlsx","n_sheets":2,"sheets":["Chart","Data"],"not_rendered":{"charts":2,"images":0,"macros":1,"external_links":0,"defined_names":1,"comments":0,"pivot_tables":0},"unopened":[],"bounds":{"document_bytes":16777216,"sheet_cells":100000,"rows_first":2000,"rows_last":500,"rows_between":2000,"halvings":0,"cell_chars":16384,"cell_head_chars":4096},"cells_cut":0,"cells_raw":0,"read":"whole","date_system":"1900"}

{"sheet":"Chart","index":0,"n_rows":52,"n_cols":6,"rows_kept":52,"cut":false,"hidden":false,"merged":[]}
[" ",null,null,null,null,"Note: You must enable macros for this workbook to update correctly"]
[null,{"$f":"Data!AP181","v":"STL"},{"$f":"Data!AQ181","v":0},{"$f":"Data!AR181","v":0.56172839506172845}]
[null,{"$f":"Data!AP182","v":"MIL"},{"$f":"Data!AQ182","v":2},{"$f":"Data!AR182","v":0.54938271604938271}]
[null,{"$f":"Data!AP183","v":"CHC"},{"$f":"Data!AQ183","v":7},{"$f":"Data!AR183","v":0.51851851851851849}]
[null,{"$f":"Data!AP184","v":"CIN"},{"$f":"Data!AQ184","v":16},{"$f":"Data!AR184","v":0.46296296296296297}]
[null,{"$f":"Data!AP185","v":"PIT"},{"$f":"Data!AQ185","v":22},{"$f":"Data!AR185","v":0.42592592592592593}]
[]
[]
[]
[]
[]
[]
[]
[]
[]
[]
[]
[]
[]
[]
[]
[]
[]
[]
[]
[]
[]
[]
[]
[]
[]
[]
[]
[]
[]
[]
[]
[]
[]
[]
[]
[]
[]
[]
[]
[]
[]
[]
[]
[]
[]
[null,null,null,null,null,"Y-Axis = First-Place Lead Size (Brewers) (# of games)"]

{"sheet":"Data","index":1,"n_rows":192,"n_cols":46,"rows_kept":192,"cut":false,"hidden":false,"merged":[]}
["NLC19","CHC","W","L",null,"CIN","W","L",null,"MIL","W","L",null,"PIT","W","L",null,"STL","W","L",null,2018,"W","L",null,null,{"$f":"B1","v":"CHC"},{"$f":"F1","v":"CIN"},{"$f":"J1","v":"MIL"},{"$f":"N1","v":"PIT"},{"$f":"R1","v":"STL"},{"$f":"V1","v":2018},null,{"$f":"AA1","v":"CHC"},{"$f":"AB1","v":"CIN"},{"$f":"AC1","v":"MIL"},{"$f":"AD1","v":"PIT"},{"$f":"AE1","v":"STL"}]
["2019-03-27",null,0,0,null,null,0,0,null,null,0,0,null,null,0,0,null,null,0,0,null,null,0,0,null,null,0,0,0,0,0,0,null,0,0,0,0,0,null,null,null,null,null,null,null,{"$f":"IF(AJ2 = 0, MIN(AH2:AI2, AK2:AL2), 0-AJ2)","v":0}]
["2019-03-28",1,{"$f":"C2+IF(B3>0,B3,0)","v":1},{"$f":"D2-IF(B3<0,B3,0)","v":0},null,1,{"$f":"G2+IF(F3>0,F3,0)","v":1},{"$f":"H2-IF(F3<0,F3,0)","v":0},null,1,{"$f":"K2+IF(J3>0,J3,0)","v":1},{"$f":"L2-IF(J3<0,J3,0)","v":0},null,-1,{"$f":"O2+IF(N3>0,N3,0)","v":0},{"$f":"P2-IF(N3<0,N3,0)","v":1},null,-1,{"$f":"S2+IF(R3>0,R3,0)","v":0},{"$f":"T2-IF(R3<0,R3,0)","v":1},null,1,{"$f":"W2+IF(V3>0,V3,0)","v":1},{"$f":"X2-IF(V3<0,V3,0)","v":0},null,null,{"$f":"C3-D3","v":1},{"$f":"G3-H3","v":1},{"$f":"K3-L3","v":1},{"$f":"O3-P3","v":-1},{"$f":"S3-T3","v":-1},{"$f":"W3-X3","v":1},null,{"$f":"(MAX($AA3:$AE3)-AA3)/2","v":0},{"$f":"(MAX($AA3:$AE3)-AB3)/2","v":0},{"$f":"(MAX($AA3:$AE3)-AC3)/2","v":0},{"$f":"(MAX($AA3:$AE3)-AD3)/2","v":1},{"$f":"(MAX($AA3:$AE3)-AE3)/2","v":1},null,null,null,{"$f":"AP181","v":"STL"},0,0.56172839506172845,null,0]
["2019-03-29",null,{"$f":"C3+IF(B4>0,B4,0)","v":1},{"$f":"D3-IF(B4<0,B4,0)","v":0},null,null,1,0,null,-1,1,1,null,null,0,1,null,1,1,1,null,1,2,0,null,null,1,1,0,-1,0,2,null,{"$f":"(MAX($AA4:$AE4)-AA4)/2","v":0},{"$f":"(MAX($AA4:$AE4)-AB4)/2","v":0},{"$f":"(MAX($AA4:$AE4)-AC4)/2","v":0.5},{"$f":"(MAX($AA4:$AE4)-AD4)/2","v":1},{"$f":"(MAX($AA4:$AE4)-AE4)/2","v":0.5},null,null,null,"MIL",2,0.54938271604938271,null,-0.5]
["2019-03-30",-1,1,1,null,null,1,0,null,1,2,1,null,null,0,1,null,-1,1,2,null,1,3,0,null,null,0,1,1,-1,-1,3,null,0.5,0,0,1,1,null,null,null,"CHC",7,0.51851851851851849,null,0]
["2019-03-31",-1,1,2,null,-1,1,1,null,1,3,1,null,1,1,1,null,-1,1,3,null,null,3,0,null,null,-1,0,2,0,-2,3,null,1.5,1,0,1,2,null,null,null,"CIN",16,0.46296296296296297,null,1]
["2019-04-01",-1,1,3,null,-1,1,2,null,1,4,1,null,-1,1,2,null,1,2,3,null,-1,3,1,null,null,-2,-1,3,-1,-1,2,null,2.5,2,0,2,2,null,null,null,"PIT",22,0.42592592592592593,null,2]
["2019-04-02",null,1,3,null,-1,1,3,null,1,5,1,null,null,1,2,null,null,2,3,null,1,4,1,null,null,-2,-2,4,-1,-1,3,null,3,3,0,2.5,2.5,null,null,null,null,null,null,null,2.5]
["2019-04-03",-1,1,4,null,-1,1,4,null,1,6,1,null,-1,1,3,null,1,3,3,null,-1,4,2,null,null,-3,-3,5,-2,0,2,null,4,4,0,3.5,2.5,null,null,null,null,null,null,null,2.5]
["2019-04-04",-1,1,5,null,-1,1,5,null,null,6,1,null,1,2,3,null,null,3,3,null,-1,4,3,null,null,-4,-4,5,-1,0,1,null,4.5,4.5,0,3,2.5,null,null,null,null,null,null,null,2.5]
["2019-04-05",-1,1,6,null,-1,1,6,null,1,7,1,null,1,3,3,null,-1,3,4,null,1,5,3,null,null,-5,-5,6,0,-1,2,null,5.5,5.5,0,3,3.5,null,null,null,null,null,null,null,3]
["2019-04-06",1,2,6,null,-1,1,7,null,-1,7,2,null,1,4,3,null,-1,3,5,null,-1,5,4,null,null,-4,-6,5,1,-2,1,null,4.5,5.5,0,2,3.5,null,null,null,null,null,null,null,2]
["2019-04-07",-1,2,7,null,-1,1,8,null,1,8,2,null,1,5,3,null,1,4,5,null,-1,5,5,null,null,-5,-7,6,2,-1,0,null,5.5,6.5,0,2,3.5,null,null,null,null,null,null,null,2]
["2019-04-08",1,3,7,null,null,1,8,null,-1,8,3,null,-1,5,4,null,1,5,5,null,1,6,5,null,null,-4,-7,5,1,0,1,null,4.5,6,0,2,2.5,null,null,null,null,null,null,null,2]
["2019-04-09",null,3,7,null,1,2,8,null,-1,8,4,null,null,5,4,null,1,6,5,null,-1,6,6,null,null,-4,-6,4,1,1,0,null,4,5,0,1.5,1.5,null,null,null,null,null,null,null,1.5]
["2019-04-10",-1,3,8,null,1,3,8,null,-1,8,5,null,1,6,4,null,1,7,5,null,1,7,6,null,null,-5,-5,3,2,2,1,null,4,4,0,0.5,0.5,null,null,null,null,null,null,null,0.5]
["2019-04-11",1,4,8,null,1,4,8,null,null,8,5,null,-1,6,5,null,1,8,5,null,null,7,6,null,null,-4,-4,3,1,3,1,null,3.5,3.5,0,1,0,null,null,null,null,null,null,null,0]
["2019-04-12",1,5,8,null,null,4,8,null,1,9,5,null,1,7,5,null,null,8,5,null,-1,7,7,null,null,-3,-4,4,2,3,0,null,3.5,4,0,1,0.5,null,null,null,null,null,null,null,0.5]
["2019-04-13",-1,5,9,null,1,5,8,null,1,10,5,null,-1,7,6,null,-1,8,6,null,1,8,7,null,null,-4,-3,5,1,2,1,null,4.5,4,0,2,1.5,null,null,null,null,null,null,null,1.5]
["2019-04-14",null,5,9,null,-1,5,9,null,-1,10,6,null,1,8,6,null,1,9,6,null,-1,8,8,null,null,-4,-4,4,2,3,0,null,4,4,0,1,0.5,null,null,null,null,null,null,null,0.5]
["2019-04-15",1,6,9,null,-1,5,10,null,1,11,6,null,null,8,6,null,-1,9,7,null,-1,8,9,null,null,-3,-5,5,2,2,-1,null,4,5,0,1.5,1.5,null,null,null,null,null,null,null,1.5]
["2019-04-16",1,7,9,null,-1,5,11,null,1,12,6,null,1,9,6,null,-1,9,8,null,1,9,9,null,null,-2,-6,6,3,1,0,null,4,6,0,1.5,2.5,null,null,null,null,null,null,null,1.5]
["2019-04-17",1,{"$f":"C22+IF(B23>0,B23,0)","v":8},{"$f":"D22-IF(B23<0,B23,0)","v":9},null,-1,5,12,null,-1,12,7,null,1,{"$f":"O22+IF(N23>0,N23,0)","v":10},{"$f":"P22-IF(N23<0,N23,0)","v":6},null,1,{"$f":"S22+IF(R23>0,R23,0)","v":10},{"$f":"T22-IF(R23<0,R23,0)","v":8},null,1,10,9,null,null,-1,-7,5,4,2,1,null,3,6,0,0.5,1.5,null,null,null,null,null,null,null,0.5]
["2019-04-18",null,8,9,null,1,6,12,null,-1,12,8,null,null,10,6,null,null,10,8,null,1,11,9,null,null,-1,-6,4,4,2,2,null,2.5,5,0,0,1,null,null,null,null,null,null,null,0]
["2019-04-19",1,9,9,null,1,7,12,null,-1,12,9,null,1,11,6,null,-1,10,9,null,1,12,9,null,null,0,-5,3,5,1,3,null,2.5,5,1,0,2,null,null,null,null,null,null,null,-1]
["2019-04-20",-1,9,10,null,1,8,12,null,1,13,9,null,1,12,6,null,1,11,9,null,1,13,9,null,null,-1,-4,4,6,2,4,null,3.5,5,1,0,2,null,null,null,null,null,null,null,-1]
["2019-04-21",1,10,10,null,-1,8,13,null,-1,13,10,null,-1,12,7,null,1,12,9,null,1,14,9,null,null,0,-5,3,5,3,5,null,2.5,5,1,0,1,null,null,null,null,null,null,null,-1]
["2019-04-22",null,10,10,null,null,8,13,null,-1,13,11,null,-1,12,8,null,1,13,9,null,null,14,9,null,null,0,-5,2,4,4,5,null,2,4.5,1,0,0,null,null,null,null,null,null,null,-1]
["2019-04-23",1,11,10,null,1,9,13,null,-1,13,12,null,-1,12,9,null,1,14,9,null,1,15,9,null,null,1,-4,1,3,5,6,null,2,4.5,2,1,0,null,null,null,null,null,null,null,-2]
["2019-04-24",1,12,10,null,-1,9,14,null,-1,13,13,null,-1,{"$f":"O29+IF(N30>0,N30,0)","v":12},{"$f":"P29-IF(N30<0,N30,0)","v":10},null,1,15,9,null,1,16,9,null,null,2,-5,0,2,6,7,null,2,5.5,3,2,0,null,null,null,null,null,null,null,-3]
["2019-04-25",-1,12,11,null,1,10,14,null,null,13,13,null,-1,12,11,null,null,15,9,null,-1,16,10,null,null,1,-4,0,1,6,6,null,2.5,5,3,2.5,0,null,null,null,null,null,null,null,-3]
["2019-04-26",-1,12,12,null,1,11,14,null,1,14,13,null,-1,12,12,null,-1,15,10,null,-1,16,11,null,null,0,-3,1,0,5,5,null,2.5,4,2,2.5,0,null,null,null,null,null,null,null,-2]
["2019-04-27",1,13,12,null,-1,11,15,null,1,15,13,null,-1,12,13,null,1,16,10,null,-1,16,12,null,null,1,-4,2,-1,6,4,null,2.5,5,2,3.5,0,null,null,null,null,null,null,null,-2]
["2019-04-28",1,14,12,null,-1,11,16,null,-1,15,14,null,-1,12,14,null,1,17,10,null,-1,16,13,null,null,2,-5,1,-2,7,3,null,2.5,6,3,4.5,0,null,null,null,null,null,null,null,{"$f":"IF(AJ34 = 0, MIN(AH34:AI34, AK34:AL34), 0-AJ34)","v":-3}]
["2019-04-29",null,14,12,null,1,12,16,null,1,16,14,null,null,12,14,null,1,18,10,null,1,17,13,null,null,{"$f":"C35-D35","v":2},{"$f":"G35-H35","v":-4},{"$f":"K35-L35","v":2},{"$f":"O35-P35","v":-2},{"$f":"S35-T35","v":8},{"$f":"W35-X35","v":4},null,3,6,3,5,0,null,null,null,null,null,null,null,-3]
["2019-04-30",1,15,12,null,-1,{"$f":"G35+IF(F36>0,F36,0)","v":12},{"$f":"H35-IF(F36<0,F36,0)","v":17},null,1,17,14,null,1,13,14,null,1,19,10,null,1,18,13,null,null,3,-5,3,-1,9,5,null,3,7,3,5,{"$f":"(MAX($AA36:$AE36)-AE36)/2","v":0},null,null,null,null,null,null,null,-3]
["2019-05-01",1,16,12,null,1,13,17,null,-1,17,15,null,1,14,14,null,1,20,10,null,1,19,13,null,null,4,-4,2,0,10,6,null,3,7,4,5,0,null,null,null,null,null,null,null,-4]
["2019-05-02",null,16,12,null,-1,13,18,null,-1,17,16,null,null,14,14,null,-1,20,11,null,null,19,13,null,null,4,-5,1,0,9,6,null,2.5,7,4,4.5,0,null,null,null,null,null,null,null,-4]
["2019-05-03",1,{"$f":"C38+IF(B39>0,B39,0)","v":17},{"$f":"D38-IF(B39<0,B39,0)","v":12},null,-1,{"$f":"G38+IF(F39>0,F39,0)","v":13},{"$f":"H38-IF(F39<0,F39,0)","v":19},null,1,{"$f":"K38+IF(J39>0,J39,0)","v":18},{"$f":"L38-IF(J39<0,J39,0)","v":16},null,-1,14,15,null,-1,{"$f":"S38+IF(R39>0,R39,0)","v":20},{"$f":"T38-IF(R39<0,R39,0)","v":12},null,-1,19,14,null,null,5,-6,2,-1,8,5,null,1.5,7,3,4.5,0,null,null,null,null,null,null,null,-3]
["2019-05-04",1,{"$f":"C39+IF(B40>0,B40,0)","v":18},{"$f":"D39-IF(B40<0,B40,0)","v":12},null,1,14,19,null,1,19,16,null,1,15,15,null,-1,20,13,null,1,20,14,null,null,6,-5,3,0,7,6,null,0.5,6,2,3.5,0,null,null,null,null,null,null,null,-2]
["2019-05-05",1,19,12,null,-1,14,20,null,1,20,16,null,1,16,15,null,-1,20,14,null,-1,20,15,null,null,7,-6,4,1,6,5,null,0,6.5,1.5,3,0.5,null,null,null,null,null,null,null,-1.5]
["2019-05-06",-1,19,13,null,1,15,20,null,1,21,16,null,null,16,15,null,1,21,14,null,null,20,15,null,null,6,-5,5,1,7,5,null,0.5,6,1,3,0,null,null,null,null,null,null,null,-1]
["2019-05-07",1,20,13,null,-1,15,21,null,1,22,16,null,1,17,15,null,-1,21,15,null,1,21,15,null,null,7,-6,6,2,6,6,null,0,6.5,0.5,2.5,0.5,null,null,null,null,null,null,null,-0.5]
["2019-05-08",1,21,13,null,-1,15,22,null,1,23,16,null,-1,17,16,null,-1,21,16,null,-1,21,16,null,null,8,-7,7,1,5,5,null,0,7.5,0.5,3.5,1.5,null,null,null,null,null,null,null,-0.5]
["2019-05-09",1,{"$f":"C44+IF(B45>0,B45,0)","v":22},{"$f":"D44-IF(B45<0,B45,0)","v":13},null,1,{"$f":"G44+IF(F45>0,F45,0)","v":16},{"$f":"H44-IF(F45<0,F45,0)","v":22},null,null,{"$f":"K44+IF(J45>0,J45,0)","v":23},{"$f":"L44-IF(J45<0,J45,0)","v":16},null,-1,17,17,null,1,{"$f":"S44+IF(R45>0,R45,0)","v":22},{"$f":"T44-IF(R45<0,R45,0)","v":16},null,1,{"$f":"W44+IF(V45>0,V45,0)","v":22},{"$f":"X44-IF(V45<0,V45,0)","v":16},null,null,9,-6,7,0,6,6,null,0,7.5,1,4.5,1.5,null,null,null,null,null,null,null,-1]
["2019-05-10",-1,22,14,null,1,17,22,null,1,24,16,null,1,18,17,null,-1,22,17,null,1,{"$f":"W45+IF(V46>0,V46,0)","v":23},{"$f":"X45-IF(V46<0,V46,0)","v":16},null,null,8,-5,8,1,5,7,null,0,6.5,0,3.5,1.5,null,null,null,null,null,null,null,0]
["2019-05-11",1,23,14,null,1,18,22,null,-1,24,17,null,1,19,17,null,-1,22,18,null,-1,23,17,null,null,9,-4,7,2,4,6,null,0,6.5,1,3.5,2.5,null,null,null,null,null,null,null,-1]
["2019-05-12",1,24,14,null,-1,{"$f":"G47+IF(F48>0,F48,0)","v":18},{"$f":"H47-IF(F48<0,F48,0)","v":23},null,-1,24,18,null,1,20,17,null,-1,22,19,null,1,24,17,null,null,10,-5,6,3,3,7,null,0,7.5,2,3.5,3.5,null,null,null,null,null,null,null,-2]
["2019-05-13",null,24,14,null,null,18,23,null,-1,24,19,null,-1,20,18,null,null,22,19,null,1,25,17,null,null,10,-5,5,2,3,8,null,0,7.5,2.5,4,3.5,null,null,null,null,null,null,null,-2.5]
["2019-05-14",1,25,14,null,-1,18,24,null,1,25,19,null,1,21,18,null,1,23,19,null,-1,25,18,null,null,11,-6,6,3,4,7,null,0,8.5,2.5,4,3.5,null,null,null,null,null,null,null,-2.5]
["2019-05-15",-1,25,15,null,1,19,24,null,1,26,19,null,-1,{"$f":"O50+IF(N51>0,N51,0)","v":21},{"$f":"P50-IF(N51<0,N51,0)","v":19},null,-1,23,20,null,1,26,18,null,null,10,-5,7,2,3,8,null,0,7.5,1.5,4,3.5,null,null,null,null,null,null,null,-1.5]
["2019-05-16",-1,25,16,null,1,20,24,null,1,27,19,null,-1,21,20,null,-1,23,21,null,null,26,18,null,null,9,-4,8,1,2,8,null,0,6.5,0.5,4,3.5,null,null,null,null,null,null,null,-0.5]
["2019-05-17",1,26,16,null,-1,20,25,null,-1,27,20,null,1,22,20,null,-1,23,22,null,1,27,18,null,null,10,-5,7,2,1,9,null,0,7.5,1.5,4,4.5,null,null,null,null,null,null,null,-1.5]
["2019-05-18",-1,{"$f":"C53+IF(B54>0,B54,0)","v":26},{"$f":"D53-IF(B54<0,B54,0)","v":17},null,1,{"$f":"G53+IF(F54>0,F54,0)","v":21},{"$f":"H53-IF(F54<0,F54,0)","v":25},null,-1,27,21,null,1,23,20,null,1,24,22,null,1,28,18,null,null,9,-4,6,3,2,10,null,0,6.5,1.5,3,3.5,null,null,null,null,null,null,null,-1.5]
["2019-05-19",1,{"$f":"C54+IF(B55>0,B55,0)","v":27},{"$f":"D54-IF(B55<0,B55,0)","v":17},null,-1,21,26,null,1,28,21,null,1,24,20,null,-1,24,23,null,-1,28,19,null,null,10,-5,7,4,1,9,null,0,7.5,1.5,3,4.5,null,null,null,null,null,null,null,-1.5]
["2019-05-20",-1,27,18,null,null,21,26,null,null,28,21,null,null,24,20,null,null,24,23,null,1,29,19,null,null,9,-5,7,4,1,10,null,0,7,1,2.5,4,null,null,null,null,null,null,null,-1]
["2019-05-21",1,28,18,null,1,22,26,null,-1,28,22,null,-1,24,21,null,null,24,23,null,1,30,19,null,null,10,-4,6,3,1,11,null,0,7,2,3.5,4.5,null,null,null,null,null,null,null,-2]
["2019-05-22",1,29,18,null,-1,22,27,null,1,29,22,null,-1,24,22,null,0,25,24,null,1,31,19,null,null,11,-5,7,2,1,12,null,0,8,2,4.5,5,null,null,null,null,null,null,null,-2]
["2019-05-23",-1,29,19,null,null,22,27,null,null,29,22,null,1,25,22,null,null,25,24,null,-1,31,20,null,null,10,-5,7,3,1,11,null,0,7.5,1.5,3.5,4.5,null,null,null,null,null,null,null,-1.5]
["2019-05-24",-1,29,20,null,1,23,27,null,-1,29,23,null,-1,25,23,null,-1,25,25,null,1,32,20,null,null,9,-4,6,2,0,12,null,0,6.5,1.5,3.5,4.5,null,null,null,null,null,null,null,-1.5]
["2019-05-25",1,30,20,null,-1,23,28,null,-1,29,24,null,-1,{"$f":"O60+IF(N61>0,N61,0)","v":25},{"$f":"P60-IF(N61<0,N61,0)","v":24},null,1,26,25,null,1,33,20,null,null,10,-5,5,1,1,13,null,0,7.5,2.5,4.5,4.5,null,null,null,null,null,null,null,-2.5]
["2019-05-26",-1,30,21,null,1,24,28,null,1,30,24,null,-1,25,25,null,-1,26,26,null,1,34,20,null,null,9,-4,6,0,0,14,null,0,6.5,1.5,4.5,4.5,null,null,null,null,null,null,null,-1.5]
["2019-05-27",-1,30,22,null,0,25,29,null,1,31,24,null,0,26,26,null,null,26,26,null,1,35,20,null,null,8,-4,7,0,0,15,null,0,6,0.5,4,4,null,null,null,null,null,null,null,-0.5]
["2019-05-28",-1,30,23,null,1,26,29,null,-1,31,25,null,-1,26,27,null,-1,26,27,null,-1,35,21,null,null,7,-3,6,-1,-1,14,null,0,5,0.5,4,4,null,null,null,null,null,null,null,-0.5]
["2019-05-29",1,31,23,null,-1,26,30,null,null,31,25,null,1,27,27,null,-1,26,28,null,1,36,21,null,null,8,-4,6,0,-2,15,null,0,6,1,4,5,null,null,null,null,null,null,null,-1]
["2019-05-30",null,31,23,null,null,26,30,null,1,32,25,null,-1,27,28,null,1,27,28,null,null,36,21,null,null,8,-4,7,-1,-1,15,null,0,6,0.5,4.5,4.5,null,null,null,null,null,null,null,{"$f":"IF(AJ66 = 0, MIN(AH66:AI66, AK66:AL66), 0-AJ66)","v":-0.5}]
["2019-05-31",-1,31,24,null,1,27,30,null,-1,32,26,null,1,28,28,null,1,28,28,null,-1,36,22,null,null,{"$f":"C67-D67","v":7},{"$f":"G67-H67","v":-3},{"$f":"K67-L67","v":6},{"$f":"O67-P67","v":0},{"$f":"S67-T67","v":0},{"$f":"W67-X67","v":14},null,0,5,0.5,3.5,3.5,null,null,null,null,null,null,null,-0.5]
["2019-06-01",-1,31,25,null,-1,27,31,null,1,33,26,null,-1,28,29,null,1,29,28,null,1,37,22,null,null,6,-4,7,-1,1,15,null,{"$f":"(MAX($AA68:$AE68)-AA68)/2","v":0.5},{"$f":"(MAX($AA68:$AE68)-AB68)/2","v":5.5},{"$f":"(MAX($AA68:$AE68)-AC68)/2","v":0},{"$f":"(MAX($AA68:$AE68)-AD68)/2","v":4},{"$f":"(MAX($AA68:$AE68)-AE68)/2","v":3},null,null,null,null,null,null,null,0.5]
["2019-06-02",-1,31,26,null,-1,27,32,null,1,34,26,null,-1,28,30,null,1,{"$f":"S68+IF(R69>0,R69,0)","v":30},{"$f":"T68-IF(R69<0,R69,0)","v":28},null,-1,37,23,null,null,5,-5,8,-2,2,14,null,1.5,6.5,0,5,3,null,null,null,null,null,null,null,1.5]
["2019-06-03",1,32,26,null,null,{"$f":"G69+IF(F70>0,F70,0)","v":27},{"$f":"H69-IF(F70<0,F70,0)","v":32},null,null,34,26,null,null,28,30,null,null,30,28,null,null,37,23,null,null,6,-5,8,-2,2,14,null,1,6.5,0,5,3,null,null,null,null,null,null,null,1]
["2019-06-04",1,33,26,null,1,{"$f":"G70+IF(F71>0,F71,0)","v":28},{"$f":"H70-IF(F71<0,F71,0)","v":32},null,-1,{"$f":"K70+IF(J71>0,J71,0)","v":34},{"$f":"L70-IF(J71<0,J71,0)","v":27},null,-1,28,31,null,-1,{"$f":"S70+IF(R71>0,R71,0)","v":30},{"$f":"T70-IF(R71<0,R71,0)","v":29},null,-1,37,24,null,null,7,-4,7,-3,1,13,null,0,5.5,0,5,3,null,null,null,null,null,null,null,0]
["2019-06-05",1,34,26,null,null,{"$f":"G71+IF(F72>0,F72,0)","v":28},{"$f":"H71-IF(F72<0,F72,0)","v":32},null,-1,34,28,null,1,29,31,null,null,30,29,null,-1,37,25,null,null,8,-4,6,-2,1,12,null,0,6,1,5,3.5,null,null,null,null,null,null,null,-1]
["2019-06-06",-1,34,27,null,-1,{"$f":"G72+IF(F73>0,F73,0)","v":28},{"$f":"H72-IF(F73<0,F73,0)","v":33},null,1,35,28,null,1,30,31,null,1,31,29,null,null,37,25,null,null,7,-5,7,-1,2,12,null,0,6,0,4,2.5,null,null,null,null,null,null,null,0]
["2019-06-07",1,35,27,null,-1,28,34,null,1,{"$f":"K73+IF(J74>0,J74,0)","v":36},{"$f":"L73-IF(J74<0,J74,0)","v":28},null,-1,30,32,null,-1,{"$f":"S73+IF(R74>0,R74,0)","v":31},{"$f":"T73-IF(R74<0,R74,0)","v":30},null,1,38,25,null,null,8,-6,8,-2,1,13,null,0,7,0,5,3.5,null,null,null,null,null,null,null,0]
["2019-06-08",1,36,27,null,-1,28,35,null,1,37,28,null,-1,30,33,null,-1,31,31,null,1,39,25,null,null,9,-7,9,-3,0,14,null,0,8,0,6,4.5,null,null,null,null,null,null,null,0]
["2019-06-09",1,37,27,null,1,29,35,null,1,38,28,null,-1,30,34,null,-1,31,32,null,-1,39,26,null,null,10,-6,10,-4,-1,13,null,0,8,0,7,5.5,null,null,null,null,null,null,null,0]
["2019-06-10",-1,37,28,null,null,29,35,null,null,38,28,null,-1,30,35,null,1,32,32,null,-1,39,27,null,null,9,-6,10,-5,0,12,null,0.5,8,0,7.5,5,null,null,null,null,null,null,null,0.5]
["2019-06-11",-1,37,29,null,-1,29,36,null,-1,38,29,null,-1,{"$f":"O77+IF(N78>0,N78,0)","v":30},{"$f":"P77-IF(N78<0,N78,0)","v":36},null,1,33,32,null,1,40,27,null,null,8,-7,9,-6,1,13,null,0.5,8,0,7.5,4,null,null,null,null,null,null,null,0.5]
["2019-06-12",1,38,29,null,1,30,36,null,1,39,29,null,-1,30,37,null,-1,33,33,null,1,41,27,null,null,9,-6,10,-7,0,14,null,0.5,8,0,8.5,5,null,null,null,null,null,null,null,0.5]
["2019-06-13",-1,38,30,null,null,30,36,null,null,39,29,null,-1,30,38,null,1,34,33,null,null,41,27,null,null,8,-6,10,-8,1,14,null,1,8,0,9,4.5,null,null,null,null,null,null,null,1]
["2019-06-14",-1,38,31,null,-1,30,37,null,-1,39,30,null,1,31,38,null,1,35,33,null,1,42,27,null,null,7,-7,9,-7,2,15,null,1,8,0,8,3.5,null,null,null,null,null,null,null,1]
["2019-06-15",1,39,31,null,-1,30,38,null,-1,39,31,null,-1,31,39,null,-1,35,34,null,-1,42,28,null,null,8,-8,8,-8,1,14,null,0,8,0,8,3.5,null,null,null,null,null,null,null,0]
["2019-06-16",-1,39,32,null,1,31,38,null,1,40,31,null,1,32,39,null,1,36,34,null,-1,42,29,null,null,7,-7,9,-7,2,13,null,1,8,0,8,3.5,null,null,null,null,null,null,null,1]
["2019-06-17",null,39,32,null,1,32,38,null,-1,40,32,null,null,32,39,null,1,37,34,null,-1,42,30,null,null,7,-6,8,-7,3,12,null,0.5,7,0,7.5,2.5,null,null,null,null,null,null,null,0.5]
["2019-06-18",-1,{"$f":"C84+IF(B85>0,B85,0)","v":39},{"$f":"D84-IF(B85<0,B85,0)","v":33},null,1,33,38,null,-1,40,33,null,-1,32,40,null,-1,37,35,null,1,43,30,null,null,6,-5,7,-8,2,13,null,0.5,6,0,7.5,2.5,null,null,null,null,null,null,null,0.5]
["2019-06-19",1,40,33,null,1,{"$f":"G85+IF(F86>0,F86,0)","v":34},{"$f":"H85-IF(F86<0,F86,0)","v":38},null,-1,40,34,null,1,33,40,null,1,38,35,null,null,43,30,null,null,7,-4,6,-7,3,13,null,0,5.5,0.5,7,2,null,null,null,null,null,null,null,-0.5]
["2019-06-20",1,41,33,null,1,35,38,null,-1,40,35,null,null,33,40,null,-1,38,36,null,1,44,30,null,null,8,-3,5,-7,2,14,null,0,5.5,1.5,7.5,3,null,null,null,null,null,null,null,-1.5]
["2019-06-21",-1,41,34,null,1,36,38,null,-1,40,36,null,1,{"$f":"O87+IF(N88>0,N88,0)","v":34},{"$f":"P87-IF(N88<0,N88,0)","v":40},null,1,{"$f":"S87+IF(R88>0,R88,0)","v":39},{"$f":"T87-IF(R88<0,R88,0)","v":36},null,1,45,30,null,null,7,-2,4,-6,3,15,null,0,4.5,1.5,6.5,2,null,null,null,null,null,null,null,-1.5]
["2019-06-22",-1,41,35,null,-1,36,39,null,1,41,36,null,1,35,40,null,1,40,36,null,-1,45,31,null,null,6,-3,5,-5,4,14,null,0,4.5,0.5,5.5,1,null,null,null,null,null,null,null,-0.5]
["2019-06-23",1,42,35,null,-1,36,40,null,1,42,36,null,1,36,40,null,-1,40,37,null,-1,45,32,null,null,7,-4,6,-4,3,13,null,0,5.5,0.5,5.5,2,null,null,null,null,null,null,null,-0.5]
["2019-06-24",1,43,35,null,null,36,40,null,null,42,36,null,null,36,40,null,null,40,37,null,null,45,32,null,null,8,-4,6,-4,3,13,null,0,6,1,6,2.5,null,null,null,null,null,null,null,-1]
["2019-06-25",-1,43,36,null,-1,36,41,null,-1,42,37,null,-1,36,41,null,-1,40,38,null,1,46,32,null,null,7,-5,5,-5,2,14,null,0,6,1,6,2.5,null,null,null,null,null,null,null,-1]
["2019-06-26",-1,43,37,null,-1,36,42,null,-1,42,38,null,1,37,41,null,-1,40,39,null,-1,46,33,null,null,6,-6,4,-4,1,13,null,0,6,1,5,2.5,null,null,null,null,null,null,null,-1]
["2019-06-27",1,44,37,null,null,36,42,null,1,43,38,null,1,38,41,null,null,40,39,null,1,47,33,null,null,7,-6,5,-3,1,14,null,0,6.5,1,5,3,null,null,null,null,null,null,null,-1]
["2019-06-28",-1,44,38,null,1,37,42,null,-1,43,39,null,1,39,41,null,-1,40,40,null,1,48,33,null,null,6,-5,4,-2,0,15,null,0,5.5,1,4,3,null,null,null,null,null,null,null,-1]
["2019-06-29",1,45,38,null,-1,37,43,null,1,44,39,null,-1,39,42,null,-1,40,41,null,-1,48,34,null,null,7,-6,5,-3,-1,14,null,0,6.5,1,5,4,null,null,null,null,null,null,null,-1]
["2019-06-30",-1,45,39,null,1,38,43,null,1,45,39,null,-1,39,43,null,1,41,41,null,-1,48,35,null,null,6,-5,6,-4,0,13,null,0,5.5,0,5,3,null,null,null,null,null,null,null,0]
["2019-07-01",-1,45,40,null,-1,38,44,null,1,46,39,null,1,40,43,null,null,41,41,null,1,49,35,null,null,5,-6,7,-3,0,14,null,1,6.5,0,5,3.5,null,null,null,null,null,null,null,{"$f":"IF(AJ98 = 0, MIN(AH98:AI98, AK98:AL98), 0-AJ98)","v":1}]
["2019-07-02",-1,45,41,null,1,39,44,null,-1,46,40,null,1,41,43,null,-1,41,42,null,1,50,35,null,null,{"$f":"C99-D99","v":4},{"$f":"G99-H99","v":-5},{"$f":"K99-L99","v":6},{"$f":"O99-P99","v":-2},{"$f":"S99-T99","v":-1},{"$f":"W99-X99","v":15},null,1,5.5,0,4,3.5,null,null,null,null,null,null,null,1]
["2019-07-03",-1,45,42,null,1,40,44,null,-1,46,41,null,1,42,43,null,1,{"$f":"S99+IF(R100>0,R100,0)","v":42},{"$f":"T99-IF(R100<0,R100,0)","v":42},null,1,51,35,null,null,3,-4,5,-1,0,16,null,1,4.5,0,3,{"$f":"(MAX($AA100:$AE100)-AE100)/2","v":2.5},null,null,null,null,null,null,null,1]
["2019-07-04",1,46,42,null,1,41,44,null,-1,46,42,null,-1,42,44,null,1,43,42,null,1,52,35,null,null,4,-3,4,-2,1,17,null,0,3.5,0,3,1.5,null,null,null,null,null,null,null,0]
["2019-07-05",null,46,42,null,null,41,44,null,1,47,42,null,-1,42,45,null,1,44,42,null,1,53,35,null,null,4,-3,5,-3,2,18,null,0.5,4,0,4,1.5,null,null,null,null,null,null,null,0.5]
["2019-07-06",1,47,42,null,-1,{"$f":"G102+IF(F103>0,F103,0)","v":41},{"$f":"H102-IF(F103<0,F103,0)","v":45},null,-1,{"$f":"K102+IF(J103>0,J103,0)","v":47},{"$f":"L102-IF(J103<0,J103,0)","v":43},null,1,43,45,null,-1,{"$f":"S102+IF(R103>0,R103,0)","v":44},{"$f":"T102-IF(R103<0,R103,0)","v":43},null,-1,53,36,null,null,5,-4,4,-2,1,17,null,0,4.5,0.5,3.5,2,null,null,null,null,null,null,null,-0.5]
["2019-07-07",-1,47,43,null,-1,41,46,null,-1,47,44,null,1,44,45,null,-1,44,44,null,1,54,36,null,null,4,-5,3,-1,0,18,null,0,4.5,0.5,2.5,2,null,null,null,null,null,null,null,-0.5]
["2019-07-08",null,47,43,null,null,41,46,null,null,47,44,null,null,44,45,null,null,44,44,null,-1,54,37,null,null,4,-5,3,-1,0,17,null,0,4.5,0.5,2.5,2,null,null,null,null,null,null,null,-0.5]
["2019-07-09",null,47,43,null,null,41,46,null,null,47,44,null,null,44,45,null,null,44,44,null,1,55,37,null,null,4,-5,3,-1,0,18,null,0,4.5,0.5,2.5,2,null,null,null,null,null,null,null,-0.5]
["2019-07-10",null,47,43,null,null,41,46,null,null,47,44,null,null,44,45,null,null,44,44,null,-1,55,38,null,null,4,-5,3,-1,0,17,null,0,4.5,0.5,2.5,2,null,null,null,null,null,null,null,-0.5]
["2019-07-11",null,47,43,null,null,41,46,null,null,47,44,null,null,44,45,null,null,44,44,null,-1,55,39,null,null,4,-5,3,-1,0,16,null,0,4.5,0.5,2.5,2,null,null,null,null,null,null,null,-0.5]
["2019-07-12",1,48,43,null,-1,41,47,null,-1,47,45,null,-1,44,46,null,-1,44,45,null,-1,55,40,null,null,5,-6,2,-2,-1,15,null,0,5.5,1.5,3.5,3,null,null,null,null,null,null,null,-1.5]
["2019-07-13",1,49,43,null,1,{"$f":"G109+IF(F110>0,F110,0)","v":42},{"$f":"H109-IF(F110<0,F110,0)","v":47},null,1,48,45,null,-1,{"$f":"O109+IF(N110>0,N110,0)","v":44},{"$f":"P109-IF(N110<0,N110,0)","v":47},null,1,45,45,null,-2,{"$f":"W109+IF(V110>0,V110,0)","v":55},{"$f":"X109-IF(V110<0,V110,0)","v":42},null,null,6,-5,3,-3,0,13,null,0,5.5,1.5,4.5,3,null,null,null,null,null,null,null,-1.5]
["2019-07-14",1,50,43,null,-1,42,48,null,-1,48,46,null,-1,44,48,null,1,46,45,null,-1,55,43,null,null,7,-6,2,-4,1,12,null,0,6.5,2.5,5.5,3,null,null,null,null,null,null,null,-2.5]
["2019-07-15",-1,50,44,null,1,43,48,null,-1,48,47,null,-1,44,49,null,1,47,45,null,null,55,43,null,null,6,-5,1,-5,2,12,null,0,5.5,2.5,5.5,2,null,null,null,null,null,null,null,-2.5]
["2019-07-16",1,51,44,null,-1,43,49,null,1,49,47,null,1,45,49,null,-1,47,46,null,null,55,43,null,null,7,-6,2,-4,1,12,null,0,6.5,2.5,5.5,3,null,null,null,null,null,null,null,-2.5]
["2019-07-17",1,52,44,null,-1,43,50,null,1,50,47,null,-1,45,50,null,1,48,46,null,null,55,43,null,null,8,-7,3,-5,2,12,null,0,7.5,2.5,6.5,3,null,null,null,null,null,null,null,-2.5]
["2019-07-18",null,52,44,null,-1,43,51,null,1,51,47,null,null,45,50,null,1,{"$f":"S114+IF(R115>0,R115,0)","v":49},{"$f":"T114-IF(R115<0,R115,0)","v":46},null,null,55,43,null,null,8,-8,4,-5,3,12,null,0,8,2,6.5,2.5,null,null,null,null,null,null,null,-2]
["2019-07-19",1,53,44,null,-1,{"$f":"G115+IF(F116>0,F116,0)","v":43},{"$f":"H115-IF(F116<0,F116,0)","v":52},null,-1,51,48,null,-1,45,51,null,1,{"$f":"S115+IF(R116>0,R116,0)","v":50},{"$f":"T115-IF(R116<0,R116,0)","v":46},null,-1,55,44,null,null,9,-9,3,-6,4,11,null,0,9,3,7.5,2.5,null,null,null,null,null,null,null,-3]
["2019-07-20",1,{"$f":"C116+IF(B117>0,B117,0)","v":54},{"$f":"D116-IF(B117<0,B117,0)","v":44},null,1,44,52,null,1,52,48,null,1,46,51,null,-1,{"$f":"S116+IF(R117>0,R117,0)","v":50},{"$f":"T116-IF(R117<0,R117,0)","v":47},null,1,56,44,null,null,10,-8,4,-5,3,12,null,0,9,3,7.5,3.5,null,null,null,null,null,null,null,-3]
["2019-07-21",-1,{"$f":"C117+IF(B118>0,B118,0)","v":54},{"$f":"D117-IF(B118<0,B118,0)","v":45},null,-1,44,53,null,1,53,48,null,-1,46,52,null,1,51,47,null,-1,56,45,null,null,9,-9,5,-6,4,11,null,0,9,2,7.5,2.5,null,null,null,null,null,null,null,-2]
["2019-07-22",-1,54,46,null,1,45,53,null,-1,53,49,null,-1,46,53,null,1,52,47,null,1,57,45,null,null,8,-8,4,-7,5,12,null,0,8,2,7.5,1.5,null,null,null,null,null,null,null,-2]
["2019-07-23",-1,54,47,null,1,46,53,null,-1,53,50,null,-1,46,54,null,1,53,47,null,1,58,45,null,null,7,-7,3,-8,6,13,null,0,7,2,7.5,0.5,null,null,null,null,null,null,null,-2]
["2019-07-24",1,55,47,null,-1,46,54,null,1,54,50,null,-1,46,55,null,1,54,47,null,-1,58,46,null,null,8,-8,4,-9,7,12,null,0,8,2,8.5,0.5,null,null,null,null,null,null,null,-2]
["2019-07-25",null,55,47,null,null,46,54,null,null,54,50,null,-1,46,56,null,1,55,47,null,1,59,46,null,null,8,-8,4,-10,8,13,null,0,8,2,9,0,null,null,null,null,null,null,null,-2]
["2019-07-26",-1,55,48,null,-1,46,55,null,1,55,50,null,-1,46,57,null,1,56,47,null,1,60,46,null,null,7,-9,5,-11,9,14,null,1,9,2,10,0,null,null,null,null,null,null,null,-2]
["2019-07-27",-1,55,49,null,1,47,55,null,1,56,50,null,-1,46,58,null,-1,56,48,null,1,61,46,null,null,6,-8,6,-12,8,15,null,1,8,1,10,0,null,null,null,null,null,null,null,-1]
["2019-07-28",1,56,49,null,1,48,55,null,-1,56,51,null,-1,46,59,null,-1,56,49,null,-1,61,47,null,null,7,-7,5,-13,7,14,null,0,7,1,10,0,null,null,null,null,null,null,null,-1]
["2019-07-29",null,56,49,null,1,49,55,null,null,56,51,null,-1,46,60,null,null,56,49,null,1,62,47,null,null,7,-6,5,-14,7,15,null,0,6.5,1,10.5,0,null,null,null,null,null,null,null,-1]
["2019-07-30",-1,56,50,null,-1,49,56,null,-1,56,52,null,1,47,60,null,1,57,49,null,1,63,47,null,null,6,-7,4,-13,8,16,null,1,7.5,2,10.5,0,null,null,null,null,null,null,null,-2]
["2019-07-31",1,57,50,null,1,50,56,null,1,57,52,null,-1,47,61,null,-1,57,50,null,-1,63,48,null,null,7,-6,5,-14,7,15,null,0,6.5,1,10.5,0,null,null,null,null,null,null,null,-1]
["2019-08-01",-1,57,51,null,-1,50,57,null,-1,57,53,null,null,47,61,null,1,58,50,null,-1,63,49,null,null,6,-7,4,-14,8,14,null,1,7.5,2,11,0,null,null,null,null,null,null,null,-2]
["2019-08-02",1,58,51,null,1,51,57,null,-1,57,54,null,1,48,61,null,null,58,50,null,1,64,49,null,null,7,-6,3,-13,8,15,null,0.5,7,2.5,10.5,0,null,null,null,null,null,null,null,{"$f":"IF(AJ130 = 0, MIN(AH130:AI130, AK130:AL130), 0-AJ130)","v":-2.5}]
["2019-08-03",1,59,51,null,-1,{"$f":"G130+IF(F131>0,F131,0)","v":51},{"$f":"H130-IF(F131<0,F131,0)","v":58},null,-1,57,55,null,-1,48,62,null,-1,58,51,null,1,65,49,null,null,{"$f":"C131-D131","v":8},{"$f":"G131-H131","v":-7},{"$f":"K131-L131","v":2},{"$f":"O131-P131","v":-14},{"$f":"S131-T131","v":7},{"$f":"W131-X131","v":16},null,0,7.5,3,11,0.5,null,null,null,null,null,null,null,-3]
["2019-08-04",1,60,51,null,1,52,58,null,-1,57,56,null,-1,48,63,null,-1,58,52,null,-1,65,50,null,null,9,-6,1,-15,6,15,null,{"$f":"(MAX($AA132:$AE132)-AA132)/2","v":0},{"$f":"(MAX($AA132:$AE132)-AB132)/2","v":7.5},{"$f":"(MAX($AA132:$AE132)-AC132)/2","v":4},{"$f":"(MAX($AA132:$AE132)-AD132)/2","v":12},{"$f":"(MAX($AA132:$AE132)-AE132)/2","v":1.5},null,null,null,null,null,null,null,-4]
["2019-08-05",1,61,51,null,1,53,58,null,1,58,56,null,-1,48,64,null,-1,58,53,null,null,65,50,null,null,10,-5,2,-16,5,15,null,0,7.5,4,13,2.5,null,null,null,null,null,null,null,-4]
["2019-08-06",-1,61,52,null,1,54,58,null,1,59,56,null,-1,48,65,null,-1,58,54,null,-1,65,51,null,null,9,-4,3,-17,4,14,null,0,6.5,3,13,2.5,null,null,null,null,null,null,null,-3]
["2019-08-07",1,62,52,null,null,{"$f":"G134+IF(F135>0,F135,0)","v":54},{"$f":"H134-IF(F135<0,F135,0)","v":58},null,1,{"$f":"K134+IF(J135>0,J135,0)","v":60},{"$f":"L134-IF(J135<0,J135,0)","v":56},null,-1,48,66,null,-1,{"$f":"S134+IF(R135>0,R135,0)","v":58},{"$f":"T134-IF(R135<0,R135,0)","v":55},null,1,66,51,null,null,10,-4,4,-18,3,15,null,0,7,3,14,3.5,null,null,null,null,null,null,null,-3]
["2019-08-08",1,63,52,null,-1,54,59,null,null,60,56,null,null,48,66,null,null,58,55,null,-1,66,52,null,null,11,-5,4,-18,3,14,null,0,8,3.5,14.5,4,null,null,null,null,null,null,null,-3.5]
["2019-08-09",-1,63,53,null,1,55,59,null,1,61,56,null,-1,48,67,null,1,59,55,null,-1,66,53,null,null,10,-4,5,-19,4,13,null,0,7,2.5,14.5,3,null,null,null,null,null,null,null,-2.5]
["2019-08-10",-1,63,54,null,1,{"$f":"G137+IF(F138>0,F138,0)","v":56},{"$f":"H137-IF(F138<0,F138,0)","v":59},null,1,62,56,null,-1,48,68,null,1,60,55,null,1,67,53,null,null,9,-3,6,-20,5,14,null,0,6,1.5,14.5,2,null,null,null,null,null,null,null,-1.5]
["2019-08-11",1,64,54,null,-1,56,60,null,-1,62,57,null,-1,48,69,null,1,61,55,null,-1,67,54,null,null,10,-4,5,-21,6,13,null,0,7,2.5,15.5,2,null,null,null,null,null,null,null,-2.5]
["2019-08-12",null,64,54,null,-1,56,61,null,null,62,57,null,1,49,69,null,null,61,55,null,null,67,54,null,null,10,-5,5,-20,6,13,null,0,7.5,2.5,15,2,null,null,null,null,null,null,null,-2.5]
["2019-08-13",-1,64,55,null,-1,56,62,null,-1,62,58,null,1,50,69,null,1,62,55,null,1,68,54,null,null,9,-6,4,-19,7,14,null,0,7.5,2.5,14,1,null,null,null,null,null,null,null,-2.5]
["2019-08-14",-1,64,56,null,-1,56,63,null,1,63,58,null,-1,{"$f":"O141+IF(N142>0,N142,0)","v":50},{"$f":"P141-IF(N142<0,N142,0)","v":70},null,1,63,55,null,-1,68,55,null,null,8,-7,5,-20,8,13,null,0,7.5,1.5,14,0,null,null,null,null,null,null,null,-1.5]
["2019-08-15",-1,64,57,null,1,57,63,null,null,63,58,null,null,50,70,null,-1,63,56,null,null,68,55,null,null,7,-6,5,-20,7,13,null,0,6.5,1,13.5,0,null,null,null,null,null,null,null,-1]
["2019-08-16",-1,64,58,null,-1,57,64,null,-1,63,59,null,1,51,70,null,1,64,56,null,-1,68,56,null,null,6,-7,4,-19,8,12,null,1,7.5,2,13.5,0,null,null,null,null,null,null,null,-2]
["2019-08-17",1,65,58,null,1,58,64,null,1,64,59,null,-1,51,71,null,-1,64,57,null,-1,68,57,null,null,7,-6,5,-20,7,11,null,0,6.5,1,13.5,0,null,null,null,null,null,null,null,-1]
["2019-08-18",1,66,58,null,-1,58,65,null,-1,64,60,null,-1,51,72,null,1,65,57,null,1,69,57,null,null,8,-7,4,-21,8,12,null,0,7.5,2,14.5,0,null,null,null,null,null,null,null,-2]
["2019-08-19",null,66,58,null,-1,58,66,null,-1,64,61,null,-1,{"$f":"O146+IF(N147>0,N147,0)","v":51},{"$f":"P146-IF(N147<0,N147,0)","v":73},null,1,66,57,null,1,70,57,null,null,8,-8,3,-22,9,13,null,0.5,8.5,3,15.5,0,null,null,null,null,null,null,null,-3]
["2019-08-20",1,67,58,null,1,59,66,null,-1,64,62,null,1,52,73,null,1,67,57,null,-1,70,58,null,null,9,-7,2,-21,10,12,null,0.5,8.5,4,15.5,0,null,null,null,null,null,null,null,-4]
["2019-08-21",1,68,58,null,1,60,66,null,1,65,62,null,-1,52,74,null,-1,67,58,null,1,71,58,null,null,10,-6,3,-22,9,13,null,0,8,3.5,16,0.5,null,null,null,null,null,null,null,-3.5]
["2019-08-22",1,69,58,null,null,60,66,null,null,65,62,null,-1,52,75,null,1,68,58,null,null,71,58,null,null,11,-6,3,-23,10,13,null,0,8.5,4,17,0.5,null,null,null,null,null,null,null,-4]
["2019-08-23",-1,69,59,null,-1,60,67,null,1,66,62,null,1,53,75,null,1,69,58,null,1,72,58,null,null,10,-7,4,-22,11,14,null,0.5,9,3.5,16.5,0,null,null,null,null,null,null,null,-3.5]
["2019-08-24",-1,69,60,null,-1,60,68,null,1,67,62,null,1,54,75,null,1,70,58,null,-1,72,59,null,null,9,-8,5,-21,12,13,null,1.5,10,3.5,16.5,0,null,null,null,null,null,null,null,-3.5]
["2019-08-25",-1,69,61,null,-1,60,69,null,-1,67,63,null,1,55,75,null,1,71,58,null,1,73,59,null,null,8,-9,4,-20,13,14,null,2.5,11,4.5,16.5,0,null,null,null,null,null,null,null,-4.5]
["2019-08-26",null,69,61,null,1,61,69,null,-1,67,64,null,-1,55,76,null,1,72,58,null,null,73,59,null,null,8,-8,3,-21,14,14,null,3,11,5.5,17.5,0,null,null,null,null,null,null,null,-5.5]
["2019-08-27",1,70,61,null,1,62,69,null,-1,67,65,null,1,56,76,null,1,{"$f":"S154+IF(R155>0,R155,0)","v":73},{"$f":"T154-IF(R155<0,R155,0)","v":58},null,-1,73,60,null,null,9,-7,2,-20,15,13,null,3,11,6.5,17.5,0,null,null,null,null,null,null,null,-6.5]
["2019-08-28",1,71,61,null,1,63,69,null,1,68,65,null,-1,56,77,null,-1,73,59,null,1,74,60,null,null,10,-6,3,-21,14,14,null,2,10,5.5,17.5,0,null,null,null,null,null,null,null,-5.5]
["2019-08-29",1,72,61,null,-1,{"$f":"G156+IF(F157>0,F157,0)","v":63},{"$f":"H156-IF(F157<0,F157,0)","v":70},null,null,68,65,null,1,57,77,null,null,73,59,null,1,75,60,null,null,11,-7,3,-20,14,15,null,1.5,10.5,5.5,17,0,null,null,null,null,null,null,null,-5.5]
["2019-08-30",1,73,61,null,null,63,70,null,-1,68,66,null,1,58,77,null,null,73,59,null,1,76,60,null,null,12,-7,2,-19,14,16,null,1,10.5,6,16.5,0,null,null,null,null,null,null,null,-6]
["2019-08-31",-1,73,62,null,-2,63,72,null,1,69,66,null,1,59,77,null,2,75,59,null,-1,76,61,null,null,11,-9,3,-18,16,15,null,2.5,12.5,6.5,17,0,null,null,null,null,null,null,null,-6.5]
["2019-09-01",-1,73,63,null,0,64,73,null,1,70,66,null,1,60,77,null,0,76,60,null,1,77,61,null,null,10,-9,4,-17,16,16,null,3,12.5,6,16.5,0,null,null,null,null,null,null,null,-6]
["2019-09-02",1,74,63,null,-1,64,74,null,-1,70,67,null,null,60,77,null,1,77,60,null,1,78,61,null,null,11,-10,3,-17,17,17,null,3,13.5,7,17,0,null,null,null,null,null,null,null,-7]
["2019-09-03",1,75,63,null,-1,64,75,null,1,71,67,null,-1,60,78,null,1,78,60,null,1,79,61,null,null,12,-11,4,-18,18,18,null,3,14.5,7,18,0,null,null,null,null,null,null,null,{"$f":"IF(AJ162 = 0, MIN(AH162:AI162, AK162:AL162), 0-AJ162)","v":-7}]
["2019-09-04",null,75,63,null,1,65,75,null,null,71,67,null,1,61,78,null,-1,78,61,null,-1,79,62,null,null,{"$f":"C163-D163","v":12},{"$f":"G163-H163","v":-10},{"$f":"K163-L163","v":4},{"$f":"O163-P163","v":-17},{"$f":"S163-T163","v":17},{"$f":"W163-X163","v":17},null,2.5,13.5,6.5,17,0,null,null,null,null,null,null,null,-6.5]
["2019-09-05",1,76,63,null,1,66,75,null,-1,71,68,null,-1,61,79,null,1,79,61,null,null,79,62,null,null,13,-9,3,-18,18,17,null,2.5,13.5,7.5,18,{"$f":"(MAX($AA164:$AE164)-AE164)/2","v":0},null,null,null,null,null,null,null,-7.5]
["2019-09-06",-1,76,64,null,-1,66,76,null,1,{"$f":"K164+IF(J165>0,J165,0)","v":72},{"$f":"L164-IF(J165<0,J165,0)","v":68},null,1,{"$f":"O164+IF(N165>0,N165,0)","v":62},{"$f":"P164-IF(N165<0,N165,0)","v":79},null,-1,79,62,null,1,80,62,null,null,12,-10,4,-17,17,18,null,2.5,13.5,6.5,17,0,null,null,null,null,null,null,null,-6.5]
["2019-09-07",-1,76,65,null,-1,66,77,null,1,73,68,null,-1,{"$f":"O165+IF(N166>0,N166,0)","v":62},{"$f":"P165-IF(N166<0,N166,0)","v":80},null,1,80,62,null,1,81,62,null,null,11,-11,5,-18,18,19,null,3.5,14.5,6.5,18,0,null,null,null,null,null,null,null,-6.5]
["2019-09-08",-1,76,66,null,1,{"$f":"G166+IF(F167>0,F167,0)","v":67},{"$f":"H166-IF(F167<0,F167,0)","v":77},null,1,74,68,null,-1,62,81,null,1,{"$f":"S166+IF(R167>0,R167,0)","v":81},{"$f":"T166-IF(R167<0,R167,0)","v":62},null,1,82,62,null,null,10,-10,6,-19,19,20,null,4.5,14.5,6.5,19,0,null,null,null,null,null,null,null,-6.5]
["2019-09-09",1,77,66,null,null,67,77,null,1,75,68,null,1,63,81,null,null,81,62,null,1,83,62,null,null,11,-10,7,-18,19,21,null,4,14.5,6,18.5,0,null,null,null,null,null,null,null,-6]
["2019-09-10",-1,77,67,null,-1,67,78,null,1,76,68,null,-1,63,82,null,-1,81,63,null,-1,83,63,null,null,10,-11,8,-19,18,20,null,4,14.5,5,18.5,0,null,null,null,null,null,null,null,-5]
["2019-09-11",-1,77,68,null,-1,67,79,null,1,77,68,null,1,64,82,null,-1,81,64,null,1,84,63,null,null,9,-12,9,-18,17,21,null,4,14.5,4,17.5,0,null,null,null,null,null,null,null,-4]
["2019-09-12",1,78,68,null,1,68,79,null,1,78,68,null,1,65,82,null,1,82,64,null,null,84,63,null,null,10,-11,10,-17,18,21,null,4,14.5,4,17.5,0,null,null,null,null,null,null,null,-4]
["2019-09-13",1,79,68,null,1,69,79,null,-1,78,69,null,-1,65,83,null,1,83,64,null,1,85,63,null,null,11,-10,9,-18,19,22,null,4,14.5,5,18.5,0,null,null,null,null,null,null,null,-5]
["2019-09-14",1,80,68,null,-1,69,80,null,1,79,69,null,-1,65,84,null,-1,83,65,null,-1,85,64,null,null,12,-11,10,-19,18,21,null,3,14.5,4,18.5,0,null,null,null,null,null,null,null,-4]
["2019-09-15",1,81,68,null,1,70,80,null,1,80,69,null,-1,65,85,null,-1,83,66,null,-1,{"$f":"W173+IF(V174>0,V174,0)","v":85},{"$f":"X173-IF(V174<0,V174,0)","v":65},null,null,13,-10,11,-20,17,20,null,2,13.5,3,18.5,0,null,null,null,null,null,null,null,-3]
["2019-09-16",1,82,68,null,-1,70,81,null,1,81,69,null,null,65,85,null,1,84,66,null,1,86,65,null,null,14,-11,12,-20,18,21,null,2,14.5,3,19,0,null,null,null,null,null,null,null,-3]
["2019-09-17",-1,82,69,null,1,71,81,null,1,82,69,null,-1,65,86,null,-1,84,67,null,-1,86,66,null,null,13,-10,13,-21,17,20,null,2,13.5,2,19,0,null,null,null,null,null,null,null,-2]
["2019-09-18",-1,82,70,null,1,72,81,null,-1,82,70,null,-1,65,87,null,1,85,67,null,1,87,66,null,null,12,-9,12,-22,18,21,null,3,13.5,3,20,0,null,null,null,null,null,null,null,-3]
["2019-09-19",-1,82,71,null,null,72,81,null,1,83,70,null,-1,65,88,null,1,86,67,null,null,87,66,null,null,11,-9,13,-23,19,21,null,4,14,3,21,0,null,null,null,null,null,null,null,-3]
["2019-09-20",-1,82,72,null,-1,72,82,null,1,84,70,null,-1,65,89,null,1,87,67,null,1,88,66,null,null,10,-10,14,-24,20,22,null,5,15,3,22,0,null,null,null,null,null,null,null,-3]
["2019-09-21",-1,82,73,null,1,73,82,null,1,85,70,null,-1,65,90,null,1,{"$f":"S179+IF(R180>0,R180,0)","v":88},{"$f":"T179-IF(R180<0,R180,0)","v":67},null,-1,88,67,null,null,9,-9,15,-25,21,21,null,6,15,3,23,0,null,null,null,"Team","GB","%",null,-3]
["2019-09-22",-1,82,74,null,-1,73,83,null,1,86,70,null,-1,65,91,null,1,89,67,null,1,89,67,null,null,8,-10,16,-26,22,22,null,7,16,3,24,0,null,null,null,{"$f":"AL$1","v":"STL"},{"$f":"AL$190","v":0},{"$f":"AL$192","v":0.56172839506172845},null,-3]
["2019-09-23",null,{"$f":"C181+IF(B182>0,B182,0)","v":82},{"$f":"D181-IF(B182<0,B182,0)","v":74},null,null,73,83,null,null,86,70,null,null,65,91,null,1,90,67,null,1,90,67,null,null,8,-10,16,-26,23,23,null,7.5,16.5,3.5,24.5,0,null,null,null,{"$f":"AJ$1","v":"MIL"},{"$f":"AJ$190","v":2},{"$f":"AJ$192","v":0.54938271604938271},null,-3.5]
["2019-09-24",-1,{"$f":"C182+IF(B183>0,B183,0)","v":82},{"$f":"D182-IF(B183<0,B183,0)","v":75},null,-1,73,84,null,1,87,70,null,1,66,91,null,-1,90,68,null,1,91,67,null,null,7,-11,17,-25,22,24,null,7.5,16.5,2.5,23.5,0,null,null,null,{"$f":"AH$1","v":"CHC"},{"$f":"AH$190","v":7},{"$f":"AH$192","v":0.51851851851851849},null,-2.5]
["2019-09-25",-1,82,76,null,-1,73,85,null,1,88,70,null,1,67,91,null,-1,90,69,null,1,92,67,null,null,6,-12,18,-24,21,25,null,7.5,16.5,1.5,22.5,0,null,null,null,{"$f":"AI$1","v":"CIN"},{"$f":"AI$190","v":16},{"$f":"AI$192","v":0.46296296296296297},null,-1.5]
["2019-09-26",-1,82,77,null,-1,73,86,null,1,89,70,null,1,68,91,null,null,90,69,null,null,92,67,null,null,5,-13,19,-23,21,25,null,8,17,1,22,0,null,null,null,{"$f":"AK$1","v":"PIT"},{"$f":"AK$190","v":22},{"$f":"AK$192","v":0.42592592592592593},null,-1]
["2019-09-27",1,{"$f":"C185+IF(B186>0,B186,0)","v":83},{"$f":"D185-IF(B186<0,B186,0)","v":77},null,-1,{"$f":"G185+IF(F186>0,F186,0)","v":73},{"$f":"H185-IF(F186<0,F186,0)","v":87},null,-1,{"$f":"K185+IF(J186>0,J186,0)","v":89},{"$f":"L185-IF(J186<0,J186,0)","v":71},null,1,{"$f":"O185+IF(N186>0,N186,0)","v":69},{"$f":"P185-IF(N186<0,N186,0)","v":91},null,-1,{"$f":"S185+IF(R186>0,R186,0)","v":90},{"$f":"T185-IF(R186<0,R186,0)","v":70},null,1,93,67,null,null,{"$f":"C186-D186","v":6},{"$f":"G186-H186","v":-14},{"$f":"K186-L186","v":18},{"$f":"O186-P186","v":-22},{"$f":"S186-T186","v":20},{"$f":"W186-X186","v":26},null,{"$f":"(MAX($AA186:$AE186)-AA186)/2","v":7},{"$f":"(MAX($AA186:$AE186)-AB186)/2","v":17},{"$f":"(MAX($AA186:$AE186)-AC186)/2","v":1},{"$f":"(MAX($AA186:$AE186)-AD186)/2","v":21},{"$f":"(MAX($AA186:$AE186)-AE186)/2","v":0},null,null,null,null,null,null,null,-1]
["2019-09-28",1,84,77,null,1,74,87,null,-1,89,72,null,-1,69,92,null,-1,90,71,null,1,94,67,null,null,7,-13,17,-23,19,27,null,6,16,1,21,0,null,null,null,null,null,null,null,-1]
["2019-09-29",-1,{"$f":"C187+IF(B188>0,B188,0)","v":84},{"$f":"D187-IF(B188<0,B188,0)","v":78},null,1,{"$f":"G187+IF(F188>0,F188,0)","v":75},{"$f":"H187-IF(F188<0,F188,0)","v":87},null,-1,{"$f":"K187+IF(J188>0,J188,0)","v":89},{"$f":"L187-IF(J188<0,J188,0)","v":73},null,-1,{"$f":"O187+IF(N188>0,N188,0)","v":69},{"$f":"P187-IF(N188<0,N188,0)","v":93},null,1,{"$f":"S187+IF(R188>0,R188,0)","v":91},{"$f":"T187-IF(R188<0,R188,0)","v":71},null,1,95,67,null,null,{"$f":"C188-D188","v":6},{"$f":"G188-H188","v":-12},{"$f":"K188-L188","v":16},{"$f":"O188-P188","v":-24},{"$f":"S188-T188","v":20},{"$f":"W188-X188","v":28},null,{"$f":"(MAX($AA188:$AE188)-AA188)/2","v":7},{"$f":"(MAX($AA188:$AE188)-AB188)/2","v":16},{"$f":"(MAX($AA188:$AE188)-AC188)/2","v":2},{"$f":"(MAX($AA188:$AE188)-AD188)/2","v":22},{"$f":"(MAX($AA188:$AE188)-AE188)/2","v":0},null,null,null,null,null,null,null,{"$f":"IF(AJ188 = 0, MIN(AH188:AI188, AK188:AL188), 0-AJ188)","v":-2}]
["2019-09-30",null,84,78,null,null,75,87,null,null,89,73,null,null,69,93,null,null,91,71,null,1,96,67,null,null,6,-12,16,-24,20,29,null,7,16,2,22,0,null,null,null,null,null,null,null,-2]
["2019-10-01",null,84,78,null,null,75,87,null,null,89,73,null,null,69,93,null,null,91,71,null,null,{"$f":"W189+IF(V190>0,V190,0)","v":96},{"$f":"X189-IF(V190<0,V190,0)","v":67},null,null,6,-12,16,-24,20,29,null,7,16,2,22,0,null,null,null,null,null,null,null,-2]
[]
[null,null,null,null,null,null,null,null,null,null,null,null,null,null,null,null,null,null,null,null,null,null,null,null,null,null,null,null,null,null,null,null,null,{"$f":"C190/(C190+D190)","v":0.51851851851851849},{"$f":"G190/(G190+H190)","v":0.46296296296296297},{"$f":"K190/(K190+L190)","v":0.54938271604938271},{"$f":"O190/(O190+P190)","v":0.42592592592592593},{"$f":"S190/(S190+T190)","v":0.56172839506172845}]