{"text_format":"1","workbook":"xlsx","n_sheets":2,"sheets":["Chart","NLWC11"],"not_rendered":{"charts":2,"images":0,"macros":1,"external_links":0,"defined_names":1,"comments":0,"pivot_tables":0},"unopened":[],"bounds":{"document_bytes":16777216,"sheet_cells":100000,"rows_first":2000,"rows_last":500,"rows_between":2000,"halvings":0,"cell_chars":16384,"cell_head_chars":4096},"cells_cut":0,"cells_raw":0,"read":"whole","date_system":"1900"}

{"sheet":"Chart","index":0,"n_rows":38,"n_cols":6,"rows_kept":38,"cut":false,"hidden":false,"merged":[]}
[" "]
[null,{"$f":"NLWC11!AJ181","v":" "},{"$f":"NLWC11!AK181","v":9},{"$f":"NLWC11!AL181","v":{"$error":"#DIV/0!"}}]
[null,{"$f":"NLWC11!AJ182","v":"ATL"},{"$f":"NLWC11!AK182","v":1},{"$f":"NLWC11!AL182","v":0.54938271604938271}]
[null,{"$f":"NLWC11!AJ183","v":" "},{"$f":"NLWC11!AK183","v":9},{"$f":"NLWC11!AL183","v":{"$error":"#DIV/0!"}}]
[null,{"$f":"NLWC11!AJ184","v":" "},{"$f":"NLWC11!AK184","v":9},{"$f":"NLWC11!AL184","v":{"$error":"#DIV/0!"}}]
[null,{"$f":"NLWC11!AJ185","v":"STL"},{"$f":"NLWC11!AK185","v":0},{"$f":"NLWC11!AL185","v":0.55625000000000002}]
[]
[]
[]
[]
[null,"MLB.mobi Scores"]
[]
[]
[null,"PHP Results"]
[]
[]
[null,"HTML Results"]
[]
[]
[]
[]
[]
[]
[]
[]
[]
[]
[]
[]
[]
[]
[]
[]
[]
[]
[]
[]
[null,null,null,null,null,"Note: You must enable macros for this workbook to update correctly"]

{"sheet":"NLWC11","index":1,"n_rows":187,"n_cols":38,"rows_kept":187,"cut":false,"hidden":false,"merged":[]}
["NLWC11","ATL","W","L",null,"STL","W","L",null," ","W","L",null," ","W","L",null," ","W","L",null,null,{"$f":"B1","v":"ATL"},{"$f":"F1","v":"STL"},{"$f":"J1","v":" "},{"$f":"N1","v":" "},{"$f":"R1","v":" "},null,{"$f":"W1","v":"ATL"},{"$f":"X1","v":"STL"},{"$f":"Y1","v":" "},{"$f":"Z1","v":" "},{"$f":"AA1","v":" "}]
["2011-03-30",null,0,0,null,null,0,0,null,null,0,0,null,null,0,0,null,null,0,0,null,null,0,0,0,0,0,null,0,0,0,0,0]
["2011-03-31",1,{"$f":"C2+IF(B3>0,B3,0)","v":1},{"$f":"D2-IF(B3<0,B3,0)","v":0},null,-1,{"$f":"G2+IF(F3>0,F3,0)","v":0},{"$f":"H2-IF(F3<0,F3,0)","v":1},null,null,{"$f":"K2+IF(J3>0,J3,0)","v":0},{"$f":"L2-IF(J3<0,J3,0)","v":0},null,null,{"$f":"O2+IF(N3>0,N3,0)","v":0},{"$f":"P2-IF(N3<0,N3,0)","v":0},null,null,{"$f":"S2+IF(R3>0,R3,0)","v":0},{"$f":"T2-IF(R3<0,R3,0)","v":0},null,null,{"$f":"C3-D3","v":1},{"$f":"G3-H3","v":-1},{"$f":"K3-L3","v":0},{"$f":"O3-P3","v":0},{"$f":"S3-T3","v":0},null,{"$f":"(MAX($W3:$AA3)-W3)/2","v":0},{"$f":"(MAX($W3:$AA3)-X3)/2","v":1},{"$f":"(MAX($W3:$AA3)-Y3)/2","v":0.5},{"$f":"(MAX($W3:$AA3)-Z3)/2","v":0.5},{"$f":"(MAX($W3:$AA3)-AA3)/2","v":0.5}]
["2011-04-01",null,1,0,null,null,0,1,null,null,0,0,null,null,0,0,null,null,0,0,null,null,1,-1,0,0,0,null,0,1,0.5,0.5,0.5]
["2011-04-02",-1,1,1,null,-1,0,2,null,null,0,0,null,null,0,0,null,null,0,0,null,null,0,-2,0,0,0,null,0,1,0,0,0]
["2011-04-03",1,2,1,null,1,1,2,null,null,0,0,null,null,0,0,null,null,0,0,null,null,1,-1,0,0,0,null,0,1,0.5,0.5,0.5]
["2011-04-04",1,3,1,null,-1,1,3,null,null,0,0,null,null,0,0,null,null,0,0,null,null,2,-2,0,0,0,null,0,2,1,1,1]
["2011-04-05",-1,3,2,null,1,2,3,null,null,0,0,null,null,0,0,null,null,0,0,null,null,1,-1,0,0,0,null,0,1,0.5,0.5,0.5]
["2011-04-06",-1,3,3,null,-1,2,4,null,null,0,0,null,null,{"$f":"O8+IF(N9>0,N9,0)","v":0},0,null,null,0,0,null,null,0,-2,0,0,0,null,0,1,0,0,0]
["2011-04-07",-1,3,4,null,null,2,4,null,null,0,0,null,null,0,0,null,null,0,0,null,null,-1,-2,0,0,0,null,0.5,1,0,0,0]
["2011-04-08",1,4,4,null,-1,2,5,null,null,0,0,null,null,0,0,null,null,0,0,null,null,0,-3,0,0,0,null,0,1.5,0,0,0]
["2011-04-09",-1,4,5,null,-1,2,6,null,null,0,0,null,null,0,0,null,null,0,0,null,null,-1,-4,0,0,0,null,0.5,2,0,0,0]
["2011-04-10",-1,4,6,null,1,3,6,null,null,0,0,null,null,0,0,null,null,0,0,null,null,-2,-3,0,0,0,null,1,1.5,0,0,0]
["2011-04-11",null,4,6,null,1,4,6,null,null,0,0,null,null,0,0,null,null,0,0,null,null,-2,-2,0,0,0,null,1,1,0,0,0]
["2011-04-12",1,5,6,null,-1,4,7,null,null,0,0,null,null,0,0,null,null,0,0,null,null,-1,-3,0,0,0,null,0.5,1.5,0,0,0]
["2011-04-13",-1,5,7,null,1,5,7,null,null,0,0,null,null,0,0,null,null,0,0,null,null,-2,-2,0,0,0,null,1,1,0,0,0]
["2011-04-14",-1,5,8,null,1,6,7,null,null,0,0,null,null,0,0,null,null,0,0,null,null,-3,-1,0,0,0,null,1.5,0.5,0,0,0]
["2011-04-15",null,5,8,null,1,7,7,null,null,0,0,null,null,0,0,null,null,0,0,null,null,-3,0,0,0,0,null,1.5,0,0,0,0]
["2011-04-16",2,7,8,null,1,8,7,null,null,0,0,null,null,0,0,null,null,0,0,null,null,-1,1,0,0,0,null,1,0,0.5,0.5,0.5]
["2011-04-17",-1,7,9,null,-1,8,8,null,null,0,0,null,null,0,0,null,null,0,0,null,null,-2,0,0,0,0,null,1,0,0,0,0]
["2011-04-18",-1,7,10,null,null,8,8,null,null,0,0,null,null,0,0,null,null,0,0,null,null,-3,0,0,0,0,null,1.5,0,0,0,0]
["2011-04-19",1,8,10,null,null,8,8,null,null,0,0,null,null,0,0,null,null,0,0,null,null,-2,0,0,0,0,null,1,0,0,0,0]
["2011-04-20",-1,{"$f":"C22+IF(B23>0,B23,0)","v":8},{"$f":"D22-IF(B23<0,B23,0)","v":11},null,0,8,8,null,null,0,0,null,null,0,0,null,null,{"$f":"S22+IF(R23>0,R23,0)","v":0},{"$f":"T22-IF(R23<0,R23,0)","v":0},null,null,-3,0,0,0,0,null,1.5,0,0,0,0]
["2011-04-21",-1,8,12,null,1,9,8,null,null,0,0,null,null,0,0,null,null,0,0,null,null,-4,1,0,0,0,null,2.5,0,0.5,0.5,0.5]
["2011-04-22",1,9,12,null,1,10,8,null,null,0,0,null,null,0,0,null,null,0,0,null,null,-3,2,0,0,0,null,2.5,0,1,1,1]
["2011-04-23",1,10,12,null,-1,10,9,null,null,0,0,null,null,0,0,null,null,0,0,null,null,-2,1,0,0,0,null,1.5,0,0.5,0.5,0.5]
["2011-04-24",1,11,12,null,1,11,9,null,null,0,0,null,null,0,0,null,null,0,0,null,null,-1,2,0,0,0,null,1.5,0,1,1,1]
["2011-04-25",-1,11,13,null,null,11,9,null,null,0,0,null,null,0,0,null,null,0,0,null,null,-2,2,0,0,0,null,2,0,1,1,1]
["2011-04-26",1,12,13,null,-1,11,10,null,null,0,0,null,null,0,0,null,null,0,0,null,null,-1,1,0,0,0,null,1,0,0.5,0.5,0.5]
["2011-04-27",1,13,13,null,1,12,10,null,null,0,0,null,null,0,0,null,null,0,0,null,null,0,2,0,0,0,null,1,0,1,1,1]
["2011-04-28",null,13,13,null,1,13,10,null,null,0,0,null,null,0,0,null,null,0,0,null,null,0,3,0,0,0,null,1.5,0,1.5,1.5,1.5]
["2011-04-29",-1,13,14,null,1,14,10,null,null,0,0,null,null,0,0,null,null,0,0,null,null,-1,4,0,0,0,null,2.5,0,2,2,2]
["2011-04-30",-1,13,15,null,1,15,10,null,null,0,0,null,null,0,0,null,null,0,0,null,null,-2,5,0,0,0,null,3.5,0,2.5,2.5,2.5]
["2011-05-01",1,14,15,null,-1,15,11,null,null,0,0,null,null,0,0,null,null,0,0,null,null,-1,4,0,0,0,null,2.5,0,2,2,2]
["2011-05-02",1,15,15,null,-1,15,12,null,null,0,0,null,null,0,0,null,null,0,0,null,null,{"$f":"C35-D35","v":0},{"$f":"G35-H35","v":3},{"$f":"K35-L35","v":0},{"$f":"O35-P35","v":0},{"$f":"S35-T35","v":0},null,{"$f":"(MAX($W35:$AA35)-W35)/2","v":1.5},{"$f":"(MAX($W35:$AA35)-X35)/2","v":0},{"$f":"(MAX($W35:$AA35)-Y35)/2","v":1.5},{"$f":"(MAX($W35:$AA35)-Z35)/2","v":1.5},{"$f":"(MAX($W35:$AA35)-AA35)/2","v":1.5}]
["2011-05-03",null,15,15,null,1,16,12,null,null,0,0,null,null,0,0,null,null,0,0,null,null,0,4,0,0,0,null,2,0,2,2,2]
["2011-05-04",2,17,15,null,-1,16,13,null,null,0,0,null,null,0,0,null,null,0,0,null,null,2,3,0,0,0,null,0.5,0,1.5,1.5,1.5]
["2011-05-05",1,18,15,null,1,17,13,null,null,0,0,null,null,0,0,null,null,0,0,null,null,3,4,0,0,0,null,0.5,0,2,2,2]
["2011-05-06",1,{"$f":"C38+IF(B39>0,B39,0)","v":19},{"$f":"D38-IF(B39<0,B39,0)","v":15},null,1,{"$f":"G38+IF(F39>0,F39,0)","v":18},{"$f":"H38-IF(F39<0,F39,0)","v":13},null,null,{"$f":"K38+IF(J39>0,J39,0)","v":0},{"$f":"L38-IF(J39<0,J39,0)","v":0},null,null,{"$f":"O38+IF(N39>0,N39,0)","v":0},{"$f":"P38-IF(N39<0,N39,0)","v":0},null,null,0,0,null,null,4,5,0,0,0,null,0.5,0,2.5,2.5,2.5]
["2011-05-07",-1,19,16,null,-1,18,14,null,null,0,0,null,null,0,0,null,null,0,0,null,null,3,4,0,0,0,null,0.5,0,2,2,2]
["2011-05-08",1,20,16,null,1,19,14,null,null,0,0,null,null,0,0,null,null,0,0,null,null,4,5,0,0,0,null,0.5,0,2.5,2.5,2.5]
["2011-05-09",null,20,16,null,null,19,14,null,null,0,0,null,null,0,0,null,null,0,0,null,null,4,5,0,0,0,null,0.5,0,2.5,2.5,2.5]
["2011-05-10",-1,20,17,null,1,{"$f":"G42+IF(F43>0,F43,0)","v":20},{"$f":"H42-IF(F43<0,F43,0)","v":14},null,null,0,0,null,null,0,0,null,null,0,0,null,null,3,6,0,0,0,null,1.5,0,3,3,3,null,null,{"$f":"AJ181","v":" "},9,{"$error":"#DIV/0!"}]
["2011-05-11",-1,20,18,null,-1,20,15,null,null,0,0,null,null,0,0,null,null,0,0,null,null,2,5,0,0,0,null,1.5,0,2.5,2.5,2.5,null,null,{"$f":"AJ182","v":"ATL"},1,0.54938271604938271]
["2011-05-12",1,{"$f":"C44+IF(B45>0,B45,0)","v":21},{"$f":"D44-IF(B45<0,B45,0)","v":18},null,1,{"$f":"G44+IF(F45>0,F45,0)","v":21},{"$f":"H44-IF(F45<0,F45,0)","v":15},null,null,{"$f":"K44+IF(J45>0,J45,0)","v":0},{"$f":"L44-IF(J45<0,J45,0)","v":0},null,null,{"$f":"O44+IF(N45>0,N45,0)","v":0},{"$f":"P44-IF(N45<0,N45,0)","v":0},null,null,{"$f":"S44+IF(R45>0,R45,0)","v":0},{"$f":"T44-IF(R45<0,R45,0)","v":0},null,null,3,6,0,0,0,null,1.5,0,3,3,3,null,null," ",9,{"$error":"#DIV/0!"}]
["2011-05-13",-1,21,19,null,-1,21,16,null,null,0,0,null,null,0,0,null,null,{"$f":"S45+IF(R46>0,R46,0)","v":0},{"$f":"T45-IF(R46<0,R46,0)","v":0},null,null,2,5,0,0,0,null,1.5,0,2.5,2.5,2.5,null,null," ",9,{"$error":"#DIV/0!"}]
["2011-05-14",1,22,19,null,-1,21,17,null,null,0,0,null,null,0,0,null,null,0,0,null,null,3,4,0,0,0,null,0.5,0,2,2,2,null,null,"STL",0,0.55625000000000002]
["2011-05-15",1,23,19,null,-1,21,18,null,null,0,0,null,null,0,0,null,null,0,0,null,null,4,3,0,0,0,null,0,0.5,2,2,2]
["2011-05-16",1,24,19,null,1,22,18,null,null,0,0,null,null,0,0,null,null,0,0,null,null,5,4,0,0,0,null,0,0.5,2.5,2.5,2.5]
["2011-05-17",1,25,19,null,1,23,18,null,null,0,0,null,null,0,0,null,null,0,0,null,null,6,5,0,0,0,null,0,0.5,3,3,3]
["2011-05-18",-1,25,20,null,1,24,18,null,null,0,0,null,null,0,0,null,null,0,0,null,null,5,6,0,0,0,null,0.5,0,3,3,3]
["2011-05-19",-1,25,21,null,1,25,18,null,null,0,0,null,null,0,0,null,null,0,0,null,null,4,7,0,0,0,null,1.5,0,3.5,3.5,3.5]
["2011-05-20",-1,25,22,null,-1,25,19,null,null,0,0,null,null,0,0,null,null,0,0,null,null,3,6,0,0,0,null,1.5,0,3,3,3]
["2011-05-21",1,26,22,null,1,26,19,null,null,0,0,null,null,0,0,null,null,0,0,null,null,4,7,0,0,0,null,1.5,0,3.5,3.5,3.5]
["2011-05-22",-1,26,23,null,1,27,19,null,null,0,0,null,null,0,0,null,null,0,0,null,null,3,8,0,0,0,null,2.5,0,4,4,4]
["2011-05-23",null,{"$f":"C55+IF(B56>0,B56,0)","v":26},{"$f":"D55-IF(B56<0,B56,0)","v":23},null,1,28,19,null,null,0,0,null,null,0,0,null,null,0,0,null,null,3,9,0,0,0,null,3,0,4.5,4.5,4.5]
["2011-05-24",1,27,23,null,1,29,19,null,null,0,0,null,null,0,0,null,null,0,0,null,null,4,10,0,0,0,null,3,0,5,5,5]
["2011-05-25",1,28,23,null,-1,29,20,null,null,0,0,null,null,0,0,null,null,0,0,null,null,5,9,0,0,0,null,2,0,4.5,4.5,4.5]
["2011-05-26",null,28,23,null,null,29,20,null,null,0,0,null,null,0,0,null,null,0,0,null,null,5,9,0,0,0,null,2,0,4.5,4.5,4.5]
["2011-05-27",-1,28,24,null,1,30,20,null,null,0,0,null,null,0,0,null,null,0,0,null,null,4,10,0,0,0,null,3,0,5,5,5]
["2011-05-28",1,29,24,null,-1,30,21,null,null,0,0,null,null,0,0,null,null,0,0,null,null,5,9,0,0,0,null,2,0,4.5,4.5,4.5]
["2011-05-29",1,30,24,null,1,31,21,null,null,0,0,null,null,0,0,null,null,0,0,null,null,6,10,0,0,0,null,2,0,5,5,5]
["2011-05-30",-1,30,25,null,-1,31,22,null,null,0,0,null,null,0,0,null,null,0,0,null,null,5,9,0,0,0,null,2,0,4.5,4.5,4.5]
["2011-05-31",-1,30,26,null,1,32,22,null,null,0,0,null,null,0,0,null,null,0,0,null,null,4,10,0,0,0,null,3,0,5,5,5]
["2011-06-01",1,31,26,null,-1,32,23,null,null,0,0,null,null,0,0,null,null,0,0,null,null,5,9,0,0,0,null,2,0,4.5,4.5,4.5]
["2011-06-02",null,31,26,null,-1,32,24,null,null,0,0,null,null,0,0,null,null,0,0,null,null,5,8,0,0,0,null,1.5,0,4,4,4]
["2011-06-03",1,32,26,null,1,33,24,null,null,0,0,null,null,0,0,null,null,0,0,null,null,{"$f":"C67-D67","v":6},{"$f":"G67-H67","v":9},{"$f":"K67-L67","v":0},{"$f":"O67-P67","v":0},{"$f":"S67-T67","v":0},null,{"$f":"(MAX($W67:$AA67)-W67)/2","v":1.5},{"$f":"(MAX($W67:$AA67)-X67)/2","v":0},{"$f":"(MAX($W67:$AA67)-Y67)/2","v":4.5},{"$f":"(MAX($W67:$AA67)-Z67)/2","v":4.5},{"$f":"(MAX($W67:$AA67)-AA67)/2","v":4.5}]
["2011-06-04",-1,32,27,null,1,34,24,null,null,0,0,null,null,0,0,null,null,0,0,null,null,5,10,0,0,0,null,2.5,0,5,5,5]
["2011-06-05",-1,32,28,null,1,35,24,null,null,0,0,null,null,0,0,null,null,0,0,null,null,4,11,0,0,0,null,3.5,0,5.5,5.5,5.5]
["2011-06-06",null,{"$f":"C69+IF(B70>0,B70,0)","v":32},{"$f":"D69-IF(B70<0,B70,0)","v":28},null,null,{"$f":"G69+IF(F70>0,F70,0)","v":35},{"$f":"H69-IF(F70<0,F70,0)","v":24},null,null,0,0,null,null,0,0,null,null,0,0,null,null,4,11,0,0,0,null,3.5,0,5.5,5.5,5.5]
["2011-06-07",1,{"$f":"C70+IF(B71>0,B71,0)","v":33},{"$f":"D70-IF(B71<0,B71,0)","v":28},null,1,{"$f":"G70+IF(F71>0,F71,0)","v":36},{"$f":"H70-IF(F71<0,F71,0)","v":24},null,null,{"$f":"K70+IF(J71>0,J71,0)","v":0},{"$f":"L70-IF(J71<0,J71,0)","v":0},null,null,{"$f":"O70+IF(N71>0,N71,0)","v":0},{"$f":"P70-IF(N71<0,N71,0)","v":0},null,null,0,0,null,null,5,12,0,0,0,null,3.5,0,6,6,6]
["2011-06-08",1,{"$f":"C71+IF(B72>0,B72,0)","v":34},{"$f":"D71-IF(B72<0,B72,0)","v":28},null,-1,{"$f":"G71+IF(F72>0,F72,0)","v":36},{"$f":"H71-IF(F72<0,F72,0)","v":25},null,null,0,0,null,null,0,0,null,null,0,0,null,null,6,11,0,0,0,null,2.5,0,5.5,5.5,5.5]
["2011-06-09",1,{"$f":"C72+IF(B73>0,B73,0)","v":35},{"$f":"D72-IF(B73<0,B73,0)","v":28},null,1,{"$f":"G72+IF(F73>0,F73,0)","v":37},{"$f":"H72-IF(F73<0,F73,0)","v":25},null,null,0,0,null,null,0,0,null,null,0,0,null,null,7,12,0,0,0,null,2.5,0,6,6,6]
["2011-06-10",1,36,28,null,-1,37,26,null,null,0,0,null,null,0,0,null,null,0,0,null,null,8,11,0,0,0,null,1.5,0,5.5,5.5,5.5]
["2011-06-11",1,37,28,null,-1,37,27,null,null,0,0,null,null,0,0,null,null,0,0,null,null,9,10,0,0,0,null,0.5,0,5,5,5]
["2011-06-12",1,38,28,null,-1,37,28,null,null,0,0,null,null,0,0,null,null,0,0,null,null,10,9,0,0,0,null,0,0.5,5,5,5]
["2011-06-13",-1,38,29,null,null,37,28,null,null,0,0,null,null,0,0,null,null,0,0,null,null,9,9,0,0,0,null,0,0,4.5,4.5,4.5]
["2011-06-14",-1,38,30,null,-1,37,29,null,null,0,0,null,null,0,0,null,null,{"$f":"S77+IF(R78>0,R78,0)","v":0},{"$f":"T77-IF(R78<0,R78,0)","v":0},null,null,8,8,0,0,0,null,0,0,4,4,4]
["2011-06-15",-1,38,31,null,-1,37,30,null,null,0,0,null,null,0,0,null,null,0,0,null,null,7,7,0,0,0,null,0,0,3.5,3.5,3.5]
["2011-06-16",1,39,31,null,-1,37,31,null,null,0,0,null,null,0,0,null,null,0,0,null,null,8,6,0,0,0,null,0,1,4,4,4]
["2011-06-17",-1,39,32,null,-1,37,32,null,null,0,0,null,null,0,0,null,null,0,0,null,null,7,5,0,0,0,null,0,1,3.5,3.5,3.5]
["2011-06-18",-1,39,33,null,1,38,32,null,null,0,0,null,null,0,0,null,null,0,0,null,null,6,6,0,0,0,null,0,0,3,3,3]
["2011-06-19",1,40,33,null,1,39,32,null,null,0,0,null,null,0,0,null,null,0,0,null,null,7,7,0,0,0,null,0,0,3.5,3.5,3.5]
["2011-06-20",1,41,33,null,null,39,32,null,null,0,0,null,null,0,0,null,null,0,0,null,null,8,7,0,0,0,null,0,0.5,4,4,4]
["2011-06-21",1,42,33,null,-1,39,33,null,null,0,0,null,null,0,0,null,null,0,0,null,null,9,6,0,0,0,null,0,1.5,4.5,4.5,4.5]
["2011-06-22",1,43,33,null,-1,{"$f":"G85+IF(F86>0,F86,0)","v":39},{"$f":"H85-IF(F86<0,F86,0)","v":34},null,null,0,0,null,null,0,0,null,null,0,0,null,null,10,5,0,0,0,null,0,2.5,5,5,5]
["2011-06-23",null,43,33,null,1,40,34,null,null,0,0,null,null,0,0,null,null,0,0,null,null,10,6,0,0,0,null,0,2,5,5,5]
["2011-06-24",-1,43,34,null,-1,40,35,null,null,0,0,null,null,0,0,null,null,{"$f":"S87+IF(R88>0,R88,0)","v":0},{"$f":"T87-IF(R88<0,R88,0)","v":0},null,null,9,5,0,0,0,null,0,2,4.5,4.5,4.5]
["2011-06-25",1,44,34,null,-1,40,36,null,null,0,0,null,null,0,0,null,null,0,0,null,null,10,4,0,0,0,null,0,3,5,5,5]
["2011-06-26",-1,44,35,null,-1,40,37,null,null,0,0,null,null,0,0,null,null,0,0,null,null,9,3,0,0,0,null,0,3,4.5,4.5,4.5]
["2011-06-27",1,45,35,null,null,40,37,null,null,0,0,null,null,0,0,null,null,0,0,null,null,10,3,0,0,0,null,0,3.5,5,5,5]
["2011-06-28",1,46,35,null,1,41,37,null,null,0,0,null,null,0,0,null,null,0,0,null,null,11,4,0,0,0,null,0,3.5,5.5,5.5,5.5]
["2011-06-29",1,47,35,null,1,42,37,null,null,0,0,null,null,0,0,null,null,0,0,null,null,12,5,0,0,0,null,0,3.5,6,6,6]
["2011-06-30",null,47,35,null,1,43,37,null,null,0,0,null,null,0,0,null,null,0,0,null,null,12,6,0,0,0,null,0,3,6,6,6]
["2011-07-01",1,48,35,null,1,44,37,null,null,0,0,null,null,0,0,null,null,0,0,null,null,13,7,0,0,0,null,0,3,6.5,6.5,6.5]
["2011-07-02",1,49,35,null,-1,44,38,null,null,0,0,null,null,0,0,null,null,{"$f":"S95+IF(R96>0,R96,0)","v":0},{"$f":"T95-IF(R96<0,R96,0)","v":0},null,null,14,6,0,0,0,null,0,4,7,7,7]
["2011-07-03",-1,49,36,null,-1,44,39,null,null,0,0,null,null,0,0,null,null,0,0,null,null,13,5,0,0,0,null,0,4,6.5,6.5,6.5]
["2011-07-04",1,50,36,null,1,45,39,null,null,0,0,null,null,0,0,null,null,0,0,null,null,14,6,0,0,0,null,0,4,7,7,7]
["2011-07-05",1,51,36,null,1,46,39,null,null,0,0,null,null,0,0,null,null,0,0,null,null,{"$f":"C99-D99","v":15},{"$f":"G99-H99","v":7},{"$f":"K99-L99","v":0},{"$f":"O99-P99","v":0},{"$f":"S99-T99","v":0},null,{"$f":"(MAX($W99:$AA99)-W99)/2","v":0},{"$f":"(MAX($W99:$AA99)-X99)/2","v":4},{"$f":"(MAX($W99:$AA99)-Y99)/2","v":7.5},{"$f":"(MAX($W99:$AA99)-Z99)/2","v":7.5},{"$f":"(MAX($W99:$AA99)-AA99)/2","v":7.5}]
["2011-07-06",1,{"$f":"C99+IF(B100>0,B100,0)","v":52},{"$f":"D99-IF(B100<0,B100,0)","v":36},null,-1,46,40,null,null,0,0,null,null,0,0,null,null,0,0,null,null,16,6,0,0,0,null,0,5,8,8,8]
["2011-07-07",1,53,36,null,-1,46,41,null,null,0,0,null,null,0,0,null,null,0,0,null,null,17,5,0,0,0,null,0,6,8.5,8.5,8.5]
["2011-07-08",-1,53,37,null,-1,46,42,null,null,0,0,null,null,0,0,null,null,0,0,null,null,16,4,0,0,0,null,0,6,8,8,8]
["2011-07-09",1,{"$f":"C102+IF(B103>0,B103,0)","v":54},{"$f":"D102-IF(B103<0,B103,0)","v":37},null,1,{"$f":"G102+IF(F103>0,F103,0)","v":47},{"$f":"H102-IF(F103<0,F103,0)","v":42},null,null,{"$f":"K102+IF(J103>0,J103,0)","v":0},{"$f":"L102-IF(J103<0,J103,0)","v":0},null,null,{"$f":"O102+IF(N103>0,N103,0)","v":0},{"$f":"P102-IF(N103<0,N103,0)","v":0},null,null,0,0,null,null,17,5,0,0,0,null,0,6,8.5,8.5,8.5]
["2011-07-10",-1,54,38,null,1,48,42,null,null,0,0,null,null,0,0,null,null,0,0,null,null,16,6,0,0,0,null,0,5,8,8,8]
["2011-07-11",null,54,38,null,null,48,42,null,null,0,0,null,null,0,0,null,null,0,0,null,null,16,6,0,0,0,null,0,5,8,8,8]
["2011-07-12",null,54,38,null,null,48,42,null,null,0,0,null,null,0,0,null,null,0,0,null,null,16,6,0,0,0,null,0,5,8,8,8]
["2011-07-13",null,54,38,null,null,48,42,null,null,0,0,null,null,0,0,null,null,0,0,null,null,16,6,0,0,0,null,0,5,8,8,8]
["2011-07-14",null,54,38,null,null,48,42,null,null,0,0,null,null,0,0,null,null,0,0,null,null,16,6,0,0,0,null,0,5,8,8,8]
["2011-07-15",1,55,38,null,-1,48,43,null,null,0,0,null,null,0,0,null,null,0,0,null,null,17,5,0,0,0,null,0,6,8.5,8.5,8.5]
["2011-07-16",-1,55,39,null,1,49,43,null,null,0,0,null,null,0,0,null,null,{"$f":"S109+IF(R110>0,R110,0)","v":0},{"$f":"T109-IF(R110<0,R110,0)","v":0},null,null,16,6,0,0,0,null,0,5,8,8,8]
["2011-07-17",1,56,39,null,null,49,43,null,null,0,0,null,null,0,0,null,null,0,0,null,null,17,6,0,0,0,null,0,5.5,8.5,8.5,8.5]
["2011-07-18",1,57,39,null,-1,49,44,null,null,0,0,null,null,0,0,null,null,0,0,null,null,18,5,0,0,0,null,0,6.5,9,9,9]
["2011-07-19",-1,57,40,null,-1,49,45,null,null,0,0,null,null,0,0,null,null,0,0,null,null,17,4,0,0,0,null,0,6.5,8.5,8.5,8.5]
["2011-07-20",-1,57,41,null,-1,49,46,null,null,0,0,null,null,0,0,null,null,0,0,null,null,16,3,0,0,0,null,0,6.5,8,8,8]
["2011-07-21",1,58,41,null,1,50,46,null,null,0,0,null,null,0,0,null,null,0,0,null,null,17,4,0,0,0,null,0,6.5,8.5,8.5,8.5]
["2011-07-22",1,59,41,null,1,51,46,null,null,0,0,null,null,0,0,null,null,0,0,null,null,18,5,0,0,0,null,0,6.5,9,9,9]
["2011-07-23",-1,59,42,null,1,52,46,null,null,0,0,null,null,0,0,null,null,0,0,null,null,17,6,0,0,0,null,0,5.5,8.5,8.5,8.5]
["2011-07-24",-1,59,43,null,-1,52,47,null,null,0,0,null,null,0,0,null,null,0,0,null,null,16,5,0,0,0,null,0,5.5,8,8,8]
["2011-07-25",-1,59,44,null,1,53,47,null,null,0,0,null,null,0,0,null,null,0,0,null,null,15,6,0,0,0,null,0,4.5,7.5,7.5,7.5]
["2011-07-26",1,60,44,null,1,54,47,null,null,0,0,null,null,0,0,null,null,0,0,null,null,16,7,0,0,0,null,0,4.5,8,8,8]
["2011-07-27",1,61,44,null,-1,54,48,null,null,0,0,null,null,0,0,null,null,0,0,null,null,17,6,0,0,0,null,0,5.5,8.5,8.5,8.5]
["2011-07-28",-1,61,45,null,-1,54,49,null,null,0,0,null,null,0,0,null,null,0,0,null,null,16,5,0,0,0,null,0,5.5,8,8,8]
["2011-07-29",1,62,45,null,1,55,49,null,null,0,0,null,null,0,0,null,null,0,0,null,null,17,6,0,0,0,null,0,5.5,8.5,8.5,8.5]
["2011-07-30",1,63,45,null,1,56,49,null,null,0,0,null,null,0,0,null,null,0,0,null,null,18,7,0,0,0,null,0,5.5,9,9,9]
["2011-07-31",-1,63,46,null,-1,56,50,null,null,0,0,null,null,0,0,null,null,0,0,null,null,17,6,0,0,0,null,0,5.5,8.5,8.5,8.5]
["2011-08-01",-1,63,47,null,-1,56,51,null,null,0,0,null,null,0,0,null,null,0,0,null,null,16,5,0,0,0,null,0,5.5,8,8,8]
["2011-08-02",-1,63,48,null,1,57,51,null,null,0,0,null,null,0,0,null,null,0,0,null,null,15,6,0,0,0,null,0,4.5,7.5,7.5,7.5]
["2011-08-03",1,64,48,null,-1,57,52,null,null,0,0,null,null,0,0,null,null,0,0,null,null,16,5,0,0,0,null,0,5.5,8,8,8]
["2011-08-04",null,64,48,null,1,58,52,null,null,0,0,null,null,0,0,null,null,0,0,null,null,16,6,0,0,0,null,0,5,8,8,8]
["2011-08-05",1,65,48,null,1,59,52,null,null,0,0,null,null,0,0,null,null,0,0,null,null,17,7,0,0,0,null,0,5,8.5,8.5,8.5]
["2011-08-06",-1,65,49,null,1,60,52,null,null,0,0,null,null,0,0,null,null,0,0,null,null,{"$f":"C131-D131","v":16},{"$f":"G131-H131","v":8},{"$f":"K131-L131","v":0},{"$f":"O131-P131","v":0},{"$f":"S131-T131","v":0},null,{"$f":"(MAX($W131:$AA131)-W131)/2","v":0},{"$f":"(MAX($W131:$AA131)-X131)/2","v":4},{"$f":"(MAX($W131:$AA131)-Y131)/2","v":8},{"$f":"(MAX($W131:$AA131)-Z131)/2","v":8},{"$f":"(MAX($W131:$AA131)-AA131)/2","v":8}]
["2011-08-07",1,66,49,null,1,61,52,null,null,0,0,null,null,0,0,null,null,0,0,null,null,17,9,0,0,0,null,0,4,8.5,8.5,8.5]
["2011-08-08",1,67,49,null,null,61,52,null,null,0,0,null,null,0,0,null,null,0,0,null,null,18,9,0,0,0,null,0,4.5,9,9,9]
["2011-08-09",1,68,49,null,-1,61,53,null,null,0,0,null,null,0,0,null,null,0,0,null,null,19,8,0,0,0,null,0,5.5,9.5,9.5,9.5]
["2011-08-10",1,{"$f":"C134+IF(B135>0,B135,0)","v":69},{"$f":"D134-IF(B135<0,B135,0)","v":49},null,-1,{"$f":"G134+IF(F135>0,F135,0)","v":61},{"$f":"H134-IF(F135<0,F135,0)","v":54},null,null,{"$f":"K134+IF(J135>0,J135,0)","v":0},{"$f":"L134-IF(J135<0,J135,0)","v":0},null,null,{"$f":"O134+IF(N135>0,N135,0)","v":0},{"$f":"P134-IF(N135<0,N135,0)","v":0},null,null,0,0,null,null,20,7,0,0,0,null,0,6.5,10,10,10]
["2011-08-11",null,69,49,null,1,62,54,null,null,0,0,null,null,0,0,null,null,0,0,null,null,20,8,0,0,0,null,0,6,10,10,10]
["2011-08-12",1,70,49,null,1,63,54,null,null,0,0,null,null,0,0,null,null,0,0,null,null,21,9,0,0,0,null,0,6,10.5,10.5,10.5]
["2011-08-13",-1,70,50,null,-1,63,55,null,null,0,0,null,null,0,0,null,null,0,0,null,null,20,8,0,0,0,null,0,6,10,10,10]
["2011-08-14",-1,70,51,null,1,64,55,null,null,0,0,null,null,0,0,null,null,0,0,null,null,19,9,0,0,0,null,0,5,9.5,9.5,9.5]
["2011-08-15",1,71,51,null,-1,64,56,null,null,0,0,null,null,0,0,null,null,0,0,null,null,20,8,0,0,0,null,0,6,10,10,10]
["2011-08-16",1,72,51,null,-1,64,57,null,null,0,0,null,null,0,0,null,null,0,0,null,null,21,7,0,0,0,null,0,7,10.5,10.5,10.5]
["2011-08-17",-1,72,52,null,1,65,57,null,null,0,0,null,null,0,0,null,null,{"$f":"S141+IF(R142>0,R142,0)","v":0},{"$f":"T141-IF(R142<0,R142,0)","v":0},null,null,20,8,0,0,0,null,0,6,10,10,10]
["2011-08-18",1,73,52,null,null,65,57,null,null,0,0,null,null,0,0,null,null,0,0,null,null,21,8,0,0,0,null,0,6.5,10.5,10.5,10.5]
["2011-08-19",1,74,52,null,-1,65,58,null,null,0,0,null,null,0,0,null,null,0,0,null,null,22,7,0,0,0,null,0,7.5,11,11,11]
["2011-08-20",1,75,52,null,-1,65,59,null,null,0,0,null,null,0,0,null,null,0,0,null,null,23,6,0,0,0,null,0,8.5,11.5,11.5,11.5]
["2011-08-21",1,76,52,null,1,66,59,null,null,0,0,null,null,0,0,null,null,0,0,null,null,24,7,0,0,0,null,0,8.5,12,12,12]
["2011-08-22",1,77,52,null,-1,66,60,null,null,0,0,null,null,{"$f":"O146+IF(N147>0,N147,0)","v":0},{"$f":"P146-IF(N147<0,N147,0)","v":0},null,null,{"$f":"S146+IF(R147>0,R147,0)","v":0},{"$f":"T146-IF(R147<0,R147,0)","v":0},null,null,25,6,0,0,0,null,0,9.5,12.5,12.5,12.5]
["2011-08-23",1,78,52,null,-1,66,61,null,null,0,0,null,null,0,0,null,null,0,0,null,null,26,5,0,0,0,null,0,10.5,13,13,13]
["2011-08-24",-1,78,53,null,-1,{"$f":"G148+IF(F149>0,F149,0)","v":66},{"$f":"H148-IF(F149<0,F149,0)","v":62},null,null,0,0,null,null,0,0,null,null,0,0,null,null,25,4,0,0,0,null,0,10.5,12.5,12.5,12.5]
["2011-08-25",1,79,53,null,1,67,62,null,null,0,0,null,null,0,0,null,null,0,0,null,null,26,5,0,0,0,null,0,10.5,13,13,13]
["2011-08-26",-1,79,54,null,1,68,62,null,null,0,0,null,null,0,0,null,null,0,0,null,null,25,6,0,0,0,null,0,9.5,12.5,12.5,12.5]
["2011-08-27",null,79,54,null,-1,68,63,null,null,0,0,null,null,0,0,null,null,0,0,null,null,25,5,0,0,0,null,0,10,12.5,12.5,12.5]
["2011-08-28",null,79,54,null,1,69,63,null,null,0,0,null,null,0,0,null,null,0,0,null,null,25,6,0,0,0,null,0,9.5,12.5,12.5,12.5]
["2011-08-29",null,79,54,null,null,69,63,null,null,0,0,null,null,0,0,null,null,0,0,null,null,25,6,0,0,0,null,0,9.5,12.5,12.5,12.5]
["2011-08-30",-1,{"$f":"C154+IF(B155>0,B155,0)","v":79},{"$f":"D154-IF(B155<0,B155,0)","v":55},null,1,70,63,null,null,0,0,null,null,0,0,null,null,0,0,null,null,24,7,0,0,0,null,0,8.5,12,12,12]
["2011-08-31",1,80,55,null,1,71,63,null,null,0,0,null,null,0,0,null,null,0,0,null,null,25,8,0,0,0,null,0,8.5,12.5,12.5,12.5]
["2011-09-01",1,81,55,null,1,{"$f":"G156+IF(F157>0,F157,0)","v":72},{"$f":"H156-IF(F157<0,F157,0)","v":63},null,null,0,0,null,null,0,0,null,null,0,0,null,null,26,9,0,0,0,null,0,8.5,13,13,13]
["2011-09-02",-1,81,56,null,-1,72,64,null,null,0,0,null,null,0,0,null,null,0,0,null,null,25,8,0,0,0,null,0,8.5,12.5,12.5,12.5]
["2011-09-03",-1,81,57,null,1,73,64,null,null,0,0,null,null,0,0,null,null,0,0,null,null,24,9,0,0,0,null,0,7.5,12,12,12]
["2011-09-04",1,82,57,null,-1,73,65,null,null,0,0,null,null,0,0,null,null,0,0,null,null,25,8,0,0,0,null,0,8.5,12.5,12.5,12.5]
["2011-09-05",-1,82,58,null,-1,73,66,null,null,0,0,null,null,0,0,null,null,0,0,null,null,24,7,0,0,0,null,0,8.5,12,12,12]
["2011-09-06",-1,82,59,null,1,74,66,null,null,0,0,null,null,0,0,null,null,0,0,null,null,23,8,0,0,0,null,0,7.5,11.5,11.5,11.5]
["2011-09-07",-1,82,60,null,1,75,66,null,null,0,0,null,null,0,0,null,null,0,0,null,null,{"$f":"C163-D163","v":22},{"$f":"G163-H163","v":9},{"$f":"K163-L163","v":0},{"$f":"O163-P163","v":0},{"$f":"S163-T163","v":0},null,{"$f":"(MAX($W163:$AA163)-W163)/2","v":0},{"$f":"(MAX($W163:$AA163)-X163)/2","v":6.5},{"$f":"(MAX($W163:$AA163)-Y163)/2","v":11},{"$f":"(MAX($W163:$AA163)-Z163)/2","v":11},{"$f":"(MAX($W163:$AA163)-AA163)/2","v":11}]
["2011-09-08",2,84,60,null,null,75,66,null,null,0,0,null,null,0,0,null,null,0,0,null,null,24,9,0,0,0,null,0,7.5,12,12,12]
["2011-09-09",-1,84,61,null,1,76,66,null,null,{"$f":"K164+IF(J165>0,J165,0)","v":0},{"$f":"L164-IF(J165<0,J165,0)","v":0},null,null,0,0,null,null,{"$f":"S164+IF(R165>0,R165,0)","v":0},{"$f":"T164-IF(R165<0,R165,0)","v":0},null,null,23,10,0,0,0,null,0,6.5,11.5,11.5,11.5]
["2011-09-10",-1,{"$f":"C165+IF(B166>0,B166,0)","v":84},{"$f":"D165-IF(B166<0,B166,0)","v":62},null,1,77,66,null,null,0,0,null,null,0,0,null,null,0,0,null,null,22,11,0,0,0,null,0,5.5,11,11,11]
["2011-09-11",-1,84,63,null,1,{"$f":"G166+IF(F167>0,F167,0)","v":78},{"$f":"H166-IF(F167<0,F167,0)","v":66},null,null,0,0,null,null,{"$f":"O166+IF(N167>0,N167,0)","v":0},{"$f":"P166-IF(N167<0,N167,0)","v":0},null,null,0,0,null,null,21,12,0,0,0,null,0,4.5,10.5,10.5,10.5]
["2011-09-12",-1,84,64,null,-1,78,67,null,null,0,0,null,null,0,0,null,null,0,0,null,null,20,11,0,0,0,null,0,4.5,10,10,10]
["2011-09-13",1,85,64,null,1,79,67,null,null,0,0,null,null,0,0,null,null,0,0,null,null,21,12,0,0,0,null,0,4.5,10.5,10.5,10.5]
["2011-09-14",1,86,64,null,1,80,67,null,null,0,0,null,null,0,0,null,null,0,0,null,null,22,13,0,0,0,null,0,4.5,11,11,11]
["2011-09-15",null,86,64,null,null,80,67,null,null,0,0,null,null,0,0,null,null,0,0,null,null,22,13,0,0,0,null,0,4.5,11,11,11]
["2011-09-16",-1,86,65,null,1,81,67,null,null,0,0,null,null,0,0,null,null,0,0,null,null,21,14,0,0,0,null,0,3.5,10.5,10.5,10.5]
["2011-09-17",1,87,65,null,-1,81,68,null,null,0,0,null,null,0,0,null,null,0,0,null,null,22,13,0,0,0,null,0,4.5,11,11,11]
["2011-09-18",-1,87,66,null,1,82,68,null,null,0,0,null,null,0,0,null,null,0,0,null,null,21,14,0,0,0,null,0,3.5,10.5,10.5,10.5]
["2011-09-19",-1,87,67,null,1,83,68,null,null,0,0,null,null,0,0,null,null,0,0,null,null,20,15,0,0,0,null,0,2.5,10,10,10]
["2011-09-20",1,{"$f":"C175+IF(B176>0,B176,0)","v":88},{"$f":"D175-IF(B176<0,B176,0)","v":67},null,1,84,68,null,null,0,0,null,null,0,0,null,null,0,0,null,null,21,16,0,0,0,null,0,2.5,10.5,10.5,10.5]
["2011-09-21",-1,88,68,null,1,85,68,null,null,0,0,null,null,0,0,null,null,0,0,null,null,20,17,0,0,0,null,0,1.5,10,10,10]
["2011-09-22",null,88,68,null,-1,85,69,null,null,0,0,null,null,0,0,null,null,0,0,null,null,20,16,0,0,0,null,0,2,10,10,10]
["2011-09-23",1,89,68,null,-1,85,70,null,null,0,0,null,null,0,0,null,null,0,0,null,null,21,15,0,0,0,null,0,3,10.5,10.5,10.5]
["2011-09-24",-1,89,69,null,1,86,70,null,null,0,0,null,null,0,0,null,null,0,0,null,null,20,16,0,0,0,null,0,2,10,10,10,null,null,"Team","GB","%"]
["2011-09-25",-1,89,70,null,1,87,70,null,null,0,0,null,null,0,0,null,null,0,0,null,null,19,17,0,0,0,null,0,1,9.5,9.5,9.5,null,null,{"$f":"AF$1","v":" "},{"$f":"AF$185","v":9},{"$f":"AF$187","v":{"$error":"#DIV/0!"}}]
["2011-09-26",-1,89,71,null,-1,87,71,null,null,0,0,null,null,0,0,null,null,0,0,null,null,18,16,0,0,0,null,0,1,9,9,9,null,null,{"$f":"AC$1","v":"ATL"},{"$f":"AC$185","v":1},{"$f":"AC$187","v":0.54938271604938271}]
["2011-09-27",-1,89,72,null,1,88,71,null,null,0,0,null,null,0,0,null,null,0,0,null,null,17,17,0,0,0,null,0,0,8.5,8.5,8.5,null,null,{"$f":"AG$1","v":" "},{"$f":"AG$185","v":9},{"$f":"AG$187","v":{"$error":"#DIV/0!"}}]
["2011-09-28",-1,89,73,null,1,89,71,null,null,0,0,null,null,0,0,null,null,0,0,null,null,16,18,0,0,0,null,1,0,9,9,9,null,null,{"$f":"AE$1","v":" "},{"$f":"AE$185","v":9},{"$f":"AE$187","v":{"$error":"#DIV/0!"}}]
["2011-09-29",null,89,73,null,null,89,71,null,null,0,0,null,null,0,0,null,null,0,0,null,null,16,18,0,0,0,null,1,0,9,9,9,null,null,{"$f":"AD$1","v":"STL"},{"$f":"AD$185","v":0},{"$f":"AD$187","v":0.55625000000000002}]
[]
[null,null,null,null,null,null,null,null,null,null,null,null,null,null,null,null,null,null,null,null,null,null,null,null,null,null,null,null,{"$f":"C185/(C185+D185)","v":0.54938271604938271},{"$f":"G185/(G185+H185)","v":0.55625000000000002},{"$f":"K185/(K185+L185)","v":{"$error":"#DIV/0!"}},{"$f":"O185/(O185+P185)","v":{"$error":"#DIV/0!"}},{"$f":"S185/(S185+T185)","v":{"$error":"#DIV/0!"}}]