{"text_format":"1","workbook":"xlsx","n_sheets":2,"sheets":["Chart","NLW11"],"not_rendered":{"charts":2,"images":0,"macros":1,"external_links":0,"defined_names":1,"comments":0,"pivot_tables":0},"unopened":[],"bounds":{"document_bytes":16777216,"sheet_cells":100000,"rows_first":2000,"rows_last":500,"rows_between":2000,"halvings":0,"cell_chars":16384,"cell_head_chars":4096},"cells_cut":0,"cells_raw":0,"read":"whole","date_system":"1900"}

{"sheet":"Chart","index":0,"n_rows":38,"n_cols":6,"rows_kept":38,"cut":false,"hidden":false,"merged":[]}
[" "]
[null,{"$f":"'NLW11'!AJ181","v":"ARI"},{"$f":"'NLW11'!AK181","v":0},{"$f":"'NLW11'!AL181","v":0.58024691358024694}]
[null,{"$f":"'NLW11'!AJ182","v":"SFO"},{"$f":"'NLW11'!AK182","v":8},{"$f":"'NLW11'!AL182","v":0.53086419753086422}]
[null,{"$f":"'NLW11'!AJ183","v":"LAD"},{"$f":"'NLW11'!AK183","v":11.5},{"$f":"'NLW11'!AL183","v":0.50931677018633537}]
[null,{"$f":"'NLW11'!AJ184","v":"COL"},{"$f":"'NLW11'!AK184","v":21},{"$f":"'NLW11'!AL184","v":0.45061728395061729}]
[null,{"$f":"'NLW11'!AJ185","v":"SDP"},{"$f":"'NLW11'!AK185","v":23},{"$f":"'NLW11'!AL185","v":0.43827160493827161}]
[]
[]
[]
[]
[null,"MLB.mobi Scores"]
[]
[]
[null,"PHP Results"]
[]
[]
[null,"HTML Results"]
[]
[]
[]
[]
[]
[]
[]
[]
[]
[]
[]
[]
[]
[]
[]
[]
[]
[]
[]
[]
[null,null,null,null,null,"Note: You must enable macros for this workbook to update correctly"]

{"sheet":"NLW11","index":1,"n_rows":187,"n_cols":38,"rows_kept":187,"cut":false,"hidden":false,"merged":[]}
["NLW11","ARI","W","L",null,"COL","W","L",null,"LAD","W","L",null,"SDP","W","L",null,"SFO","W","L",null,null,{"$f":"B1","v":"ARI"},{"$f":"F1","v":"COL"},{"$f":"J1","v":"LAD"},{"$f":"N1","v":"SDP"},{"$f":"R1","v":"SFO"},null,{"$f":"W1","v":"ARI"},{"$f":"X1","v":"COL"},{"$f":"Y1","v":"LAD"},{"$f":"Z1","v":"SDP"},{"$f":"AA1","v":"SFO"}]
["2011-03-30",null,0,0,null,null,0,0,null,null,0,0,null,null,0,0,null,null,0,0,null,null,0,0,0,0,0,null,0,0,0,0,0]
["2011-03-31",null,{"$f":"C2+IF(B3>0,B3,0)","v":0},{"$f":"D2-IF(B3<0,B3,0)","v":0},null,null,{"$f":"G2+IF(F3>0,F3,0)","v":0},{"$f":"H2-IF(F3<0,F3,0)","v":0},null,1,{"$f":"K2+IF(J3>0,J3,0)","v":1},{"$f":"L2-IF(J3<0,J3,0)","v":0},null,1,{"$f":"O2+IF(N3>0,N3,0)","v":1},{"$f":"P2-IF(N3<0,N3,0)","v":0},null,-1,{"$f":"S2+IF(R3>0,R3,0)","v":0},{"$f":"T2-IF(R3<0,R3,0)","v":1},null,null,{"$f":"C3-D3","v":0},{"$f":"G3-H3","v":0},{"$f":"K3-L3","v":1},{"$f":"O3-P3","v":1},{"$f":"S3-T3","v":-1},null,{"$f":"(MAX($W3:$AA3)-W3)/2","v":0.5},{"$f":"(MAX($W3:$AA3)-X3)/2","v":0.5},{"$f":"(MAX($W3:$AA3)-Y3)/2","v":0},{"$f":"(MAX($W3:$AA3)-Z3)/2","v":0},{"$f":"(MAX($W3:$AA3)-AA3)/2","v":1}]
["2011-04-01",1,1,0,null,1,1,0,null,1,2,0,null,null,1,0,null,-1,0,2,null,null,1,1,2,1,-2,null,0.5,0.5,0,0.5,2]
["2011-04-02",-1,1,1,null,-1,1,1,null,-1,2,1,null,1,2,0,null,1,1,2,null,null,0,0,1,2,-1,null,1,1,0.5,0,1.5]
["2011-04-03",null,1,1,null,null,1,1,null,1,3,1,null,-1,2,1,null,-1,1,3,null,null,0,0,2,1,-2,null,1,1,0,0.5,2]
["2011-04-04",-1,1,2,null,null,1,1,null,null,3,1,null,null,2,1,null,null,1,3,null,null,-1,0,2,1,-2,null,1.5,1,0,0.5,2]
["2011-04-05",-1,1,3,null,1,2,1,null,-1,3,2,null,1,3,1,null,-1,1,4,null,null,-2,1,1,2,-3,null,2,0.5,0.5,0,2.5]
["2011-04-06",1,2,3,null,1,3,1,null,-1,3,3,null,-1,{"$f":"O8+IF(N9>0,N9,0)","v":3},2,null,1,2,4,null,null,-1,2,0,1,-2,null,1.5,0,1,0.5,2]
["2011-04-07",null,2,3,null,1,4,1,null,null,3,3,null,null,3,2,null,null,2,4,null,null,-1,3,0,1,-2,null,2,0,1.5,1,2.5]
["2011-04-08",1,3,3,null,-1,4,2,null,1,4,3,null,-1,3,3,null,1,3,4,null,null,0,2,1,0,-1,null,1,0,0.5,1,1.5]
["2011-04-09",-1,3,4,null,1,5,2,null,1,5,3,null,-1,3,4,null,1,4,4,null,null,-1,3,2,-1,0,null,2,0,0.5,2,1.5]
["2011-04-10",1,4,4,null,1,6,2,null,-1,5,4,null,1,4,4,null,-1,4,5,null,null,0,4,1,0,-1,null,2,0,1.5,2,2.5]
["2011-04-11",-1,4,5,null,1,7,2,null,1,6,4,null,-1,4,5,null,-1,4,6,null,null,-1,5,2,-1,-2,null,3,0,1.5,3,3.5]
["2011-04-12",1,5,5,null,null,7,2,null,-1,6,5,null,-1,4,6,null,1,5,6,null,null,0,5,1,-2,-1,null,2.5,0,2,3.5,3]
["2011-04-13",-1,5,6,null,1,8,2,null,-1,6,6,null,1,5,6,null,1,6,6,null,null,-1,6,0,-1,0,null,3.5,0,3,3.5,3]
["2011-04-14",null,5,6,null,2,10,2,null,-1,6,7,null,-1,5,7,null,null,6,6,null,null,-1,8,-1,-2,0,null,4.5,0,4.5,5,4]
["2011-04-15",-1,5,7,null,1,11,2,null,-1,6,8,null,1,6,7,null,1,7,6,null,null,-2,9,-2,-1,1,null,5.5,0,5.5,5,4]
["2011-04-16",-1,5,8,null,-1,11,3,null,-1,6,9,null,-1,6,8,null,1,8,6,null,null,-3,8,-3,-2,2,null,5.5,0,5.5,5,3]
["2011-04-17",1,6,8,null,1,12,3,null,1,7,9,null,1,7,8,null,-1,8,7,null,null,-2,9,-2,-1,1,null,5.5,0,5.5,5,4]
["2011-04-18",null,6,8,null,-1,12,4,null,1,8,9,null,-1,7,9,null,1,9,7,null,null,-2,8,-1,-2,2,null,5,0,4.5,5,3]
["2011-04-19",1,7,8,null,-1,12,5,null,-1,8,10,null,null,7,9,null,1,10,7,null,null,-1,7,-2,-2,3,null,4,0,4.5,4.5,2]
["2011-04-20",1,{"$f":"C22+IF(B23>0,B23,0)","v":8},{"$f":"D22-IF(B23<0,B23,0)","v":8},null,1,13,5,null,1,9,10,null,0,8,10,null,-1,{"$f":"S22+IF(R23>0,R23,0)","v":10},{"$f":"T22-IF(R23<0,R23,0)","v":8},null,null,0,8,-1,-2,2,null,4,0,4.5,5,3]
["2011-04-21",-1,8,9,null,null,13,5,null,1,10,10,null,-1,8,11,null,null,10,8,null,null,-1,8,0,-3,2,null,4.5,0,4,5.5,3]
["2011-04-22",-1,8,10,null,-1,13,6,null,1,11,10,null,-1,8,12,null,-1,10,9,null,null,-2,7,1,-4,1,null,4.5,0,3,5.5,3]
["2011-04-23",-1,8,11,null,1,14,6,null,-1,11,11,null,-1,8,13,null,-1,10,10,null,null,-3,8,0,-5,0,null,5.5,0,4,6.5,4]
["2011-04-24",-1,8,12,null,-1,14,7,null,1,12,11,null,-1,8,14,null,-1,10,11,null,null,-4,7,1,-6,-1,null,5.5,0,3,6.5,4]
["2011-04-25",1,9,12,null,1,15,7,null,-1,12,12,null,1,9,14,null,null,10,11,null,null,-3,8,0,-5,-1,null,5.5,0,4,6.5,4.5]
["2011-04-26",1,10,12,null,1,16,7,null,-1,12,13,null,-1,9,15,null,1,11,11,null,null,-2,9,-1,-6,0,null,5.5,0,5,7.5,4.5]
["2011-04-27",-1,10,13,null,null,16,7,null,1,13,13,null,-1,9,16,null,-1,11,12,null,null,-3,9,0,-7,-1,null,6,0,4.5,8,5]
["2011-04-28",1,11,13,null,null,16,7,null,null,13,13,null,null,9,16,null,1,12,12,null,null,-2,9,0,-7,0,null,5.5,0,4.5,8,4.5]
["2011-04-29",-1,11,14,null,-1,16,8,null,1,14,13,null,-1,9,17,null,-1,12,13,null,null,-3,8,1,-8,-1,null,5.5,0,3.5,8,4.5]
["2011-04-30",-1,11,15,null,1,17,8,null,-1,14,14,null,1,10,17,null,1,13,13,null,null,-4,9,0,-7,0,null,6.5,0,4.5,8,4.5]
["2011-05-01",1,12,15,null,-1,17,9,null,-1,14,15,null,1,11,17,null,-1,13,14,null,null,-3,8,-1,-6,-1,null,5.5,0,4.5,7,4.5]
["2011-05-02",null,12,15,null,null,17,9,null,1,15,15,null,-1,11,18,null,-1,13,15,null,null,{"$f":"C35-D35","v":-3},{"$f":"G35-H35","v":8},{"$f":"K35-L35","v":0},{"$f":"O35-P35","v":-7},{"$f":"S35-T35","v":-2},null,{"$f":"(MAX($W35:$AA35)-W35)/2","v":5.5},{"$f":"(MAX($W35:$AA35)-X35)/2","v":0},{"$f":"(MAX($W35:$AA35)-Y35)/2","v":4},{"$f":"(MAX($W35:$AA35)-Z35)/2","v":7.5},{"$f":"(MAX($W35:$AA35)-AA35)/2","v":5}]
["2011-05-03",1,13,15,null,-1,17,10,null,-1,15,16,null,1,12,18,null,1,14,15,null,null,-2,7,-1,-6,-1,null,4.5,0,4,6.5,4]
["2011-05-04",-1,13,16,null,1,18,10,null,-1,15,17,null,-1,12,19,null,1,15,15,null,null,-3,8,-2,-7,0,null,5.5,0,5,7.5,4]
["2011-05-05",1,14,16,null,-1,18,11,null,null,15,17,null,null,12,19,null,-1,15,16,null,null,-2,7,-2,-7,-1,null,4.5,0,4.5,7,4]
["2011-05-06",-1,{"$f":"C38+IF(B39>0,B39,0)","v":14},{"$f":"D38-IF(B39<0,B39,0)","v":17},null,-1,{"$f":"G38+IF(F39>0,F39,0)","v":18},{"$f":"H38-IF(F39<0,F39,0)","v":12},null,-1,{"$f":"K38+IF(J39>0,J39,0)","v":15},{"$f":"L38-IF(J39<0,J39,0)","v":18},null,1,{"$f":"O38+IF(N39>0,N39,0)","v":13},{"$f":"P38-IF(N39<0,N39,0)","v":19},null,1,16,16,null,null,-3,6,-3,-6,0,null,4.5,0,4.5,6,3]
["2011-05-07",1,15,17,null,-1,18,13,null,-1,15,19,null,-1,13,20,null,1,17,16,null,null,-2,5,-4,-7,1,null,3.5,0,4.5,6,2]
["2011-05-08",-1,15,18,null,-1,18,14,null,1,16,19,null,1,14,20,null,1,18,16,null,null,-3,4,-3,-6,2,null,3.5,0,3.5,5,1]
["2011-05-09",null,15,18,null,1,19,14,null,-1,16,20,null,-1,14,21,null,null,18,16,null,null,-3,5,-4,-7,2,null,4,0,4.5,6,1.5]
["2011-05-10",-1,15,19,null,-1,{"$f":"G42+IF(F43>0,F43,0)","v":19},{"$f":"H42-IF(F43<0,F43,0)","v":15},null,1,17,20,null,-1,14,22,null,1,19,16,null,null,-4,4,-3,-8,3,null,4,0,3.5,6,0.5,null,null,{"$f":"AJ181","v":"ARI"},0,0.58024691358024694]
["2011-05-11",-1,15,20,null,null,19,15,null,1,18,20,null,1,15,22,null,1,20,16,null,null,-5,4,-2,-7,4,null,4.5,0,3,5.5,0,null,null,{"$f":"AJ182","v":"SFO"},8,0.53086419753086422]
["2011-05-12",-1,{"$f":"C44+IF(B45>0,B45,0)","v":15},{"$f":"D44-IF(B45<0,B45,0)","v":21},null,-1,{"$f":"G44+IF(F45>0,F45,0)","v":19},{"$f":"H44-IF(F45<0,F45,0)","v":16},null,null,{"$f":"K44+IF(J45>0,J45,0)","v":18},{"$f":"L44-IF(J45<0,J45,0)","v":20},null,null,{"$f":"O44+IF(N45>0,N45,0)","v":15},{"$f":"P44-IF(N45<0,N45,0)","v":22},null,1,{"$f":"S44+IF(R45>0,R45,0)","v":21},{"$f":"T44-IF(R45<0,R45,0)","v":16},null,null,-6,3,-2,-7,5,null,5.5,1,3.5,6,0,null,null,"LAD",11.5,0.50931677018633537]
["2011-05-13",-1,15,22,null,1,20,16,null,1,19,20,null,-1,15,23,null,-1,{"$f":"S45+IF(R46>0,R46,0)","v":21},{"$f":"T45-IF(R46<0,R46,0)","v":17},null,null,-7,4,-1,-8,4,null,5.5,0,2.5,6,0,null,null,"COL",21,0.45061728395061729]
["2011-05-14",1,16,22,null,-1,20,17,null,-1,19,21,null,1,16,23,null,1,22,17,null,null,-6,3,-2,-7,5,null,5.5,1,3.5,6,0,null,null,"SDP",23,0.43827160493827161]
["2011-05-15",1,17,22,null,-1,20,18,null,-1,19,22,null,1,17,23,null,null,22,17,null,null,-5,2,-3,-6,5,null,5,1.5,4,5.5,0]
["2011-05-16",-1,17,23,null,1,21,18,null,-1,19,23,null,1,18,23,null,-1,22,18,null,null,-6,3,-4,-5,4,null,5,0.5,4,4.5,0]
["2011-05-17",1,18,23,null,1,22,18,null,1,20,23,null,-1,18,24,null,-1,22,19,null,null,-5,4,-3,-6,3,null,4.5,0,3.5,5,0.5]
["2011-05-18",1,19,23,null,-1,22,19,null,-1,20,24,null,-1,18,25,null,1,23,19,null,null,-4,3,-4,-7,4,null,4,0.5,4,5.5,0]
["2011-05-19",1,20,23,null,1,23,19,null,-1,20,25,null,1,19,25,null,1,24,19,null,null,-3,4,-5,-6,5,null,4,0.5,5,5.5,0]
["2011-05-20",1,21,23,null,-1,23,20,null,1,21,25,null,-1,19,26,null,1,25,19,null,null,-2,3,-4,-7,6,null,4,1.5,5,6.5,0]
["2011-05-21",1,22,23,null,-1,23,21,null,-1,21,26,null,-1,19,27,null,1,26,19,null,null,-1,2,-5,-8,7,null,4,2.5,6,7.5,0]
["2011-05-22",1,23,23,null,-1,23,22,null,-1,21,27,null,-1,19,28,null,1,27,19,null,null,0,1,-6,-9,8,null,4,3.5,7,8.5,0]
["2011-05-23",null,{"$f":"C55+IF(B56>0,B56,0)","v":23},{"$f":"D55-IF(B56<0,B56,0)","v":23},null,null,23,22,null,-1,21,28,null,-1,19,29,null,null,27,19,null,null,0,1,-7,-10,8,null,4,3.5,7.5,9,0]
["2011-05-24",0,24,24,null,0,24,23,null,1,22,28,null,-1,19,30,null,-1,27,20,null,null,0,1,-6,-11,7,null,3.5,3,6.5,9,0]
["2011-05-25",1,25,24,null,-1,24,24,null,-1,22,29,null,1,20,30,null,-1,27,21,null,null,1,0,-7,-10,6,null,2.5,3,6.5,8,0]
["2011-05-26",1,26,24,null,-1,24,25,null,null,22,29,null,null,20,30,null,-1,27,22,null,null,2,-1,-7,-10,5,null,1.5,3,6,7.5,0]
["2011-05-27",1,27,24,null,-1,24,26,null,1,23,29,null,-1,20,31,null,1,28,22,null,null,3,-2,-6,-11,6,null,1.5,4,6,8.5,0]
["2011-05-28",1,28,24,null,1,25,26,null,-1,23,30,null,1,21,31,null,-1,28,23,null,null,4,-1,-7,-10,5,null,0.5,3,6,7.5,0]
["2011-05-29",1,29,24,null,-1,25,27,null,1,24,30,null,1,22,31,null,-1,28,24,null,null,5,-2,-6,-9,4,null,0,3.5,5.5,7,0.5]
["2011-05-30",1,30,24,null,-1,25,28,null,1,25,30,null,1,23,31,null,1,29,24,null,null,6,-3,-5,-8,5,null,0,4.5,5.5,7,0.5]
["2011-05-31",-1,30,25,null,-1,25,29,null,1,26,30,null,1,24,31,null,-1,29,25,null,null,5,-4,-4,-7,4,null,0,4.5,4.5,6,0.5]
["2011-06-01",1,31,25,null,1,26,29,null,-1,26,31,null,-1,24,32,null,1,30,25,null,null,6,-3,-5,-8,5,null,0,4.5,5.5,7,0.5]
["2011-06-02",-1,31,26,null,null,26,29,null,null,26,31,null,-1,24,33,null,1,31,25,null,null,5,-3,-5,-9,6,null,0.5,4.5,5.5,7.5,0]
["2011-06-03",1,32,26,null,-1,26,30,null,-1,26,32,null,1,25,33,null,1,32,25,null,null,{"$f":"C67-D67","v":6},{"$f":"G67-H67","v":-4},{"$f":"K67-L67","v":-6},{"$f":"O67-P67","v":-8},{"$f":"S67-T67","v":7},null,{"$f":"(MAX($W67:$AA67)-W67)/2","v":0.5},{"$f":"(MAX($W67:$AA67)-X67)/2","v":5.5},{"$f":"(MAX($W67:$AA67)-Y67)/2","v":6.5},{"$f":"(MAX($W67:$AA67)-Z67)/2","v":7.5},{"$f":"(MAX($W67:$AA67)-AA67)/2","v":0}]
["2011-06-04",1,33,26,null,1,27,30,null,1,27,32,null,1,26,33,null,-1,32,26,null,null,7,-3,-5,-7,6,null,0,5,6,7,0.5]
["2011-06-05",-1,33,27,null,-1,27,31,null,1,28,32,null,1,27,33,null,1,33,26,null,null,6,-4,-4,-6,7,null,0.5,5.5,5.5,6.5,0]
["2011-06-06",null,{"$f":"C69+IF(B70>0,B70,0)","v":33},{"$f":"D69-IF(B70<0,B70,0)","v":27},null,1,{"$f":"G69+IF(F70>0,F70,0)","v":28},{"$f":"H69-IF(F70<0,F70,0)","v":31},null,-1,28,33,null,-1,27,34,null,1,34,26,null,null,6,-3,-5,-7,8,null,1,5.5,6.5,7.5,0]
["2011-06-07",-1,{"$f":"C70+IF(B71>0,B71,0)","v":33},{"$f":"D70-IF(B71<0,B71,0)","v":28},null,-1,{"$f":"G70+IF(F71>0,F71,0)","v":28},{"$f":"H70-IF(F71<0,F71,0)","v":32},null,1,{"$f":"K70+IF(J71>0,J71,0)","v":29},{"$f":"L70-IF(J71<0,J71,0)","v":33},null,1,{"$f":"O70+IF(N71>0,N71,0)","v":28},{"$f":"P70-IF(N71<0,N71,0)","v":34},null,-1,34,27,null,null,5,-4,-4,-6,7,null,1,5.5,5.5,6.5,0]
["2011-06-08",-1,{"$f":"C71+IF(B72>0,B72,0)","v":33},{"$f":"D71-IF(B72<0,B72,0)","v":29},null,1,{"$f":"G71+IF(F72>0,F72,0)","v":29},{"$f":"H71-IF(F72<0,F72,0)","v":32},null,-1,29,34,null,-1,28,35,null,1,35,27,null,null,4,-3,-5,-7,8,null,2,5.5,6.5,7.5,0]
["2011-06-09",1,{"$f":"C72+IF(B73>0,B73,0)","v":34},{"$f":"D72-IF(B73<0,B73,0)","v":29},null,1,{"$f":"G72+IF(F73>0,F73,0)","v":30},{"$f":"H72-IF(F73<0,F73,0)","v":32},null,-1,29,35,null,1,29,35,null,-1,35,28,null,null,5,-2,-6,-6,7,null,1,4.5,6.5,6.5,0]
["2011-06-10",-1,34,30,null,1,31,32,null,-1,29,36,null,-1,29,36,null,1,36,28,null,null,4,-1,-7,-7,8,null,2,4.5,7.5,7.5,0]
["2011-06-11",1,35,30,null,-1,31,33,null,1,30,36,null,-1,29,37,null,-1,36,29,null,null,5,-2,-6,-8,7,null,1,4.5,6.5,7.5,0]
["2011-06-12",1,36,30,null,-1,31,34,null,1,31,36,null,-1,29,38,null,1,37,29,null,null,6,-3,-5,-9,8,null,1,5.5,6.5,8.5,0]
["2011-06-13",1,37,30,null,-1,31,35,null,-1,31,37,null,1,30,38,null,null,37,29,null,null,7,-4,-6,-8,8,null,0.5,6,7,8,0]
["2011-06-14",-1,37,31,null,1,32,35,null,-1,31,38,null,-1,30,39,null,1,{"$f":"S77+IF(R78>0,R78,0)","v":38},{"$f":"T77-IF(R78<0,R78,0)","v":29},null,null,6,-3,-7,-9,9,null,1.5,6,8,9,0]
["2011-06-15",-1,37,32,null,1,33,35,null,-1,31,39,null,-1,30,40,null,1,39,29,null,null,5,-2,-8,-10,10,null,2.5,6,9,10,0]
["2011-06-16",1,38,32,null,null,33,35,null,null,31,39,null,null,30,40,null,-1,39,30,null,null,6,-2,-8,-10,9,null,1.5,5.5,8.5,9.5,0]
["2011-06-17",1,39,32,null,1,34,35,null,-1,31,40,null,-1,30,41,null,-1,39,31,null,null,7,-1,-9,-11,8,null,0.5,4.5,8.5,9.5,0]
["2011-06-18",-1,39,33,null,1,35,35,null,-1,31,41,null,-1,30,42,null,-1,39,32,null,null,6,0,-10,-12,7,null,0.5,3.5,8.5,9.5,0]
["2011-06-19",-1,39,34,null,-1,35,36,null,1,32,41,null,-1,30,43,null,-1,39,33,null,null,5,-1,-9,-13,6,null,0.5,3.5,7.5,9.5,0]
["2011-06-20",null,39,34,null,1,36,36,null,1,33,41,null,-1,30,44,null,null,39,33,null,null,5,0,-8,-14,6,null,0.5,3,7,10,0]
["2011-06-21",1,40,34,null,1,37,36,null,1,34,41,null,1,31,44,null,-1,39,34,null,null,6,1,-7,-13,5,null,0,2.5,6.5,9.5,0.5]
["2011-06-22",1,41,34,null,-1,{"$f":"G85+IF(F86>0,F86,0)","v":37},{"$f":"H85-IF(F86<0,F86,0)","v":37},null,-1,34,42,null,1,32,44,null,1,40,34,null,null,7,0,-8,-12,6,null,0,3.5,7.5,9.5,0.5]
["2011-06-23",1,42,34,null,null,37,37,null,null,34,42,null,null,32,44,null,1,41,34,null,null,8,0,-8,-12,7,null,0,4,8,10,0.5]
["2011-06-24",1,43,34,null,1,38,37,null,-1,34,43,null,1,33,44,null,1,{"$f":"S87+IF(R88>0,R88,0)","v":42},{"$f":"T87-IF(R88<0,R88,0)","v":34},null,null,9,1,-9,-11,8,null,0,4,9,10,0.5]
["2011-06-25",-1,43,35,null,-1,38,38,null,-1,34,44,null,-1,33,45,null,1,43,34,null,null,8,0,-10,-12,9,null,0.5,4.5,9.5,10.5,0]
["2011-06-26",-1,43,36,null,-1,38,39,null,1,35,44,null,1,34,45,null,1,44,34,null,null,7,-1,-9,-11,10,null,1.5,5.5,9.5,10.5,0]
["2011-06-27",-1,43,37,null,-1,38,40,null,1,36,44,null,1,35,45,null,null,44,34,null,null,6,-2,-8,-10,10,null,2,6,9,10,0]
["2011-06-28",1,44,37,null,1,39,40,null,-1,36,45,null,1,36,45,null,2,46,34,null,null,7,-1,-9,-9,12,null,2.5,6.5,10.5,10.5,0]
["2011-06-29",-1,44,38,null,-1,39,41,null,-1,36,46,null,1,37,45,null,-1,46,35,null,null,6,-2,-10,-8,11,null,2.5,6.5,10.5,9.5,0]
["2011-06-30",null,44,38,null,-1,39,42,null,null,36,46,null,null,37,45,null,-1,46,36,null,null,6,-3,-10,-8,10,null,2,6.5,10,9,0]
["2011-07-01",-1,44,39,null,1,40,42,null,1,37,46,null,-1,37,46,null,1,47,36,null,null,5,-2,-9,-9,11,null,3,6.5,10,10,0]
["2011-07-02",1,45,39,null,1,41,42,null,-1,37,47,null,1,38,46,null,1,{"$f":"S95+IF(R96>0,R96,0)","v":48},{"$f":"T95-IF(R96<0,R96,0)","v":36},null,null,6,-1,-10,-8,12,null,3,6.5,11,10,0]
["2011-07-03",-1,45,40,null,-1,41,43,null,-1,37,48,null,-1,38,47,null,-1,48,37,null,null,5,-2,-11,-9,11,null,3,6.5,11,10,0]
["2011-07-04",1,46,40,null,-1,41,44,null,-1,37,49,null,1,39,47,null,-1,48,38,null,null,6,-3,-12,-8,10,null,2,6.5,11,9,0]
["2011-07-05",1,47,40,null,-1,41,45,null,-1,37,50,null,1,40,47,null,-1,48,39,null,null,{"$f":"C99-D99","v":7},{"$f":"G99-H99","v":-4},{"$f":"K99-L99","v":-13},{"$f":"O99-P99","v":-7},{"$f":"S99-T99","v":9},null,{"$f":"(MAX($W99:$AA99)-W99)/2","v":1},{"$f":"(MAX($W99:$AA99)-X99)/2","v":6.5},{"$f":"(MAX($W99:$AA99)-Y99)/2","v":11},{"$f":"(MAX($W99:$AA99)-Z99)/2","v":8},{"$f":"(MAX($W99:$AA99)-AA99)/2","v":0}]
["2011-07-06",-1,{"$f":"C99+IF(B100>0,B100,0)","v":47},{"$f":"D99-IF(B100<0,B100,0)","v":41},null,-1,41,46,null,-1,37,51,null,-1,40,48,null,1,49,39,null,null,6,-5,-14,-8,10,null,2,7.5,12,9,0]
["2011-07-07",1,48,41,null,-1,41,47,null,1,38,51,null,-1,40,49,null,1,50,39,null,null,7,-6,-13,-9,11,null,2,8.5,12,10,0]
["2011-07-08",1,49,41,null,1,42,47,null,1,39,51,null,-1,40,50,null,-1,50,40,null,null,8,-5,-12,-10,10,null,1,7.5,11,10,0]
["2011-07-09",-1,{"$f":"C102+IF(B103>0,B103,0)","v":49},{"$f":"D102-IF(B103<0,B103,0)","v":42},null,1,{"$f":"G102+IF(F103>0,F103,0)","v":43},{"$f":"H102-IF(F103<0,F103,0)","v":47},null,1,{"$f":"K102+IF(J103>0,J103,0)","v":40},{"$f":"L102-IF(J103<0,J103,0)","v":51},null,-1,{"$f":"O102+IF(N103>0,N103,0)","v":40},{"$f":"P102-IF(N103<0,N103,0)","v":51},null,1,51,40,null,null,7,-4,-11,-11,11,null,2,7.5,11,11,0]
["2011-07-10",-1,49,43,null,-1,43,48,null,1,41,51,null,-1,40,52,null,1,52,40,null,null,6,-5,-10,-12,12,null,3,8.5,11,12,0]
["2011-07-11",null,49,43,null,null,43,48,null,null,41,51,null,null,40,52,null,null,52,40,null,null,6,-5,-10,-12,12,null,3,8.5,11,12,0]
["2011-07-12",null,49,43,null,null,43,48,null,null,41,51,null,null,40,52,null,null,52,40,null,null,6,-5,-10,-12,12,null,3,8.5,11,12,0]
["2011-07-13",null,49,43,null,null,43,48,null,null,41,51,null,null,40,52,null,null,52,40,null,null,6,-5,-10,-12,12,null,3,8.5,11,12,0]
["2011-07-14",null,49,43,null,1,44,48,null,null,41,51,null,-1,40,53,null,1,53,40,null,null,6,-4,-10,-13,13,null,3.5,8.5,11.5,13,0]
["2011-07-15",-1,49,44,null,1,45,48,null,1,42,51,null,-1,40,54,null,1,54,40,null,null,5,-3,-9,-14,14,null,4.5,8.5,11.5,14,0]
["2011-07-16",1,50,44,null,-1,45,49,null,-1,42,52,null,1,41,54,null,-1,{"$f":"S109+IF(R110>0,R110,0)","v":54},{"$f":"T109-IF(R110<0,R110,0)","v":41},null,null,6,-4,-10,-13,13,null,3.5,8.5,11.5,13,0]
["2011-07-17",1,51,44,null,-1,45,50,null,-1,42,53,null,-1,41,55,null,1,55,41,null,null,7,-5,-11,-14,14,null,3.5,9.5,12.5,14,0]
["2011-07-18",1,52,44,null,-1,45,51,null,-1,42,54,null,null,41,55,null,1,56,41,null,null,8,-6,-12,-14,15,null,3.5,10.5,13.5,14.5,0]
["2011-07-19",-1,52,45,null,1,46,51,null,-1,42,55,null,1,42,55,null,1,57,41,null,null,7,-5,-13,-13,16,null,4.5,10.5,14.5,14.5,0]
["2011-07-20",-1,52,46,null,1,47,51,null,1,43,55,null,1,43,55,null,-1,57,42,null,null,6,-4,-12,-12,15,null,4.5,9.5,13.5,13.5,0]
["2011-07-21",1,53,46,null,-1,47,52,null,null,43,55,null,1,44,55,null,null,57,42,null,null,7,-5,-12,-11,15,null,4,10,13.5,13,0]
["2011-07-22",-1,53,47,null,1,48,52,null,-1,43,56,null,-1,44,56,null,-1,57,43,null,null,6,-4,-13,-12,14,null,4,9,13.5,13,0]
["2011-07-23",1,54,47,null,-1,48,53,null,1,44,56,null,-1,44,57,null,1,58,43,null,null,7,-5,-12,-13,15,null,4,10,13.5,14,0]
["2011-07-24",1,55,47,null,-1,48,54,null,1,45,56,null,-1,44,58,null,1,59,43,null,null,8,-6,-11,-14,16,null,4,11,13.5,15,0]
["2011-07-25",null,55,47,null,-1,48,55,null,1,46,56,null,1,45,58,null,null,59,43,null,null,8,-7,-10,-13,16,null,4,11.5,13,14.5,0]
["2011-07-26",1,56,47,null,-1,48,56,null,1,47,56,null,-1,45,59,null,-1,59,44,null,null,9,-8,-9,-14,15,null,3,11.5,12,14.5,0]
["2011-07-27",1,57,47,null,1,49,56,null,-1,47,57,null,-1,45,60,null,1,60,44,null,null,10,-7,-10,-15,16,null,3,11.5,13,15.5,0]
["2011-07-28",-1,57,48,null,null,49,56,null,null,47,57,null,1,46,60,null,1,61,44,null,null,9,-7,-10,-14,17,null,4,12,13.5,15.5,0]
["2011-07-29",-1,57,49,null,1,50,56,null,1,48,57,null,-1,46,61,null,-1,61,45,null,null,8,-6,-9,-15,16,null,4,11,12.5,15.5,0]
["2011-07-30",1,58,49,null,1,51,56,null,-1,48,58,null,-1,46,62,null,-1,61,46,null,null,9,-5,-10,-16,15,null,3,10,12.5,15.5,0]
["2011-07-31",1,59,49,null,-1,51,57,null,-1,48,59,null,1,47,62,null,-1,61,47,null,null,10,-6,-11,-15,14,null,2,10,12.5,14.5,0]
["2011-08-01",1,60,49,null,-1,51,58,null,1,49,59,null,-1,47,63,null,-1,61,48,null,null,11,-7,-10,-16,13,null,1,10,11.5,14.5,0]
["2011-08-02",1,61,49,null,-1,51,59,null,1,50,59,null,-1,47,64,null,-1,61,49,null,null,12,-8,-9,-17,12,null,0,10,10.5,14.5,0]
["2011-08-03",-1,61,50,null,-1,51,60,null,-1,50,60,null,1,48,64,null,1,62,49,null,null,11,-9,-10,-16,13,null,1,11,11.5,14.5,0]
["2011-08-04",null,61,50,null,1,52,60,null,null,50,60,null,null,48,64,null,-1,62,50,null,null,11,-8,-10,-16,12,null,0.5,10,11,14,0]
["2011-08-05",-1,61,51,null,-1,52,61,null,1,51,60,null,1,49,64,null,-1,62,51,null,null,10,-9,-9,-15,11,null,0.5,10,10,13,0]
["2011-08-06",-1,61,52,null,1,53,61,null,1,52,60,null,1,50,64,null,-1,62,52,null,null,{"$f":"C131-D131","v":9},{"$f":"G131-H131","v":-8},{"$f":"K131-L131","v":-8},{"$f":"O131-P131","v":-14},{"$f":"S131-T131","v":10},null,{"$f":"(MAX($W131:$AA131)-W131)/2","v":0.5},{"$f":"(MAX($W131:$AA131)-X131)/2","v":9},{"$f":"(MAX($W131:$AA131)-Y131)/2","v":9},{"$f":"(MAX($W131:$AA131)-Z131)/2","v":12},{"$f":"(MAX($W131:$AA131)-AA131)/2","v":0}]
["2011-08-07",1,62,52,null,-1,53,62,null,-1,52,61,null,1,51,64,null,1,63,52,null,null,10,-9,-9,-13,11,null,0.5,10,10,12,0]
["2011-08-08",-1,62,53,null,1,54,62,null,-1,52,62,null,-1,51,65,null,-1,63,53,null,null,9,-8,-10,-14,10,null,0.5,9,10,12,0]
["2011-08-09",1,63,53,null,1,55,62,null,-1,52,63,null,-1,51,66,null,1,64,53,null,null,10,-7,-11,-15,11,null,0.5,9,11,13,0]
["2011-08-10",1,{"$f":"C134+IF(B135>0,B135,0)","v":64},{"$f":"D134-IF(B135<0,B135,0)","v":53},null,-1,{"$f":"G134+IF(F135>0,F135,0)","v":55},{"$f":"H134-IF(F135<0,F135,0)","v":63},null,-1,{"$f":"K134+IF(J135>0,J135,0)","v":52},{"$f":"L134-IF(J135<0,J135,0)","v":64},null,1,{"$f":"O134+IF(N135>0,N135,0)","v":52},{"$f":"P134-IF(N135<0,N135,0)","v":66},null,-1,64,54,null,null,11,-8,-12,-14,10,null,0,9.5,11.5,12.5,0.5]
["2011-08-11",1,65,53,null,-1,55,64,null,null,52,64,null,1,53,66,null,null,64,54,null,null,12,-9,-12,-13,10,null,0,10.5,12,12.5,1]
["2011-08-12",1,66,53,null,-1,55,65,null,1,53,64,null,-1,53,67,null,-1,64,55,null,null,13,-10,-11,-14,9,null,0,11.5,12,13.5,2]
["2011-08-13",1,67,53,null,1,56,65,null,1,54,64,null,-1,53,68,null,1,65,55,null,null,14,-9,-10,-15,10,null,0,11.5,12,14.5,2]
["2011-08-14",1,68,53,null,-1,56,66,null,1,55,64,null,1,54,68,null,1,66,55,null,null,15,-10,-9,-14,11,null,0,12.5,12,14.5,2]
["2011-08-15",null,68,53,null,1,57,66,null,-1,55,65,null,-1,54,69,null,-1,66,56,null,null,15,-9,-10,-15,10,null,0,12,12.5,15,2.5]
["2011-08-16",1,69,53,null,-1,57,67,null,-1,55,66,null,1,55,69,null,-1,66,57,null,null,16,-10,-11,-14,9,null,0,13,13.5,15,3.5]
["2011-08-17",-1,69,54,null,1,58,67,null,-1,55,67,null,-1,55,70,null,1,{"$f":"S141+IF(R142>0,R142,0)","v":67},{"$f":"T141-IF(R142<0,R142,0)","v":57},null,null,15,-9,-12,-15,10,null,0,12,13.5,15,2.5]
["2011-08-18",-1,69,55,null,null,58,67,null,1,56,67,null,1,56,70,null,-1,67,58,null,null,14,-9,-11,-14,9,null,0,11.5,12.5,14,2.5]
["2011-08-19",-1,69,56,null,-1,58,68,null,1,57,67,null,1,57,70,null,-1,67,59,null,null,13,-10,-10,-13,8,null,0,11.5,11.5,13,2.5]
["2011-08-20",-1,69,57,null,1,59,68,null,-1,57,68,null,1,58,70,null,-1,67,60,null,null,12,-9,-11,-12,7,null,0,10.5,11.5,12,2.5]
["2011-08-21",-1,69,58,null,1,60,68,null,-1,57,69,null,1,59,70,null,1,68,60,null,null,11,-8,-12,-11,8,null,0,9.5,11.5,11,1.5]
["2011-08-22",-1,69,59,null,1,61,68,null,1,58,69,null,null,{"$f":"O146+IF(N147>0,N147,0)","v":59},{"$f":"P146-IF(N147<0,N147,0)","v":70},null,null,{"$f":"S146+IF(R147>0,R147,0)","v":68},{"$f":"T146-IF(R147<0,R147,0)","v":60},null,null,10,-7,-11,-11,8,null,0,8.5,10.5,10.5,1]
["2011-08-23",1,70,59,null,1,62,68,null,1,59,69,null,1,60,70,null,-1,68,61,null,null,11,-6,-10,-10,7,null,0,8.5,10.5,10.5,2]
["2011-08-24",1,71,59,null,1,{"$f":"G148+IF(F149>0,F149,0)","v":63},{"$f":"H148-IF(F149<0,F149,0)","v":68},null,1,60,69,null,-1,60,71,null,1,69,61,null,null,12,-5,-9,-11,8,null,0,8.5,10.5,11.5,2]
["2011-08-25",1,72,59,null,null,63,68,null,null,60,69,null,null,60,71,null,-1,69,62,null,null,13,-5,-9,-11,7,null,0,9,11,12,3]
["2011-08-26",1,73,59,null,-1,63,69,null,1,61,69,null,-1,60,72,null,1,70,62,null,null,14,-6,-8,-12,8,null,0,10,11,13,3]
["2011-08-27",1,74,59,null,-1,63,70,null,1,62,69,null,-1,60,73,null,1,71,62,null,null,15,-7,-7,-13,9,null,0,11,11,14,3]
["2011-08-28",1,75,59,null,1,64,70,null,-1,62,70,null,-1,60,74,null,-1,71,63,null,null,16,-6,-8,-14,8,null,0,11,12,15,4]
["2011-08-29",1,76,59,null,-1,64,71,null,1,63,70,null,-1,60,75,null,-1,71,64,null,null,17,-7,-7,-15,7,null,0,12,12,16,5]
["2011-08-30",1,{"$f":"C154+IF(B155>0,B155,0)","v":77},{"$f":"D154-IF(B155<0,B155,0)","v":59},null,-1,64,72,null,1,64,70,null,-1,60,76,null,-1,71,65,null,null,18,-8,-6,-16,6,null,0,13,12,17,6]
["2011-08-31",1,78,59,null,-1,64,73,null,1,65,70,null,-1,60,77,null,1,72,65,null,null,19,-9,-5,-17,7,null,0,14,12,18,6]
["2011-09-01",null,78,59,null,null,{"$f":"G156+IF(F157>0,F157,0)","v":64},{"$f":"H156-IF(F157<0,F157,0)","v":73},null,1,66,70,null,null,60,77,null,null,72,65,null,null,19,-9,-4,-17,7,null,0,14,11.5,18,6]
["2011-09-02",-1,78,60,null,1,65,73,null,1,67,70,null,-1,60,78,null,1,73,65,null,null,18,-8,-3,-18,8,null,0,13,10.5,18,5]
["2011-09-03",1,79,60,null,1,66,73,null,1,68,70,null,-1,60,79,null,-1,73,66,null,null,19,-7,-2,-19,7,null,0,13,10.5,19,6]
["2011-09-04",1,80,60,null,-1,66,74,null,-1,68,71,null,1,61,79,null,-1,73,67,null,null,20,-8,-3,-18,6,null,0,14,11.5,19,7]
["2011-09-05",1,81,60,null,-1,66,75,null,-1,68,72,null,-1,61,80,null,1,74,67,null,null,21,-9,-4,-19,7,null,0,15,12.5,20,7]
["2011-09-06",-1,81,61,null,1,67,75,null,1,69,72,null,-1,61,81,null,1,75,67,null,null,20,-8,-3,-20,8,null,0,14,11.5,20,6]
["2011-09-07",1,82,61,null,-1,67,76,null,null,69,72,null,1,62,81,null,-1,75,68,null,null,{"$f":"C163-D163","v":21},{"$f":"G163-H163","v":-9},{"$f":"K163-L163","v":-3},{"$f":"O163-P163","v":-19},{"$f":"S163-T163","v":7},null,{"$f":"(MAX($W163:$AA163)-W163)/2","v":0},{"$f":"(MAX($W163:$AA163)-X163)/2","v":15},{"$f":"(MAX($W163:$AA163)-Y163)/2","v":12},{"$f":"(MAX($W163:$AA163)-Z163)/2","v":20},{"$f":"(MAX($W163:$AA163)-AA163)/2","v":7}]
["2011-09-08",1,83,61,null,null,67,76,null,1,70,72,null,-1,62,82,null,null,75,68,null,null,22,-9,-2,-20,7,null,0,15.5,12,21,7.5]
["2011-09-09",1,84,61,null,-1,67,77,null,1,{"$f":"K164+IF(J165>0,J165,0)","v":71},{"$f":"L164-IF(J165<0,J165,0)","v":72},null,-1,62,83,null,-1,{"$f":"S164+IF(R165>0,R165,0)","v":75},{"$f":"T164-IF(R165<0,R165,0)","v":69},null,null,23,-10,-1,-21,6,null,0,16.5,12,22,8.5]
["2011-09-10",1,{"$f":"C165+IF(B166>0,B166,0)","v":85},{"$f":"D165-IF(B166<0,B166,0)","v":61},null,1,68,77,null,1,72,72,null,-1,62,84,null,-1,75,70,null,null,24,-9,0,-22,5,null,0,16.5,12,23,9.5]
["2011-09-11",-1,85,62,null,1,{"$f":"G166+IF(F167>0,F167,0)","v":69},{"$f":"H166-IF(F167<0,F167,0)","v":77},null,-1,72,73,null,1,{"$f":"O166+IF(N167>0,N167,0)","v":63},{"$f":"P166-IF(N167<0,N167,0)","v":84},null,1,76,70,null,null,23,-8,-1,-21,6,null,0,15.5,12,22,8.5]
["2011-09-12",1,86,62,null,null,69,77,null,-1,72,74,null,-1,63,85,null,1,77,70,null,null,24,-8,-2,-22,7,null,0,16,13,23,8.5]
["2011-09-13",1,87,62,null,-1,69,78,null,-1,72,75,null,-1,63,86,null,1,78,70,null,null,25,-9,-3,-23,8,null,0,17,14,24,8.5]
["2011-09-14",-1,87,63,null,1,70,78,null,1,73,75,null,-1,63,87,null,1,79,70,null,null,24,-8,-2,-24,9,null,0,16,13,24,7.5]
["2011-09-15",null,87,63,null,-1,70,79,null,-1,73,76,null,null,63,87,null,1,80,70,null,null,24,-9,-3,-24,10,null,0,16.5,13.5,24,7]
["2011-09-16",-1,87,64,null,-1,70,80,null,1,74,76,null,1,64,87,null,1,81,70,null,null,23,-10,-2,-23,11,null,0,16.5,12.5,23,6]
["2011-09-17",-1,87,65,null,-1,70,81,null,1,75,76,null,1,65,87,null,1,82,70,null,null,22,-11,-1,-22,12,null,0,16.5,11.5,22,5]
["2011-09-18",1,88,65,null,-1,70,82,null,1,76,76,null,-1,65,88,null,1,83,70,null,null,23,-12,0,-23,13,null,0,17.5,11.5,23,5]
["2011-09-19",1,89,65,null,-1,70,83,null,null,76,76,null,1,66,88,null,null,83,70,null,null,24,-13,0,-22,13,null,0,18.5,12,23,5.5]
["2011-09-20",-1,{"$f":"C175+IF(B176>0,B176,0)","v":89},{"$f":"D175-IF(B176<0,B176,0)","v":66},null,-1,70,84,null,1,77,76,null,1,67,88,null,-1,83,71,null,null,23,-14,1,-21,12,null,0,18.5,11,22,5.5]
["2011-09-21",1,90,66,null,-1,70,85,null,-1,77,77,null,1,68,88,null,1,84,71,null,null,24,-15,0,-20,13,null,0,19.5,12,22,5.5]
["2011-09-22",null,90,66,null,-1,70,86,null,1,78,77,null,null,68,88,null,-1,84,72,null,null,24,-16,1,-20,12,null,0,20,11.5,22,6]
["2011-09-23",1,91,66,null,-1,70,87,null,1,79,77,null,-1,68,89,null,-1,84,73,null,null,25,-17,2,-21,11,null,0,21,11.5,23,7]
["2011-09-24",1,92,66,null,1,71,87,null,-1,79,78,null,1,69,89,null,-1,84,74,null,null,26,-16,1,-20,10,null,0,21,12.5,23,8,null,null,"Team","GB","%"]
["2011-09-25",1,93,66,null,1,72,87,null,1,80,78,null,-1,69,90,null,-1,84,75,null,null,27,-15,2,-21,9,null,0,21,12.5,24,9,null,null,{"$f":"AC$1","v":"ARI"},{"$f":"AC$185","v":0},{"$f":"AC$187","v":0.58024691358024694}]
["2011-09-26",-1,93,67,null,-1,72,88,null,1,81,78,null,1,70,90,null,1,85,75,null,null,26,-16,3,-20,10,null,0,21,11.5,23,8,null,null,{"$f":"AG$1","v":"SFO"},{"$f":"AG$185","v":8},{"$f":"AG$187","v":0.53086419753086422}]
["2011-09-27",1,94,67,null,-1,72,89,null,-1,81,79,null,-1,70,91,null,1,86,75,null,null,27,-17,2,-21,11,null,0,22,12.5,24,8,null,null,{"$f":"AE$1","v":"LAD"},{"$f":"AE$185","v":11.5},{"$f":"AE$187","v":0.50931677018633537}]
["2011-09-28",-1,94,68,null,1,73,89,null,1,82,79,null,1,71,91,null,-1,86,76,null,null,26,-16,3,-20,10,null,0,21,11.5,23,8,null,null,{"$f":"AD$1","v":"COL"},{"$f":"AD$185","v":21},{"$f":"AD$187","v":0.45061728395061729}]
["2011-09-29",null,94,68,null,null,73,89,null,null,82,79,null,null,71,91,null,null,86,76,null,null,26,-16,3,-20,10,null,0,21,11.5,23,8,null,null,{"$f":"AF$1","v":"SDP"},{"$f":"AF$185","v":23},{"$f":"AF$187","v":0.43827160493827161}]
[]
[null,null,null,null,null,null,null,null,null,null,null,null,null,null,null,null,null,null,null,null,null,null,null,null,null,null,null,null,{"$f":"C185/(C185+D185)","v":0.58024691358024694},{"$f":"G185/(G185+H185)","v":0.45061728395061729},{"$f":"K185/(K185+L185)","v":0.50931677018633537},{"$f":"O185/(O185+P185)","v":0.43827160493827161},{"$f":"S185/(S185+T185)","v":0.53086419753086422}]