{"text_format":"1","workbook":"xlsx","n_sheets":2,"sheets":["Chart","NLE11"],"not_rendered":{"charts":2,"images":0,"macros":1,"external_links":0,"defined_names":1,"comments":0,"pivot_tables":0},"unopened":[],"bounds":{"document_bytes":16777216,"sheet_cells":100000,"rows_first":2000,"rows_last":500,"rows_between":2000,"halvings":0,"cell_chars":16384,"cell_head_chars":4096},"cells_cut":0,"cells_raw":0,"read":"whole","date_system":"1900"}

{"sheet":"Chart","index":0,"n_rows":38,"n_cols":6,"rows_kept":38,"cut":false,"hidden":false,"merged":[]}
[" "]
[null,{"$f":"'NLE11'!AJ181","v":"PHI"},{"$f":"'NLE11'!AK181","v":0},{"$f":"'NLE11'!AL181","v":0.62962962962962965}]
[null,{"$f":"'NLE11'!AJ182","v":"ATL"},{"$f":"'NLE11'!AK182","v":13},{"$f":"'NLE11'!AL182","v":0.54938271604938271}]
[null,{"$f":"'NLE11'!AJ183","v":"WSH"},{"$f":"'NLE11'!AK183","v":21.5},{"$f":"'NLE11'!AL183","v":0.49689440993788819}]
[null,{"$f":"'NLE11'!AJ184","v":"NYM"},{"$f":"'NLE11'!AK184","v":25},{"$f":"'NLE11'!AL184","v":0.47530864197530864}]
[null,{"$f":"'NLE11'!AJ185","v":"FLA"},{"$f":"'NLE11'!AK185","v":30},{"$f":"'NLE11'!AL185","v":0.44444444444444442}]
[]
[]
[]
[]
[null,"MLB.mobi Scores"]
[]
[]
[null,"PHP Results"]
[]
[]
[null,"HTML Results"]
[]
[]
[]
[]
[]
[]
[]
[]
[]
[]
[]
[]
[]
[]
[]
[]
[]
[]
[]
[]
[null,null,null,null,null,"Note: You must enable macros for this workbook to update correctly"]

{"sheet":"NLE11","index":1,"n_rows":187,"n_cols":38,"rows_kept":187,"cut":false,"hidden":false,"merged":[]}
["NLE11","ATL","W","L",null,"FLA","W","L",null,"NYM","W","L",null,"PHI","W","L",null,"WSH","W","L",null,null,{"$f":"B1","v":"ATL"},{"$f":"F1","v":"FLA"},{"$f":"J1","v":"NYM"},{"$f":"N1","v":"PHI"},{"$f":"R1","v":"WSH"},null,{"$f":"W1","v":"ATL"},{"$f":"X1","v":"FLA"},{"$f":"Y1","v":"NYM"},{"$f":"Z1","v":"PHI"},{"$f":"AA1","v":"WSH"}]
["2011-03-30",null,0,0,null,null,0,0,null,null,0,0,null,null,0,0,null,null,0,0,null,null,0,0,0,0,0,null,0,0,0,0,0]
["2011-03-31",1,{"$f":"C2+IF(B3>0,B3,0)","v":1},{"$f":"D2-IF(B3<0,B3,0)","v":0},null,null,{"$f":"G2+IF(F3>0,F3,0)","v":0},{"$f":"H2-IF(F3<0,F3,0)","v":0},null,null,{"$f":"K2+IF(J3>0,J3,0)","v":0},{"$f":"L2-IF(J3<0,J3,0)","v":0},null,null,{"$f":"O2+IF(N3>0,N3,0)","v":0},{"$f":"P2-IF(N3<0,N3,0)","v":0},null,-1,{"$f":"S2+IF(R3>0,R3,0)","v":0},{"$f":"T2-IF(R3<0,R3,0)","v":1},null,null,{"$f":"C3-D3","v":1},{"$f":"G3-H3","v":0},{"$f":"K3-L3","v":0},{"$f":"O3-P3","v":0},{"$f":"S3-T3","v":-1},null,{"$f":"(MAX($W3:$AA3)-W3)/2","v":0},{"$f":"(MAX($W3:$AA3)-X3)/2","v":0.5},{"$f":"(MAX($W3:$AA3)-Y3)/2","v":0.5},{"$f":"(MAX($W3:$AA3)-Z3)/2","v":0.5},{"$f":"(MAX($W3:$AA3)-AA3)/2","v":1}]
["2011-04-01",null,1,0,null,1,1,0,null,-1,0,1,null,1,1,0,null,null,0,1,null,null,{"$f":"C4-D4","v":1},{"$f":"G4-H4","v":1},{"$f":"K4-L4","v":-1},{"$f":"O4-P4","v":1},{"$f":"S4-T4","v":-1},null,{"$f":"(MAX($W4:$AA4)-W4)/2","v":0},{"$f":"(MAX($W4:$AA4)-X4)/2","v":0},{"$f":"(MAX($W4:$AA4)-Y4)/2","v":1},{"$f":"(MAX($W4:$AA4)-Z4)/2","v":0},{"$f":"(MAX($W4:$AA4)-AA4)/2","v":1}]
["2011-04-02",-1,1,1,null,-1,1,1,null,1,1,1,null,1,2,0,null,1,1,1,null,null,{"$f":"C5-D5","v":0},{"$f":"G5-H5","v":0},{"$f":"K5-L5","v":0},{"$f":"O5-P5","v":2},{"$f":"S5-T5","v":0},null,{"$f":"(MAX($W5:$AA5)-W5)/2","v":1},{"$f":"(MAX($W5:$AA5)-X5)/2","v":1},{"$f":"(MAX($W5:$AA5)-Y5)/2","v":1},{"$f":"(MAX($W5:$AA5)-Z5)/2","v":0},{"$f":"(MAX($W5:$AA5)-AA5)/2","v":1}]
["2011-04-03",1,2,1,null,-1,1,2,null,1,2,1,null,1,3,0,null,-1,1,2,null,null,{"$f":"C6-D6","v":1},{"$f":"G6-H6","v":-1},{"$f":"K6-L6","v":1},{"$f":"O6-P6","v":3},{"$f":"S6-T6","v":-1},null,{"$f":"(MAX($W6:$AA6)-W6)/2","v":1},{"$f":"(MAX($W6:$AA6)-X6)/2","v":2},{"$f":"(MAX($W6:$AA6)-Y6)/2","v":1},{"$f":"(MAX($W6:$AA6)-Z6)/2","v":0},{"$f":"(MAX($W6:$AA6)-AA6)/2","v":2}]
["2011-04-04",1,3,1,null,null,1,2,null,null,2,1,null,null,3,0,null,null,1,2,null,null,{"$f":"C7-D7","v":2},{"$f":"G7-H7","v":-1},{"$f":"K7-L7","v":1},{"$f":"O7-P7","v":3},{"$f":"S7-T7","v":-1},null,{"$f":"(MAX($W7:$AA7)-W7)/2","v":0.5},{"$f":"(MAX($W7:$AA7)-X7)/2","v":2},{"$f":"(MAX($W7:$AA7)-Y7)/2","v":1},{"$f":"(MAX($W7:$AA7)-Z7)/2","v":0},{"$f":"(MAX($W7:$AA7)-AA7)/2","v":2}]
["2011-04-05",-1,3,2,null,1,2,2,null,1,3,1,null,-1,3,1,null,-1,1,3,null,null,{"$f":"C8-D8","v":1},{"$f":"G8-H8","v":0},{"$f":"K8-L8","v":2},{"$f":"O8-P8","v":2},{"$f":"S8-T8","v":-2},null,{"$f":"(MAX($W8:$AA8)-W8)/2","v":0.5},{"$f":"(MAX($W8:$AA8)-X8)/2","v":1},{"$f":"(MAX($W8:$AA8)-Y8)/2","v":0},{"$f":"(MAX($W8:$AA8)-Z8)/2","v":0},{"$f":"(MAX($W8:$AA8)-AA8)/2","v":2}]
["2011-04-06",-1,3,3,null,1,3,2,null,-1,3,2,null,1,{"$f":"O8+IF(N9>0,N9,0)","v":4},1,null,-1,1,4,null,null,{"$f":"C9-D9","v":0},{"$f":"G9-H9","v":1},{"$f":"K9-L9","v":1},{"$f":"O9-P9","v":3},{"$f":"S9-T9","v":-3},null,{"$f":"(MAX($W9:$AA9)-W9)/2","v":1.5},{"$f":"(MAX($W9:$AA9)-X9)/2","v":1},{"$f":"(MAX($W9:$AA9)-Y9)/2","v":1},{"$f":"(MAX($W9:$AA9)-Z9)/2","v":0},{"$f":"(MAX($W9:$AA9)-AA9)/2","v":3}]
["2011-04-07",-1,3,4,null,-1,3,3,null,-1,3,3,null,1,5,1,null,1,2,4,null,null,{"$f":"C10-D10","v":-1},{"$f":"G10-H10","v":0},{"$f":"K10-L10","v":0},{"$f":"O10-P10","v":4},{"$f":"S10-T10","v":-2},null,{"$f":"(MAX($W10:$AA10)-W10)/2","v":2.5},{"$f":"(MAX($W10:$AA10)-X10)/2","v":2},{"$f":"(MAX($W10:$AA10)-Y10)/2","v":2},{"$f":"(MAX($W10:$AA10)-Z10)/2","v":0},{"$f":"(MAX($W10:$AA10)-AA10)/2","v":3}]
["2011-04-08",1,4,4,null,1,4,3,null,-1,3,4,null,-1,5,2,null,1,3,4,null,null,{"$f":"C11-D11","v":0},{"$f":"G11-H11","v":1},{"$f":"K11-L11","v":-1},{"$f":"O11-P11","v":3},{"$f":"S11-T11","v":-1},null,{"$f":"(MAX($W11:$AA11)-W11)/2","v":1.5},{"$f":"(MAX($W11:$AA11)-X11)/2","v":1},{"$f":"(MAX($W11:$AA11)-Y11)/2","v":2},{"$f":"(MAX($W11:$AA11)-Z11)/2","v":0},{"$f":"(MAX($W11:$AA11)-AA11)/2","v":2}]
["2011-04-09",-1,4,5,null,1,5,3,null,1,4,4,null,1,6,2,null,-1,3,5,null,null,{"$f":"C12-D12","v":-1},{"$f":"G12-H12","v":2},{"$f":"K12-L12","v":0},{"$f":"O12-P12","v":4},{"$f":"S12-T12","v":-2},null,{"$f":"(MAX($W12:$AA12)-W12)/2","v":2.5},{"$f":"(MAX($W12:$AA12)-X12)/2","v":1},{"$f":"(MAX($W12:$AA12)-Y12)/2","v":2},{"$f":"(MAX($W12:$AA12)-Z12)/2","v":0},{"$f":"(MAX($W12:$AA12)-AA12)/2","v":3}]
["2011-04-10",-1,4,6,null,-1,5,4,null,-1,4,5,null,1,7,2,null,1,4,5,null,null,{"$f":"C13-D13","v":-2},{"$f":"G13-H13","v":1},{"$f":"K13-L13","v":-1},{"$f":"O13-P13","v":5},{"$f":"S13-T13","v":-1},null,{"$f":"(MAX($W13:$AA13)-W13)/2","v":3.5},{"$f":"(MAX($W13:$AA13)-X13)/2","v":2},{"$f":"(MAX($W13:$AA13)-Y13)/2","v":3},{"$f":"(MAX($W13:$AA13)-Z13)/2","v":0},{"$f":"(MAX($W13:$AA13)-AA13)/2","v":3}]
["2011-04-11",null,4,6,null,null,5,4,null,-1,4,6,null,null,7,2,null,null,4,5,null,null,{"$f":"C14-D14","v":-2},{"$f":"G14-H14","v":1},{"$f":"K14-L14","v":-2},{"$f":"O14-P14","v":5},{"$f":"S14-T14","v":-1},null,{"$f":"(MAX($W14:$AA14)-W14)/2","v":3.5},{"$f":"(MAX($W14:$AA14)-X14)/2","v":2},{"$f":"(MAX($W14:$AA14)-Y14)/2","v":3.5},{"$f":"(MAX($W14:$AA14)-Z14)/2","v":0},{"$f":"(MAX($W14:$AA14)-AA14)/2","v":3}]
["2011-04-12",1,5,6,null,-1,5,5,null,null,4,6,null,-1,7,3,null,1,5,5,null,null,{"$f":"C15-D15","v":-1},{"$f":"G15-H15","v":0},{"$f":"K15-L15","v":-2},{"$f":"O15-P15","v":4},{"$f":"S15-T15","v":0},null,{"$f":"(MAX($W15:$AA15)-W15)/2","v":2.5},{"$f":"(MAX($W15:$AA15)-X15)/2","v":2},{"$f":"(MAX($W15:$AA15)-Y15)/2","v":3},{"$f":"(MAX($W15:$AA15)-Z15)/2","v":0},{"$f":"(MAX($W15:$AA15)-AA15)/2","v":2}]
["2011-04-13",-1,5,7,null,1,6,5,null,-1,4,7,null,1,8,3,null,-1,5,6,null,null,{"$f":"C16-D16","v":-2},{"$f":"G16-H16","v":1},{"$f":"K16-L16","v":-3},{"$f":"O16-P16","v":5},{"$f":"S16-T16","v":-1},null,{"$f":"(MAX($W16:$AA16)-W16)/2","v":3.5},{"$f":"(MAX($W16:$AA16)-X16)/2","v":2},{"$f":"(MAX($W16:$AA16)-Y16)/2","v":4},{"$f":"(MAX($W16:$AA16)-Z16)/2","v":0},{"$f":"(MAX($W16:$AA16)-AA16)/2","v":3}]
["2011-04-14",-1,5,8,null,1,7,5,null,-2,4,9,null,1,9,3,null,-1,5,7,null,null,{"$f":"C17-D17","v":-3},{"$f":"G17-H17","v":2},{"$f":"K17-L17","v":-5},{"$f":"O17-P17","v":6},{"$f":"S17-T17","v":-2},null,{"$f":"(MAX($W17:$AA17)-W17)/2","v":4.5},{"$f":"(MAX($W17:$AA17)-X17)/2","v":2},{"$f":"(MAX($W17:$AA17)-Y17)/2","v":5.5},{"$f":"(MAX($W17:$AA17)-Z17)/2","v":0},{"$f":"(MAX($W17:$AA17)-AA17)/2","v":4}]
["2011-04-15",null,5,8,null,1,8,5,null,null,4,9,null,-1,9,4,null,1,6,7,null,null,{"$f":"C18-D18","v":-3},{"$f":"G18-H18","v":3},{"$f":"K18-L18","v":-5},{"$f":"O18-P18","v":5},{"$f":"S18-T18","v":-1},null,{"$f":"(MAX($W18:$AA18)-W18)/2","v":4},{"$f":"(MAX($W18:$AA18)-X18)/2","v":1},{"$f":"(MAX($W18:$AA18)-Y18)/2","v":5},{"$f":"(MAX($W18:$AA18)-Z18)/2","v":0},{"$f":"(MAX($W18:$AA18)-AA18)/2","v":3}]
["2011-04-16",2,7,8,null,null,8,5,null,-2,4,11,null,null,9,4,null,null,6,7,null,null,{"$f":"C19-D19","v":-1},{"$f":"G19-H19","v":3},{"$f":"K19-L19","v":-7},{"$f":"O19-P19","v":5},{"$f":"S19-T19","v":-1},null,{"$f":"(MAX($W19:$AA19)-W19)/2","v":3},{"$f":"(MAX($W19:$AA19)-X19)/2","v":1},{"$f":"(MAX($W19:$AA19)-Y19)/2","v":6},{"$f":"(MAX($W19:$AA19)-Z19)/2","v":0},{"$f":"(MAX($W19:$AA19)-AA19)/2","v":3}]
["2011-04-17",-1,7,9,null,-1,8,6,null,1,5,11,null,1,10,4,null,2,8,7,null,null,{"$f":"C20-D20","v":-2},{"$f":"G20-H20","v":2},{"$f":"K20-L20","v":-6},{"$f":"O20-P20","v":6},{"$f":"S20-T20","v":1},null,{"$f":"(MAX($W20:$AA20)-W20)/2","v":4},{"$f":"(MAX($W20:$AA20)-X20)/2","v":2},{"$f":"(MAX($W20:$AA20)-Y20)/2","v":6},{"$f":"(MAX($W20:$AA20)-Z20)/2","v":0},{"$f":"(MAX($W20:$AA20)-AA20)/2","v":2.5}]
["2011-04-18",-1,7,10,null,null,8,6,null,null,5,11,null,-1,10,5,null,null,8,7,null,null,{"$f":"C21-D21","v":-3},{"$f":"G21-H21","v":2},{"$f":"K21-L21","v":-6},{"$f":"O21-P21","v":5},{"$f":"S21-T21","v":1},null,{"$f":"(MAX($W21:$AA21)-W21)/2","v":4},{"$f":"(MAX($W21:$AA21)-X21)/2","v":1.5},{"$f":"(MAX($W21:$AA21)-Y21)/2","v":5.5},{"$f":"(MAX($W21:$AA21)-Z21)/2","v":0},{"$f":"(MAX($W21:$AA21)-AA21)/2","v":2}]
["2011-04-19",1,8,10,null,1,9,6,null,-1,5,12,null,-1,10,6,null,null,8,7,null,null,{"$f":"C22-D22","v":-2},{"$f":"G22-H22","v":3},{"$f":"K22-L22","v":-7},{"$f":"O22-P22","v":4},{"$f":"S22-T22","v":1},null,{"$f":"(MAX($W22:$AA22)-W22)/2","v":3},{"$f":"(MAX($W22:$AA22)-X22)/2","v":0.5},{"$f":"(MAX($W22:$AA22)-Y22)/2","v":5.5},{"$f":"(MAX($W22:$AA22)-Z22)/2","v":0},{"$f":"(MAX($W22:$AA22)-AA22)/2","v":1.5}]
["2011-04-20",-1,{"$f":"C22+IF(B23>0,B23,0)","v":8},{"$f":"D22-IF(B23<0,B23,0)","v":11},null,1,10,6,null,-1,5,13,null,1,11,6,null,0,9,8,null,null,{"$f":"C23-D23","v":-3},{"$f":"G23-H23","v":4},{"$f":"K23-L23","v":-8},{"$f":"O23-P23","v":5},{"$f":"S23-T23","v":1},null,{"$f":"(MAX($W23:$AA23)-W23)/2","v":4},{"$f":"(MAX($W23:$AA23)-X23)/2","v":0.5},{"$f":"(MAX($W23:$AA23)-Y23)/2","v":6.5},{"$f":"(MAX($W23:$AA23)-Z23)/2","v":0},{"$f":"(MAX($W23:$AA23)-AA23)/2","v":2}]
["2011-04-21",-1,8,12,null,1,11,6,null,1,6,13,null,1,12,6,null,-1,9,9,null,null,{"$f":"C24-D24","v":-4},{"$f":"G24-H24","v":5},{"$f":"K24-L24","v":-7},{"$f":"O24-P24","v":6},{"$f":"S24-T24","v":0},null,{"$f":"(MAX($W24:$AA24)-W24)/2","v":5},{"$f":"(MAX($W24:$AA24)-X24)/2","v":0.5},{"$f":"(MAX($W24:$AA24)-Y24)/2","v":6.5},{"$f":"(MAX($W24:$AA24)-Z24)/2","v":0},{"$f":"(MAX($W24:$AA24)-AA24)/2","v":3}]
["2011-04-22",1,9,12,null,1,12,6,null,1,7,13,null,1,13,6,null,null,9,9,null,null,{"$f":"C25-D25","v":-3},{"$f":"G25-H25","v":6},{"$f":"K25-L25","v":-6},{"$f":"O25-P25","v":7},{"$f":"S25-T25","v":0},null,{"$f":"(MAX($W25:$AA25)-W25)/2","v":5},{"$f":"(MAX($W25:$AA25)-X25)/2","v":0.5},{"$f":"(MAX($W25:$AA25)-Y25)/2","v":6.5},{"$f":"(MAX($W25:$AA25)-Z25)/2","v":0},{"$f":"(MAX($W25:$AA25)-AA25)/2","v":3.5}]
["2011-04-23",1,10,12,null,-1,12,7,null,1,8,13,null,1,14,6,null,-1,9,10,null,null,{"$f":"C26-D26","v":-2},{"$f":"G26-H26","v":5},{"$f":"K26-L26","v":-5},{"$f":"O26-P26","v":8},{"$f":"S26-T26","v":-1},null,{"$f":"(MAX($W26:$AA26)-W26)/2","v":5},{"$f":"(MAX($W26:$AA26)-X26)/2","v":1.5},{"$f":"(MAX($W26:$AA26)-Y26)/2","v":6.5},{"$f":"(MAX($W26:$AA26)-Z26)/2","v":0},{"$f":"(MAX($W26:$AA26)-AA26)/2","v":4.5}]
["2011-04-24",1,11,12,null,1,13,7,null,1,9,13,null,1,15,6,null,1,10,10,null,null,{"$f":"C27-D27","v":-1},{"$f":"G27-H27","v":6},{"$f":"K27-L27","v":-4},{"$f":"O27-P27","v":9},{"$f":"S27-T27","v":0},null,{"$f":"(MAX($W27:$AA27)-W27)/2","v":5},{"$f":"(MAX($W27:$AA27)-X27)/2","v":1.5},{"$f":"(MAX($W27:$AA27)-Y27)/2","v":6.5},{"$f":"(MAX($W27:$AA27)-Z27)/2","v":0},{"$f":"(MAX($W27:$AA27)-AA27)/2","v":4.5}]
["2011-04-25",-1,11,13,null,1,14,7,null,null,9,13,null,-1,15,7,null,-1,10,11,null,null,{"$f":"C28-D28","v":-2},{"$f":"G28-H28","v":7},{"$f":"K28-L28","v":-4},{"$f":"O28-P28","v":8},{"$f":"S28-T28","v":-1},null,{"$f":"(MAX($W28:$AA28)-W28)/2","v":5},{"$f":"(MAX($W28:$AA28)-X28)/2","v":0.5},{"$f":"(MAX($W28:$AA28)-Y28)/2","v":6},{"$f":"(MAX($W28:$AA28)-Z28)/2","v":0},{"$f":"(MAX($W28:$AA28)-AA28)/2","v":4.5}]
["2011-04-26",1,12,13,null,1,15,7,null,1,10,13,null,-1,15,8,null,-1,10,12,null,null,{"$f":"C29-D29","v":-1},{"$f":"G29-H29","v":8},{"$f":"K29-L29","v":-3},{"$f":"O29-P29","v":7},{"$f":"S29-T29","v":-2},null,{"$f":"(MAX($W29:$AA29)-W29)/2","v":4.5},{"$f":"(MAX($W29:$AA29)-X29)/2","v":0},{"$f":"(MAX($W29:$AA29)-Y29)/2","v":5.5},{"$f":"(MAX($W29:$AA29)-Z29)/2","v":0.5},{"$f":"(MAX($W29:$AA29)-AA29)/2","v":5}]
["2011-04-27",1,13,13,null,-1,15,8,null,1,11,13,null,1,16,8,null,-1,10,13,null,null,{"$f":"C30-D30","v":0},{"$f":"G30-H30","v":7},{"$f":"K30-L30","v":-2},{"$f":"O30-P30","v":8},{"$f":"S30-T30","v":-3},null,{"$f":"(MAX($W30:$AA30)-W30)/2","v":4},{"$f":"(MAX($W30:$AA30)-X30)/2","v":0.5},{"$f":"(MAX($W30:$AA30)-Y30)/2","v":5},{"$f":"(MAX($W30:$AA30)-Z30)/2","v":0},{"$f":"(MAX($W30:$AA30)-AA30)/2","v":5.5}]
["2011-04-28",null,13,13,null,null,15,8,null,-1,11,14,null,null,16,8,null,1,11,13,null,null,{"$f":"C31-D31","v":0},{"$f":"G31-H31","v":7},{"$f":"K31-L31","v":-3},{"$f":"O31-P31","v":8},{"$f":"S31-T31","v":-2},null,{"$f":"(MAX($W31:$AA31)-W31)/2","v":4},{"$f":"(MAX($W31:$AA31)-X31)/2","v":0.5},{"$f":"(MAX($W31:$AA31)-Y31)/2","v":5.5},{"$f":"(MAX($W31:$AA31)-Z31)/2","v":0},{"$f":"(MAX($W31:$AA31)-AA31)/2","v":5}]
["2011-04-29",-1,13,14,null,1,16,8,null,-1,11,15,null,1,17,8,null,1,12,13,null,null,{"$f":"C32-D32","v":-1},{"$f":"G32-H32","v":8},{"$f":"K32-L32","v":-4},{"$f":"O32-P32","v":9},{"$f":"S32-T32","v":-1},null,{"$f":"(MAX($W32:$AA32)-W32)/2","v":5},{"$f":"(MAX($W32:$AA32)-X32)/2","v":0.5},{"$f":"(MAX($W32:$AA32)-Y32)/2","v":6.5},{"$f":"(MAX($W32:$AA32)-Z32)/2","v":0},{"$f":"(MAX($W32:$AA32)-AA32)/2","v":5}]
["2011-04-30",-1,13,15,null,-1,16,9,null,-1,11,16,null,1,18,8,null,-1,12,14,null,null,{"$f":"C33-D33","v":-2},{"$f":"G33-H33","v":7},{"$f":"K33-L33","v":-5},{"$f":"O33-P33","v":10},{"$f":"S33-T33","v":-2},null,{"$f":"(MAX($W33:$AA33)-W33)/2","v":6},{"$f":"(MAX($W33:$AA33)-X33)/2","v":1.5},{"$f":"(MAX($W33:$AA33)-Y33)/2","v":7.5},{"$f":"(MAX($W33:$AA33)-Z33)/2","v":0},{"$f":"(MAX($W33:$AA33)-AA33)/2","v":6}]
["2011-05-01",1,14,15,null,1,17,9,null,1,12,16,null,-1,18,9,null,1,13,14,null,null,{"$f":"C34-D34","v":-1},{"$f":"G34-H34","v":8},{"$f":"K34-L34","v":-4},{"$f":"O34-P34","v":9},{"$f":"S34-T34","v":-1},null,{"$f":"(MAX($W34:$AA34)-W34)/2","v":5},{"$f":"(MAX($W34:$AA34)-X34)/2","v":0.5},{"$f":"(MAX($W34:$AA34)-Y34)/2","v":6.5},{"$f":"(MAX($W34:$AA34)-Z34)/2","v":0},{"$f":"(MAX($W34:$AA34)-AA34)/2","v":5}]
["2011-05-02",1,15,15,null,1,18,9,null,null,12,16,null,null,18,9,null,1,14,14,null,null,{"$f":"C35-D35","v":0},{"$f":"G35-H35","v":9},{"$f":"K35-L35","v":-4},{"$f":"O35-P35","v":9},{"$f":"S35-T35","v":0},null,{"$f":"(MAX($W35:$AA35)-W35)/2","v":4.5},{"$f":"(MAX($W35:$AA35)-X35)/2","v":0},{"$f":"(MAX($W35:$AA35)-Y35)/2","v":6.5},{"$f":"(MAX($W35:$AA35)-Z35)/2","v":0},{"$f":"(MAX($W35:$AA35)-AA35)/2","v":4.5}]
["2011-05-03",null,15,15,null,-1,18,10,null,-1,12,17,null,1,19,9,null,-1,14,15,null,null,{"$f":"C36-D36","v":0},{"$f":"G36-H36","v":8},{"$f":"K36-L36","v":-5},{"$f":"O36-P36","v":10},{"$f":"S36-T36","v":-1},null,{"$f":"(MAX($W36:$AA36)-W36)/2","v":5},{"$f":"(MAX($W36:$AA36)-X36)/2","v":1},{"$f":"(MAX($W36:$AA36)-Y36)/2","v":7.5},{"$f":"(MAX($W36:$AA36)-Z36)/2","v":0},{"$f":"(MAX($W36:$AA36)-AA36)/2","v":5.5}]
["2011-05-04",2,17,15,null,1,19,10,null,-1,12,18,null,1,20,9,null,-1,14,16,null,null,{"$f":"C37-D37","v":2},{"$f":"G37-H37","v":9},{"$f":"K37-L37","v":-6},{"$f":"O37-P37","v":11},{"$f":"S37-T37","v":-2},null,{"$f":"(MAX($W37:$AA37)-W37)/2","v":4.5},{"$f":"(MAX($W37:$AA37)-X37)/2","v":1},{"$f":"(MAX($W37:$AA37)-Y37)/2","v":8.5},{"$f":"(MAX($W37:$AA37)-Z37)/2","v":0},{"$f":"(MAX($W37:$AA37)-AA37)/2","v":6.5}]
["2011-05-05",1,18,15,null,-1,19,11,null,1,13,18,null,1,21,9,null,-1,14,17,null,null,{"$f":"C38-D38","v":3},{"$f":"G38-H38","v":8},{"$f":"K38-L38","v":-5},{"$f":"O38-P38","v":12},{"$f":"S38-T38","v":-3},null,{"$f":"(MAX($W38:$AA38)-W38)/2","v":4.5},{"$f":"(MAX($W38:$AA38)-X38)/2","v":2},{"$f":"(MAX($W38:$AA38)-Y38)/2","v":8.5},{"$f":"(MAX($W38:$AA38)-Z38)/2","v":0},{"$f":"(MAX($W38:$AA38)-AA38)/2","v":7.5}]
["2011-05-06",1,{"$f":"C38+IF(B39>0,B39,0)","v":19},{"$f":"D38-IF(B39<0,B39,0)","v":15},null,-1,{"$f":"G38+IF(F39>0,F39,0)","v":19},{"$f":"H38-IF(F39<0,F39,0)","v":12},null,1,{"$f":"K38+IF(J39>0,J39,0)","v":14},{"$f":"L38-IF(J39<0,J39,0)","v":18},null,-1,{"$f":"O38+IF(N39>0,N39,0)","v":21},{"$f":"P38-IF(N39<0,N39,0)","v":10},null,1,15,17,null,null,{"$f":"C39-D39","v":4},{"$f":"G39-H39","v":7},{"$f":"K39-L39","v":-4},{"$f":"O39-P39","v":11},{"$f":"S39-T39","v":-2},null,{"$f":"(MAX($W39:$AA39)-W39)/2","v":3.5},{"$f":"(MAX($W39:$AA39)-X39)/2","v":2},{"$f":"(MAX($W39:$AA39)-Y39)/2","v":7.5},{"$f":"(MAX($W39:$AA39)-Z39)/2","v":0},{"$f":"(MAX($W39:$AA39)-AA39)/2","v":6.5}]
["2011-05-07",-1,19,16,null,-1,19,13,null,1,15,18,null,1,22,10,null,1,16,17,null,null,{"$f":"C40-D40","v":3},{"$f":"G40-H40","v":6},{"$f":"K40-L40","v":-3},{"$f":"O40-P40","v":12},{"$f":"S40-T40","v":-1},null,{"$f":"(MAX($W40:$AA40)-W40)/2","v":4.5},{"$f":"(MAX($W40:$AA40)-X40)/2","v":3},{"$f":"(MAX($W40:$AA40)-Y40)/2","v":7.5},{"$f":"(MAX($W40:$AA40)-Z40)/2","v":0},{"$f":"(MAX($W40:$AA40)-AA40)/2","v":6.5}]
["2011-05-08",1,20,16,null,1,20,13,null,-1,15,19,null,-1,22,11,null,-1,16,18,null,null,{"$f":"C41-D41","v":4},{"$f":"G41-H41","v":7},{"$f":"K41-L41","v":-4},{"$f":"O41-P41","v":11},{"$f":"S41-T41","v":-2},null,{"$f":"(MAX($W41:$AA41)-W41)/2","v":3.5},{"$f":"(MAX($W41:$AA41)-X41)/2","v":2},{"$f":"(MAX($W41:$AA41)-Y41)/2","v":7.5},{"$f":"(MAX($W41:$AA41)-Z41)/2","v":0},{"$f":"(MAX($W41:$AA41)-AA41)/2","v":6.5}]
["2011-05-09",null,20,16,null,-1,20,14,null,-1,15,20,null,1,23,11,null,null,16,18,null,null,{"$f":"C42-D42","v":4},{"$f":"G42-H42","v":6},{"$f":"K42-L42","v":-5},{"$f":"O42-P42","v":12},{"$f":"S42-T42","v":-2},null,{"$f":"(MAX($W42:$AA42)-W42)/2","v":4},{"$f":"(MAX($W42:$AA42)-X42)/2","v":3},{"$f":"(MAX($W42:$AA42)-Y42)/2","v":8.5},{"$f":"(MAX($W42:$AA42)-Z42)/2","v":0},{"$f":"(MAX($W42:$AA42)-AA42)/2","v":7}]
["2011-05-10",-1,20,17,null,1,{"$f":"G42+IF(F43>0,F43,0)","v":21},{"$f":"H42-IF(F43<0,F43,0)","v":14},null,1,16,20,null,-1,23,12,null,1,17,18,null,null,{"$f":"C43-D43","v":3},{"$f":"G43-H43","v":7},{"$f":"K43-L43","v":-4},{"$f":"O43-P43","v":11},{"$f":"S43-T43","v":-1},null,{"$f":"(MAX($W43:$AA43)-W43)/2","v":4},{"$f":"(MAX($W43:$AA43)-X43)/2","v":2},{"$f":"(MAX($W43:$AA43)-Y43)/2","v":7.5},{"$f":"(MAX($W43:$AA43)-Z43)/2","v":0},{"$f":"(MAX($W43:$AA43)-AA43)/2","v":6},null,null,{"$f":"AJ181","v":"PHI"},0,0.62962962962962965]
["2011-05-11",-1,20,18,null,-1,21,15,null,null,16,20,null,1,24,12,null,1,18,18,null,null,{"$f":"C44-D44","v":2},{"$f":"G44-H44","v":6},{"$f":"K44-L44","v":-4},{"$f":"O44-P44","v":12},{"$f":"S44-T44","v":0},null,{"$f":"(MAX($W44:$AA44)-W44)/2","v":5},{"$f":"(MAX($W44:$AA44)-X44)/2","v":3},{"$f":"(MAX($W44:$AA44)-Y44)/2","v":8},{"$f":"(MAX($W44:$AA44)-Z44)/2","v":0},{"$f":"(MAX($W44:$AA44)-AA44)/2","v":6},null,null,{"$f":"AJ182","v":"ATL"},{"$f":"AK182","v":13},{"$f":"AL182","v":0.54938271604938271}]
["2011-05-12",1,{"$f":"C44+IF(B45>0,B45,0)","v":21},{"$f":"D44-IF(B45<0,B45,0)","v":18},null,null,{"$f":"G44+IF(F45>0,F45,0)","v":21},{"$f":"H44-IF(F45<0,F45,0)","v":15},null,1,{"$f":"K44+IF(J45>0,J45,0)","v":17},{"$f":"L44-IF(J45<0,J45,0)","v":20},null,null,{"$f":"O44+IF(N45>0,N45,0)","v":24},{"$f":"P44-IF(N45<0,N45,0)","v":12},null,-1,{"$f":"S44+IF(R45>0,R45,0)","v":18},{"$f":"T44-IF(R45<0,R45,0)","v":19},null,null,{"$f":"C45-D45","v":3},{"$f":"G45-H45","v":6},{"$f":"K45-L45","v":-3},{"$f":"O45-P45","v":12},{"$f":"S45-T45","v":-1},null,{"$f":"(MAX($W45:$AA45)-W45)/2","v":4.5},{"$f":"(MAX($W45:$AA45)-X45)/2","v":3},{"$f":"(MAX($W45:$AA45)-Y45)/2","v":7.5},{"$f":"(MAX($W45:$AA45)-Z45)/2","v":0},{"$f":"(MAX($W45:$AA45)-AA45)/2","v":6.5},null,null,{"$f":"AJ183","v":"WSH"},{"$f":"AK183","v":21.5},{"$f":"AL183","v":0.49689440993788819}]
["2011-05-13",-1,21,19,null,1,22,15,null,1,18,20,null,1,25,12,null,-1,{"$f":"S45+IF(R46>0,R46,0)","v":18},{"$f":"T45-IF(R46<0,R46,0)","v":20},null,null,{"$f":"C46-D46","v":2},{"$f":"G46-H46","v":7},{"$f":"K46-L46","v":-2},{"$f":"O46-P46","v":13},{"$f":"S46-T46","v":-2},null,{"$f":"(MAX($W46:$AA46)-W46)/2","v":5.5},{"$f":"(MAX($W46:$AA46)-X46)/2","v":3},{"$f":"(MAX($W46:$AA46)-Y46)/2","v":7.5},{"$f":"(MAX($W46:$AA46)-Z46)/2","v":0},{"$f":"(MAX($W46:$AA46)-AA46)/2","v":7.5},null,null,{"$f":"AJ184","v":"NYM"},{"$f":"AK184","v":25},{"$f":"AL184","v":0.47530864197530864}]
["2011-05-14",1,22,19,null,1,23,15,null,-1,18,21,null,-1,25,13,null,-1,18,21,null,null,{"$f":"C47-D47","v":3},{"$f":"G47-H47","v":8},{"$f":"K47-L47","v":-3},{"$f":"O47-P47","v":12},{"$f":"S47-T47","v":-3},null,{"$f":"(MAX($W47:$AA47)-W47)/2","v":4.5},{"$f":"(MAX($W47:$AA47)-X47)/2","v":2},{"$f":"(MAX($W47:$AA47)-Y47)/2","v":7.5},{"$f":"(MAX($W47:$AA47)-Z47)/2","v":0},{"$f":"(MAX($W47:$AA47)-AA47)/2","v":7.5},null,null,{"$f":"AJ185","v":"FLA"},{"$f":"AK185","v":30},{"$f":"AL185","v":0.44444444444444442}]
["2011-05-15",1,23,19,null,-1,23,16,null,1,19,21,null,-1,25,14,null,1,19,21,null,null,{"$f":"C48-D48","v":4},{"$f":"G48-H48","v":7},{"$f":"K48-L48","v":-2},{"$f":"O48-P48","v":11},{"$f":"S48-T48","v":-2},null,{"$f":"(MAX($W48:$AA48)-W48)/2","v":3.5},{"$f":"(MAX($W48:$AA48)-X48)/2","v":2},{"$f":"(MAX($W48:$AA48)-Y48)/2","v":6.5},{"$f":"(MAX($W48:$AA48)-Z48)/2","v":0},{"$f":"(MAX($W48:$AA48)-AA48)/2","v":6.5}]
["2011-05-16",1,24,19,null,1,24,16,null,-1,19,22,null,-1,25,15,null,1,20,21,null,null,{"$f":"C49-D49","v":5},{"$f":"G49-H49","v":8},{"$f":"K49-L49","v":-3},{"$f":"O49-P49","v":10},{"$f":"S49-T49","v":-1},null,{"$f":"(MAX($W49:$AA49)-W49)/2","v":2.5},{"$f":"(MAX($W49:$AA49)-X49)/2","v":1},{"$f":"(MAX($W49:$AA49)-Y49)/2","v":6.5},{"$f":"(MAX($W49:$AA49)-Z49)/2","v":0},{"$f":"(MAX($W49:$AA49)-AA49)/2","v":5.5}]
["2011-05-17",1,25,19,null,null,24,16,null,null,19,22,null,-1,25,16,null,null,20,21,null,null,{"$f":"C50-D50","v":6},{"$f":"G50-H50","v":8},{"$f":"K50-L50","v":-3},{"$f":"O50-P50","v":9},{"$f":"S50-T50","v":-1},null,{"$f":"(MAX($W50:$AA50)-W50)/2","v":1.5},{"$f":"(MAX($W50:$AA50)-X50)/2","v":0.5},{"$f":"(MAX($W50:$AA50)-Y50)/2","v":6},{"$f":"(MAX($W50:$AA50)-Z50)/2","v":0},{"$f":"(MAX($W50:$AA50)-AA50)/2","v":5}]
["2011-05-18",-1,25,20,null,-1,24,17,null,1,20,22,null,1,26,16,null,-1,20,22,null,null,{"$f":"C51-D51","v":5},{"$f":"G51-H51","v":7},{"$f":"K51-L51","v":-2},{"$f":"O51-P51","v":10},{"$f":"S51-T51","v":-2},null,{"$f":"(MAX($W51:$AA51)-W51)/2","v":2.5},{"$f":"(MAX($W51:$AA51)-X51)/2","v":1.5},{"$f":"(MAX($W51:$AA51)-Y51)/2","v":6},{"$f":"(MAX($W51:$AA51)-Z51)/2","v":0},{"$f":"(MAX($W51:$AA51)-AA51)/2","v":6}]
["2011-05-19",-1,25,21,null,-1,24,18,null,1,21,22,null,-1,26,17,null,-1,20,23,null,null,{"$f":"C52-D52","v":4},{"$f":"G52-H52","v":6},{"$f":"K52-L52","v":-1},{"$f":"O52-P52","v":9},{"$f":"S52-T52","v":-3},null,{"$f":"(MAX($W52:$AA52)-W52)/2","v":2.5},{"$f":"(MAX($W52:$AA52)-X52)/2","v":1.5},{"$f":"(MAX($W52:$AA52)-Y52)/2","v":5},{"$f":"(MAX($W52:$AA52)-Z52)/2","v":0},{"$f":"(MAX($W52:$AA52)-AA52)/2","v":6}]
["2011-05-20",-1,25,22,null,1,25,18,null,1,22,22,null,1,27,17,null,1,21,23,null,null,{"$f":"C53-D53","v":3},{"$f":"G53-H53","v":7},{"$f":"K53-L53","v":0},{"$f":"O53-P53","v":10},{"$f":"S53-T53","v":-2},null,{"$f":"(MAX($W53:$AA53)-W53)/2","v":3.5},{"$f":"(MAX($W53:$AA53)-X53)/2","v":1.5},{"$f":"(MAX($W53:$AA53)-Y53)/2","v":5},{"$f":"(MAX($W53:$AA53)-Z53)/2","v":0},{"$f":"(MAX($W53:$AA53)-AA53)/2","v":6}]
["2011-05-21",1,26,22,null,1,26,18,null,-1,22,23,null,1,28,17,null,-1,21,24,null,null,{"$f":"C54-D54","v":4},{"$f":"G54-H54","v":8},{"$f":"K54-L54","v":-1},{"$f":"O54-P54","v":11},{"$f":"S54-T54","v":-3},null,{"$f":"(MAX($W54:$AA54)-W54)/2","v":3.5},{"$f":"(MAX($W54:$AA54)-X54)/2","v":1.5},{"$f":"(MAX($W54:$AA54)-Y54)/2","v":6},{"$f":"(MAX($W54:$AA54)-Z54)/2","v":0},{"$f":"(MAX($W54:$AA54)-AA54)/2","v":7}]
["2011-05-22",-1,26,23,null,-1,26,19,null,-1,22,24,null,-1,28,18,null,-1,21,25,null,null,{"$f":"C55-D55","v":3},{"$f":"G55-H55","v":7},{"$f":"K55-L55","v":-2},{"$f":"O55-P55","v":10},{"$f":"S55-T55","v":-4},null,{"$f":"(MAX($W55:$AA55)-W55)/2","v":3.5},{"$f":"(MAX($W55:$AA55)-X55)/2","v":1.5},{"$f":"(MAX($W55:$AA55)-Y55)/2","v":6},{"$f":"(MAX($W55:$AA55)-Z55)/2","v":0},{"$f":"(MAX($W55:$AA55)-AA55)/2","v":7}]
["2011-05-23",null,{"$f":"C55+IF(B56>0,B56,0)","v":26},{"$f":"D55-IF(B56<0,B56,0)","v":23},null,null,26,19,null,null,22,24,null,1,29,18,null,-1,21,26,null,null,{"$f":"C56-D56","v":3},{"$f":"G56-H56","v":7},{"$f":"K56-L56","v":-2},{"$f":"O56-P56","v":11},{"$f":"S56-T56","v":-5},null,{"$f":"(MAX($W56:$AA56)-W56)/2","v":4},{"$f":"(MAX($W56:$AA56)-X56)/2","v":2},{"$f":"(MAX($W56:$AA56)-Y56)/2","v":6.5},{"$f":"(MAX($W56:$AA56)-Z56)/2","v":0},{"$f":"(MAX($W56:$AA56)-AA56)/2","v":8}]
["2011-05-24",1,27,23,null,1,27,19,null,-1,22,25,null,-1,29,19,null,-1,21,27,null,null,{"$f":"C57-D57","v":4},{"$f":"G57-H57","v":8},{"$f":"K57-L57","v":-3},{"$f":"O57-P57","v":10},{"$f":"S57-T57","v":-6},null,{"$f":"(MAX($W57:$AA57)-W57)/2","v":3},{"$f":"(MAX($W57:$AA57)-X57)/2","v":1},{"$f":"(MAX($W57:$AA57)-Y57)/2","v":6.5},{"$f":"(MAX($W57:$AA57)-Z57)/2","v":0},{"$f":"(MAX($W57:$AA57)-AA57)/2","v":8}]
["2011-05-25",1,28,23,null,1,28,19,null,1,23,25,null,1,30,19,null,-1,21,28,null,null,{"$f":"C58-D58","v":5},{"$f":"G58-H58","v":9},{"$f":"K58-L58","v":-2},{"$f":"O58-P58","v":11},{"$f":"S58-T58","v":-7},null,{"$f":"(MAX($W58:$AA58)-W58)/2","v":3},{"$f":"(MAX($W58:$AA58)-X58)/2","v":1},{"$f":"(MAX($W58:$AA58)-Y58)/2","v":6.5},{"$f":"(MAX($W58:$AA58)-Z58)/2","v":0},{"$f":"(MAX($W58:$AA58)-AA58)/2","v":9}]
["2011-05-26",null,28,23,null,1,29,19,null,-1,23,26,null,1,31,19,null,null,21,28,null,null,{"$f":"C59-D59","v":5},{"$f":"G59-H59","v":10},{"$f":"K59-L59","v":-3},{"$f":"O59-P59","v":12},{"$f":"S59-T59","v":-7},null,{"$f":"(MAX($W59:$AA59)-W59)/2","v":3.5},{"$f":"(MAX($W59:$AA59)-X59)/2","v":1},{"$f":"(MAX($W59:$AA59)-Y59)/2","v":7.5},{"$f":"(MAX($W59:$AA59)-Z59)/2","v":0},{"$f":"(MAX($W59:$AA59)-AA59)/2","v":9.5}]
["2011-05-27",-1,28,24,null,-1,29,20,null,-1,23,27,null,1,32,19,null,1,22,28,null,null,{"$f":"C60-D60","v":4},{"$f":"G60-H60","v":9},{"$f":"K60-L60","v":-4},{"$f":"O60-P60","v":13},{"$f":"S60-T60","v":-6},null,{"$f":"(MAX($W60:$AA60)-W60)/2","v":4.5},{"$f":"(MAX($W60:$AA60)-X60)/2","v":2},{"$f":"(MAX($W60:$AA60)-Y60)/2","v":8.5},{"$f":"(MAX($W60:$AA60)-Z60)/2","v":0},{"$f":"(MAX($W60:$AA60)-AA60)/2","v":9.5}]
["2011-05-28",1,29,24,null,1,30,20,null,-1,23,28,null,1,33,19,null,-1,22,29,null,null,{"$f":"C61-D61","v":5},{"$f":"G61-H61","v":10},{"$f":"K61-L61","v":-5},{"$f":"O61-P61","v":14},{"$f":"S61-T61","v":-7},null,{"$f":"(MAX($W61:$AA61)-W61)/2","v":4.5},{"$f":"(MAX($W61:$AA61)-X61)/2","v":2},{"$f":"(MAX($W61:$AA61)-Y61)/2","v":9.5},{"$f":"(MAX($W61:$AA61)-Z61)/2","v":0},{"$f":"(MAX($W61:$AA61)-AA61)/2","v":10.5}]
["2011-05-29",1,30,24,null,-1,30,21,null,1,24,28,null,-1,33,20,null,-1,22,30,null,null,{"$f":"C62-D62","v":6},{"$f":"G62-H62","v":9},{"$f":"K62-L62","v":-4},{"$f":"O62-P62","v":13},{"$f":"S62-T62","v":-8},null,{"$f":"(MAX($W62:$AA62)-W62)/2","v":3.5},{"$f":"(MAX($W62:$AA62)-X62)/2","v":2},{"$f":"(MAX($W62:$AA62)-Y62)/2","v":8.5},{"$f":"(MAX($W62:$AA62)-Z62)/2","v":0},{"$f":"(MAX($W62:$AA62)-AA62)/2","v":10.5}]
["2011-05-30",-1,30,25,null,-1,30,22,null,1,25,28,null,1,34,20,null,-1,22,31,null,null,{"$f":"C63-D63","v":5},{"$f":"G63-H63","v":8},{"$f":"K63-L63","v":-3},{"$f":"O63-P63","v":14},{"$f":"S63-T63","v":-9},null,{"$f":"(MAX($W63:$AA63)-W63)/2","v":4.5},{"$f":"(MAX($W63:$AA63)-X63)/2","v":3},{"$f":"(MAX($W63:$AA63)-Y63)/2","v":8.5},{"$f":"(MAX($W63:$AA63)-Z63)/2","v":0},{"$f":"(MAX($W63:$AA63)-AA63)/2","v":11.5}]
["2011-05-31",-1,30,26,null,1,31,22,null,-1,25,29,null,-1,34,21,null,1,23,31,null,null,{"$f":"C64-D64","v":4},{"$f":"G64-H64","v":9},{"$f":"K64-L64","v":-4},{"$f":"O64-P64","v":13},{"$f":"S64-T64","v":-8},null,{"$f":"(MAX($W64:$AA64)-W64)/2","v":4.5},{"$f":"(MAX($W64:$AA64)-X64)/2","v":2},{"$f":"(MAX($W64:$AA64)-Y64)/2","v":8.5},{"$f":"(MAX($W64:$AA64)-Z64)/2","v":0},{"$f":"(MAX($W64:$AA64)-AA64)/2","v":10.5}]
["2011-06-01",1,31,26,null,-1,31,23,null,-1,25,30,null,-1,34,22,null,1,24,31,null,null,{"$f":"C65-D65","v":5},{"$f":"G65-H65","v":8},{"$f":"K65-L65","v":-5},{"$f":"O65-P65","v":12},{"$f":"S65-T65","v":-7},null,{"$f":"(MAX($W65:$AA65)-W65)/2","v":3.5},{"$f":"(MAX($W65:$AA65)-X65)/2","v":2},{"$f":"(MAX($W65:$AA65)-Y65)/2","v":8.5},{"$f":"(MAX($W65:$AA65)-Z65)/2","v":0},{"$f":"(MAX($W65:$AA65)-AA65)/2","v":9.5}]
["2011-06-02",null,31,26,null,null,31,23,null,1,26,30,null,null,34,22,null,1,25,31,null,null,{"$f":"C66-D66","v":5},{"$f":"G66-H66","v":8},{"$f":"K66-L66","v":-4},{"$f":"O66-P66","v":12},{"$f":"S66-T66","v":-6},null,{"$f":"(MAX($W66:$AA66)-W66)/2","v":3.5},{"$f":"(MAX($W66:$AA66)-X66)/2","v":2},{"$f":"(MAX($W66:$AA66)-Y66)/2","v":8},{"$f":"(MAX($W66:$AA66)-Z66)/2","v":0},{"$f":"(MAX($W66:$AA66)-AA66)/2","v":9}]
["2011-06-03",1,32,26,null,-1,31,24,null,-1,26,31,null,-1,34,23,null,-1,25,32,null,null,{"$f":"C67-D67","v":6},{"$f":"G67-H67","v":7},{"$f":"K67-L67","v":-5},{"$f":"O67-P67","v":11},{"$f":"S67-T67","v":-7},null,{"$f":"(MAX($W67:$AA67)-W67)/2","v":2.5},{"$f":"(MAX($W67:$AA67)-X67)/2","v":2},{"$f":"(MAX($W67:$AA67)-Y67)/2","v":8},{"$f":"(MAX($W67:$AA67)-Z67)/2","v":0},{"$f":"(MAX($W67:$AA67)-AA67)/2","v":9}]
["2011-06-04",-1,32,27,null,-1,31,25,null,1,27,31,null,-1,34,24,null,-1,25,33,null,null,{"$f":"C68-D68","v":5},{"$f":"G68-H68","v":6},{"$f":"K68-L68","v":-4},{"$f":"O68-P68","v":10},{"$f":"S68-T68","v":-8},null,{"$f":"(MAX($W68:$AA68)-W68)/2","v":2.5},{"$f":"(MAX($W68:$AA68)-X68)/2","v":2},{"$f":"(MAX($W68:$AA68)-Y68)/2","v":7},{"$f":"(MAX($W68:$AA68)-Z68)/2","v":0},{"$f":"(MAX($W68:$AA68)-AA68)/2","v":9}]
["2011-06-05",-1,32,28,null,-1,31,26,null,1,28,31,null,1,35,24,null,1,26,33,null,null,{"$f":"C69-D69","v":4},{"$f":"G69-H69","v":5},{"$f":"K69-L69","v":-3},{"$f":"O69-P69","v":11},{"$f":"S69-T69","v":-7},null,{"$f":"(MAX($W69:$AA69)-W69)/2","v":3.5},{"$f":"(MAX($W69:$AA69)-X69)/2","v":3},{"$f":"(MAX($W69:$AA69)-Y69)/2","v":7},{"$f":"(MAX($W69:$AA69)-Z69)/2","v":0},{"$f":"(MAX($W69:$AA69)-AA69)/2","v":9}]
["2011-06-06",null,{"$f":"C69+IF(B70>0,B70,0)","v":32},{"$f":"D69-IF(B70<0,B70,0)","v":28},null,-1,{"$f":"G69+IF(F70>0,F70,0)","v":31},{"$f":"H69-IF(F70<0,F70,0)","v":27},null,null,28,31,null,1,36,24,null,-1,26,34,null,null,{"$f":"C70-D70","v":4},{"$f":"G70-H70","v":4},{"$f":"K70-L70","v":-3},{"$f":"O70-P70","v":12},{"$f":"S70-T70","v":-8},null,{"$f":"(MAX($W70:$AA70)-W70)/2","v":4},{"$f":"(MAX($W70:$AA70)-X70)/2","v":4},{"$f":"(MAX($W70:$AA70)-Y70)/2","v":7.5},{"$f":"(MAX($W70:$AA70)-Z70)/2","v":0},{"$f":"(MAX($W70:$AA70)-AA70)/2","v":10}]
["2011-06-07",1,{"$f":"C70+IF(B71>0,B71,0)","v":33},{"$f":"D70-IF(B71<0,B71,0)","v":28},null,-1,{"$f":"G70+IF(F71>0,F71,0)","v":31},{"$f":"H70-IF(F71<0,F71,0)","v":28},null,1,{"$f":"K70+IF(J71>0,J71,0)","v":29},{"$f":"L70-IF(J71<0,J71,0)","v":31},null,-1,{"$f":"O70+IF(N71>0,N71,0)","v":36},{"$f":"P70-IF(N71<0,N71,0)","v":25},null,1,27,34,null,null,{"$f":"C71-D71","v":5},{"$f":"G71-H71","v":3},{"$f":"K71-L71","v":-2},{"$f":"O71-P71","v":11},{"$f":"S71-T71","v":-7},null,{"$f":"(MAX($W71:$AA71)-W71)/2","v":3},{"$f":"(MAX($W71:$AA71)-X71)/2","v":4},{"$f":"(MAX($W71:$AA71)-Y71)/2","v":6.5},{"$f":"(MAX($W71:$AA71)-Z71)/2","v":0},{"$f":"(MAX($W71:$AA71)-AA71)/2","v":9}]
["2011-06-08",1,{"$f":"C71+IF(B72>0,B72,0)","v":34},{"$f":"D71-IF(B72<0,B72,0)","v":28},null,-1,{"$f":"G71+IF(F72>0,F72,0)","v":31},{"$f":"H71-IF(F72<0,F72,0)","v":29},null,-1,29,32,null,1,37,25,null,-1,27,35,null,null,{"$f":"C72-D72","v":6},{"$f":"G72-H72","v":2},{"$f":"K72-L72","v":-3},{"$f":"O72-P72","v":12},{"$f":"S72-T72","v":-8},null,{"$f":"(MAX($W72:$AA72)-W72)/2","v":3},{"$f":"(MAX($W72:$AA72)-X72)/2","v":5},{"$f":"(MAX($W72:$AA72)-Y72)/2","v":7.5},{"$f":"(MAX($W72:$AA72)-Z72)/2","v":0},{"$f":"(MAX($W72:$AA72)-AA72)/2","v":10}]
["2011-06-09",1,{"$f":"C72+IF(B73>0,B73,0)","v":35},{"$f":"D72-IF(B73<0,B73,0)","v":28},null,-1,{"$f":"G72+IF(F73>0,F73,0)","v":31},{"$f":"H72-IF(F73<0,F73,0)","v":30},null,1,30,32,null,-1,37,26,null,-1,27,36,null,null,{"$f":"C73-D73","v":7},{"$f":"G73-H73","v":1},{"$f":"K73-L73","v":-2},{"$f":"O73-P73","v":11},{"$f":"S73-T73","v":-9},null,{"$f":"(MAX($W73:$AA73)-W73)/2","v":2},{"$f":"(MAX($W73:$AA73)-X73)/2","v":5},{"$f":"(MAX($W73:$AA73)-Y73)/2","v":6.5},{"$f":"(MAX($W73:$AA73)-Z73)/2","v":0},{"$f":"(MAX($W73:$AA73)-AA73)/2","v":10}]
["2011-06-10",1,36,28,null,1,32,30,null,1,31,32,null,1,38,26,null,1,28,36,null,null,{"$f":"C74-D74","v":8},{"$f":"G74-H74","v":2},{"$f":"K74-L74","v":-1},{"$f":"O74-P74","v":12},{"$f":"S74-T74","v":-8},null,{"$f":"(MAX($W74:$AA74)-W74)/2","v":2},{"$f":"(MAX($W74:$AA74)-X74)/2","v":5},{"$f":"(MAX($W74:$AA74)-Y74)/2","v":6.5},{"$f":"(MAX($W74:$AA74)-Z74)/2","v":0},{"$f":"(MAX($W74:$AA74)-AA74)/2","v":10}]
["2011-06-11",1,37,28,null,-1,32,31,null,-1,31,33,null,1,39,26,null,1,29,36,null,null,{"$f":"C75-D75","v":9},{"$f":"G75-H75","v":1},{"$f":"K75-L75","v":-2},{"$f":"O75-P75","v":13},{"$f":"S75-T75","v":-7},null,{"$f":"(MAX($W75:$AA75)-W75)/2","v":2},{"$f":"(MAX($W75:$AA75)-X75)/2","v":6},{"$f":"(MAX($W75:$AA75)-Y75)/2","v":7.5},{"$f":"(MAX($W75:$AA75)-Z75)/2","v":0},{"$f":"(MAX($W75:$AA75)-AA75)/2","v":10}]
["2011-06-12",1,38,28,null,-1,32,32,null,1,32,33,null,1,40,26,null,1,30,36,null,null,{"$f":"C76-D76","v":10},{"$f":"G76-H76","v":0},{"$f":"K76-L76","v":-1},{"$f":"O76-P76","v":14},{"$f":"S76-T76","v":-6},null,{"$f":"(MAX($W76:$AA76)-W76)/2","v":2},{"$f":"(MAX($W76:$AA76)-X76)/2","v":7},{"$f":"(MAX($W76:$AA76)-Y76)/2","v":7.5},{"$f":"(MAX($W76:$AA76)-Z76)/2","v":0},{"$f":"(MAX($W76:$AA76)-AA76)/2","v":10}]
["2011-06-13",-1,38,29,null,-1,32,33,null,-1,32,34,null,null,40,26,null,null,30,36,null,null,{"$f":"C77-D77","v":9},{"$f":"G77-H77","v":-1},{"$f":"K77-L77","v":-2},{"$f":"O77-P77","v":14},{"$f":"S77-T77","v":-6},null,{"$f":"(MAX($W77:$AA77)-W77)/2","v":2.5},{"$f":"(MAX($W77:$AA77)-X77)/2","v":7.5},{"$f":"(MAX($W77:$AA77)-Y77)/2","v":8},{"$f":"(MAX($W77:$AA77)-Z77)/2","v":0},{"$f":"(MAX($W77:$AA77)-AA77)/2","v":10}]
["2011-06-14",-1,38,30,null,-1,32,34,null,1,33,34,null,1,41,26,null,1,{"$f":"S77+IF(R78>0,R78,0)","v":31},{"$f":"T77-IF(R78<0,R78,0)","v":36},null,null,{"$f":"C78-D78","v":8},{"$f":"G78-H78","v":-2},{"$f":"K78-L78","v":-1},{"$f":"O78-P78","v":15},{"$f":"S78-T78","v":-5},null,{"$f":"(MAX($W78:$AA78)-W78)/2","v":3.5},{"$f":"(MAX($W78:$AA78)-X78)/2","v":8.5},{"$f":"(MAX($W78:$AA78)-Y78)/2","v":8},{"$f":"(MAX($W78:$AA78)-Z78)/2","v":0},{"$f":"(MAX($W78:$AA78)-AA78)/2","v":10}]
["2011-06-15",-1,38,31,null,-2,32,36,null,1,34,34,null,2,43,26,null,1,32,36,null,null,{"$f":"C79-D79","v":7},{"$f":"G79-H79","v":-4},{"$f":"K79-L79","v":0},{"$f":"O79-P79","v":17},{"$f":"S79-T79","v":-4},null,{"$f":"(MAX($W79:$AA79)-W79)/2","v":5},{"$f":"(MAX($W79:$AA79)-X79)/2","v":10.5},{"$f":"(MAX($W79:$AA79)-Y79)/2","v":8.5},{"$f":"(MAX($W79:$AA79)-Z79)/2","v":0},{"$f":"(MAX($W79:$AA79)-AA79)/2","v":10.5}]
["2011-06-16",1,39,31,null,-1,32,37,null,-1,34,35,null,1,44,26,null,1,33,36,null,null,{"$f":"C80-D80","v":8},{"$f":"G80-H80","v":-5},{"$f":"K80-L80","v":-1},{"$f":"O80-P80","v":18},{"$f":"S80-T80","v":-3},null,{"$f":"(MAX($W80:$AA80)-W80)/2","v":5},{"$f":"(MAX($W80:$AA80)-X80)/2","v":11.5},{"$f":"(MAX($W80:$AA80)-Y80)/2","v":9.5},{"$f":"(MAX($W80:$AA80)-Z80)/2","v":0},{"$f":"(MAX($W80:$AA80)-AA80)/2","v":10.5}]
["2011-06-17",-1,39,32,null,-1,32,38,null,-1,34,36,null,-1,44,27,null,1,34,36,null,null,{"$f":"C81-D81","v":7},{"$f":"G81-H81","v":-6},{"$f":"K81-L81","v":-2},{"$f":"O81-P81","v":17},{"$f":"S81-T81","v":-2},null,{"$f":"(MAX($W81:$AA81)-W81)/2","v":5},{"$f":"(MAX($W81:$AA81)-X81)/2","v":11.5},{"$f":"(MAX($W81:$AA81)-Y81)/2","v":9.5},{"$f":"(MAX($W81:$AA81)-Z81)/2","v":0},{"$f":"(MAX($W81:$AA81)-AA81)/2","v":9.5}]
["2011-06-18",-1,39,33,null,-1,32,39,null,1,35,36,null,1,45,27,null,1,35,36,null,null,{"$f":"C82-D82","v":6},{"$f":"G82-H82","v":-7},{"$f":"K82-L82","v":-1},{"$f":"O82-P82","v":18},{"$f":"S82-T82","v":-1},null,{"$f":"(MAX($W82:$AA82)-W82)/2","v":6},{"$f":"(MAX($W82:$AA82)-X82)/2","v":12.5},{"$f":"(MAX($W82:$AA82)-Y82)/2","v":9.5},{"$f":"(MAX($W82:$AA82)-Z82)/2","v":0},{"$f":"(MAX($W82:$AA82)-AA82)/2","v":9.5}]
["2011-06-19",1,40,33,null,-1,32,40,null,-1,35,37,null,-1,45,28,null,-1,35,37,null,null,{"$f":"C83-D83","v":7},{"$f":"G83-H83","v":-8},{"$f":"K83-L83","v":-2},{"$f":"O83-P83","v":17},{"$f":"S83-T83","v":-2},null,{"$f":"(MAX($W83:$AA83)-W83)/2","v":5},{"$f":"(MAX($W83:$AA83)-X83)/2","v":12.5},{"$f":"(MAX($W83:$AA83)-Y83)/2","v":9.5},{"$f":"(MAX($W83:$AA83)-Z83)/2","v":0},{"$f":"(MAX($W83:$AA83)-AA83)/2","v":9.5}]
["2011-06-20",1,41,33,null,-1,32,41,null,null,35,37,null,null,45,28,null,null,35,37,null,null,{"$f":"C84-D84","v":8},{"$f":"G84-H84","v":-9},{"$f":"K84-L84","v":-2},{"$f":"O84-P84","v":17},{"$f":"S84-T84","v":-2},null,{"$f":"(MAX($W84:$AA84)-W84)/2","v":4.5},{"$f":"(MAX($W84:$AA84)-X84)/2","v":13},{"$f":"(MAX($W84:$AA84)-Y84)/2","v":9.5},{"$f":"(MAX($W84:$AA84)-Z84)/2","v":0},{"$f":"(MAX($W84:$AA84)-AA84)/2","v":9.5}]
["2011-06-21",1,42,33,null,1,33,41,null,-1,35,38,null,1,46,28,null,1,36,37,null,null,{"$f":"C85-D85","v":9},{"$f":"G85-H85","v":-8},{"$f":"K85-L85","v":-3},{"$f":"O85-P85","v":18},{"$f":"S85-T85","v":-1},null,{"$f":"(MAX($W85:$AA85)-W85)/2","v":4.5},{"$f":"(MAX($W85:$AA85)-X85)/2","v":13},{"$f":"(MAX($W85:$AA85)-Y85)/2","v":10.5},{"$f":"(MAX($W85:$AA85)-Z85)/2","v":0},{"$f":"(MAX($W85:$AA85)-AA85)/2","v":9.5}]
["2011-06-22",1,43,33,null,-1,{"$f":"G85+IF(F86>0,F86,0)","v":33},{"$f":"H85-IF(F86<0,F86,0)","v":42},null,1,36,38,null,1,47,28,null,1,37,37,null,null,{"$f":"C86-D86","v":10},{"$f":"G86-H86","v":-9},{"$f":"K86-L86","v":-2},{"$f":"O86-P86","v":19},{"$f":"S86-T86","v":0},null,{"$f":"(MAX($W86:$AA86)-W86)/2","v":4.5},{"$f":"(MAX($W86:$AA86)-X86)/2","v":14},{"$f":"(MAX($W86:$AA86)-Y86)/2","v":10.5},{"$f":"(MAX($W86:$AA86)-Z86)/2","v":0},{"$f":"(MAX($W86:$AA86)-AA86)/2","v":9.5}]
["2011-06-23",null,43,33,null,null,33,42,null,1,37,38,null,-1,47,29,null,1,38,37,null,null,{"$f":"C87-D87","v":10},{"$f":"G87-H87","v":-9},{"$f":"K87-L87","v":-1},{"$f":"O87-P87","v":18},{"$f":"S87-T87","v":1},null,{"$f":"(MAX($W87:$AA87)-W87)/2","v":4},{"$f":"(MAX($W87:$AA87)-X87)/2","v":13.5},{"$f":"(MAX($W87:$AA87)-Y87)/2","v":9.5},{"$f":"(MAX($W87:$AA87)-Z87)/2","v":0},{"$f":"(MAX($W87:$AA87)-AA87)/2","v":8.5}]
["2011-06-24",-1,43,34,null,-1,33,43,null,-1,37,39,null,1,48,29,null,1,{"$f":"S87+IF(R88>0,R88,0)","v":39},{"$f":"T87-IF(R88<0,R88,0)","v":37},null,null,{"$f":"C88-D88","v":9},{"$f":"G88-H88","v":-10},{"$f":"K88-L88","v":-2},{"$f":"O88-P88","v":19},{"$f":"S88-T88","v":2},null,{"$f":"(MAX($W88:$AA88)-W88)/2","v":5},{"$f":"(MAX($W88:$AA88)-X88)/2","v":14.5},{"$f":"(MAX($W88:$AA88)-Y88)/2","v":10.5},{"$f":"(MAX($W88:$AA88)-Z88)/2","v":0},{"$f":"(MAX($W88:$AA88)-AA88)/2","v":8.5}]
["2011-06-25",1,44,34,null,1,34,43,null,1,38,39,null,-1,48,30,null,-1,39,38,null,null,{"$f":"C89-D89","v":10},{"$f":"G89-H89","v":-9},{"$f":"K89-L89","v":-1},{"$f":"O89-P89","v":18},{"$f":"S89-T89","v":1},null,{"$f":"(MAX($W89:$AA89)-W89)/2","v":4},{"$f":"(MAX($W89:$AA89)-X89)/2","v":13.5},{"$f":"(MAX($W89:$AA89)-Y89)/2","v":9.5},{"$f":"(MAX($W89:$AA89)-Z89)/2","v":0},{"$f":"(MAX($W89:$AA89)-AA89)/2","v":8.5}]
["2011-06-26",-1,44,35,null,-1,34,44,null,1,39,39,null,1,49,30,null,1,40,38,null,null,{"$f":"C90-D90","v":9},{"$f":"G90-H90","v":-10},{"$f":"K90-L90","v":0},{"$f":"O90-P90","v":19},{"$f":"S90-T90","v":2},null,{"$f":"(MAX($W90:$AA90)-W90)/2","v":5},{"$f":"(MAX($W90:$AA90)-X90)/2","v":14.5},{"$f":"(MAX($W90:$AA90)-Y90)/2","v":9.5},{"$f":"(MAX($W90:$AA90)-Z90)/2","v":0},{"$f":"(MAX($W90:$AA90)-AA90)/2","v":8.5}]
["2011-06-27",1,45,35,null,null,34,44,null,null,39,39,null,null,49,30,null,-1,40,39,null,null,{"$f":"C91-D91","v":10},{"$f":"G91-H91","v":-10},{"$f":"K91-L91","v":0},{"$f":"O91-P91","v":19},{"$f":"S91-T91","v":1},null,{"$f":"(MAX($W91:$AA91)-W91)/2","v":4.5},{"$f":"(MAX($W91:$AA91)-X91)/2","v":14.5},{"$f":"(MAX($W91:$AA91)-Y91)/2","v":9.5},{"$f":"(MAX($W91:$AA91)-Z91)/2","v":0},{"$f":"(MAX($W91:$AA91)-AA91)/2","v":9}]
["2011-06-28",1,46,35,null,-1,34,45,null,1,40,39,null,1,50,30,null,-1,40,40,null,null,{"$f":"C92-D92","v":11},{"$f":"G92-H92","v":-11},{"$f":"K92-L92","v":1},{"$f":"O92-P92","v":20},{"$f":"S92-T92","v":0},null,{"$f":"(MAX($W92:$AA92)-W92)/2","v":4.5},{"$f":"(MAX($W92:$AA92)-X92)/2","v":15.5},{"$f":"(MAX($W92:$AA92)-Y92)/2","v":9.5},{"$f":"(MAX($W92:$AA92)-Z92)/2","v":0},{"$f":"(MAX($W92:$AA92)-AA92)/2","v":10}]
["2011-06-29",1,47,35,null,1,35,45,null,1,41,39,null,1,51,30,null,-1,40,41,null,null,{"$f":"C93-D93","v":12},{"$f":"G93-H93","v":-10},{"$f":"K93-L93","v":2},{"$f":"O93-P93","v":21},{"$f":"S93-T93","v":-1},null,{"$f":"(MAX($W93:$AA93)-W93)/2","v":4.5},{"$f":"(MAX($W93:$AA93)-X93)/2","v":15.5},{"$f":"(MAX($W93:$AA93)-Y93)/2","v":9.5},{"$f":"(MAX($W93:$AA93)-Z93)/2","v":0},{"$f":"(MAX($W93:$AA93)-AA93)/2","v":11}]
["2011-06-30",null,47,35,null,1,36,45,null,-1,41,40,null,-1,51,31,null,null,40,41,null,null,{"$f":"C94-D94","v":12},{"$f":"G94-H94","v":-9},{"$f":"K94-L94","v":1},{"$f":"O94-P94","v":20},{"$f":"S94-T94","v":-1},null,{"$f":"(MAX($W94:$AA94)-W94)/2","v":4},{"$f":"(MAX($W94:$AA94)-X94)/2","v":14.5},{"$f":"(MAX($W94:$AA94)-Y94)/2","v":9.5},{"$f":"(MAX($W94:$AA94)-Z94)/2","v":0},{"$f":"(MAX($W94:$AA94)-AA94)/2","v":10.5}]
["2011-07-01",1,48,35,null,-1,36,46,null,-1,41,41,null,1,52,31,null,1,41,41,null,null,{"$f":"C95-D95","v":13},{"$f":"G95-H95","v":-10},{"$f":"K95-L95","v":0},{"$f":"O95-P95","v":21},{"$f":"S95-T95","v":0},null,{"$f":"(MAX($W95:$AA95)-W95)/2","v":4},{"$f":"(MAX($W95:$AA95)-X95)/2","v":15.5},{"$f":"(MAX($W95:$AA95)-Y95)/2","v":10.5},{"$f":"(MAX($W95:$AA95)-Z95)/2","v":0},{"$f":"(MAX($W95:$AA95)-AA95)/2","v":10.5}]
["2011-07-02",1,49,35,null,1,37,46,null,-1,41,42,null,1,53,31,null,0,42,42,null,null,{"$f":"C96-D96","v":14},{"$f":"G96-H96","v":-9},{"$f":"K96-L96","v":-1},{"$f":"O96-P96","v":22},{"$f":"S96-T96","v":0},null,{"$f":"(MAX($W96:$AA96)-W96)/2","v":4},{"$f":"(MAX($W96:$AA96)-X96)/2","v":15.5},{"$f":"(MAX($W96:$AA96)-Y96)/2","v":11.5},{"$f":"(MAX($W96:$AA96)-Z96)/2","v":0},{"$f":"(MAX($W96:$AA96)-AA96)/2","v":11}]
["2011-07-03",-1,49,36,null,1,38,46,null,1,42,42,null,-1,53,32,null,-1,42,43,null,null,{"$f":"C97-D97","v":13},{"$f":"G97-H97","v":-8},{"$f":"K97-L97","v":0},{"$f":"O97-P97","v":21},{"$f":"S97-T97","v":-1},null,{"$f":"(MAX($W97:$AA97)-W97)/2","v":4},{"$f":"(MAX($W97:$AA97)-X97)/2","v":14.5},{"$f":"(MAX($W97:$AA97)-Y97)/2","v":10.5},{"$f":"(MAX($W97:$AA97)-Z97)/2","v":0},{"$f":"(MAX($W97:$AA97)-AA97)/2","v":11}]
["2011-07-04",1,50,36,null,-1,38,47,null,1,43,42,null,1,54,32,null,1,43,43,null,null,{"$f":"C98-D98","v":14},{"$f":"G98-H98","v":-9},{"$f":"K98-L98","v":1},{"$f":"O98-P98","v":22},{"$f":"S98-T98","v":0},null,{"$f":"(MAX($W98:$AA98)-W98)/2","v":4},{"$f":"(MAX($W98:$AA98)-X98)/2","v":15.5},{"$f":"(MAX($W98:$AA98)-Y98)/2","v":10.5},{"$f":"(MAX($W98:$AA98)-Z98)/2","v":0},{"$f":"(MAX($W98:$AA98)-AA98)/2","v":11}]
["2011-07-05",1,51,36,null,-1,38,48,null,1,44,42,null,1,55,32,null,1,44,43,null,null,{"$f":"C99-D99","v":15},{"$f":"G99-H99","v":-10},{"$f":"K99-L99","v":2},{"$f":"O99-P99","v":23},{"$f":"S99-T99","v":1},null,{"$f":"(MAX($W99:$AA99)-W99)/2","v":4},{"$f":"(MAX($W99:$AA99)-X99)/2","v":16.5},{"$f":"(MAX($W99:$AA99)-Y99)/2","v":10.5},{"$f":"(MAX($W99:$AA99)-Z99)/2","v":0},{"$f":"(MAX($W99:$AA99)-AA99)/2","v":11}]
["2011-07-06",1,{"$f":"C99+IF(B100>0,B100,0)","v":52},{"$f":"D99-IF(B100<0,B100,0)","v":36},null,1,39,48,null,1,45,42,null,-1,55,33,null,1,45,43,null,null,{"$f":"C100-D100","v":16},{"$f":"G100-H100","v":-9},{"$f":"K100-L100","v":3},{"$f":"O100-P100","v":22},{"$f":"S100-T100","v":2},null,{"$f":"(MAX($W100:$AA100)-W100)/2","v":3},{"$f":"(MAX($W100:$AA100)-X100)/2","v":15.5},{"$f":"(MAX($W100:$AA100)-Y100)/2","v":9.5},{"$f":"(MAX($W100:$AA100)-Z100)/2","v":0},{"$f":"(MAX($W100:$AA100)-AA100)/2","v":10}]
["2011-07-07",1,53,36,null,1,40,48,null,-1,45,43,null,null,55,33,null,-1,45,44,null,null,{"$f":"C101-D101","v":17},{"$f":"G101-H101","v":-8},{"$f":"K101-L101","v":2},{"$f":"O101-P101","v":22},{"$f":"S101-T101","v":1},null,{"$f":"(MAX($W101:$AA101)-W101)/2","v":2.5},{"$f":"(MAX($W101:$AA101)-X101)/2","v":15},{"$f":"(MAX($W101:$AA101)-Y101)/2","v":10},{"$f":"(MAX($W101:$AA101)-Z101)/2","v":0},{"$f":"(MAX($W101:$AA101)-AA101)/2","v":10.5}]
["2011-07-08",-1,53,37,null,1,41,48,null,1,46,43,null,1,56,33,null,-1,45,45,null,null,{"$f":"C102-D102","v":16},{"$f":"G102-H102","v":-7},{"$f":"K102-L102","v":3},{"$f":"O102-P102","v":23},{"$f":"S102-T102","v":0},null,{"$f":"(MAX($W102:$AA102)-W102)/2","v":3.5},{"$f":"(MAX($W102:$AA102)-X102)/2","v":15},{"$f":"(MAX($W102:$AA102)-Y102)/2","v":10},{"$f":"(MAX($W102:$AA102)-Z102)/2","v":0},{"$f":"(MAX($W102:$AA102)-AA102)/2","v":11.5}]
["2011-07-09",1,{"$f":"C102+IF(B103>0,B103,0)","v":54},{"$f":"D102-IF(B103<0,B103,0)","v":37},null,1,{"$f":"G102+IF(F103>0,F103,0)","v":42},{"$f":"H102-IF(F103<0,F103,0)","v":48},null,-1,{"$f":"K102+IF(J103>0,J103,0)","v":46},{"$f":"L102-IF(J103<0,J103,0)","v":44},null,-1,{"$f":"O102+IF(N103>0,N103,0)","v":56},{"$f":"P102-IF(N103<0,N103,0)","v":34},null,-1,45,46,null,null,{"$f":"C103-D103","v":17},{"$f":"G103-H103","v":-6},{"$f":"K103-L103","v":2},{"$f":"O103-P103","v":22},{"$f":"S103-T103","v":-1},null,{"$f":"(MAX($W103:$AA103)-W103)/2","v":2.5},{"$f":"(MAX($W103:$AA103)-X103)/2","v":14},{"$f":"(MAX($W103:$AA103)-Y103)/2","v":10},{"$f":"(MAX($W103:$AA103)-Z103)/2","v":0},{"$f":"(MAX($W103:$AA103)-AA103)/2","v":11.5}]
["2011-07-10",-1,54,38,null,1,43,48,null,-1,46,45,null,1,57,34,null,1,46,46,null,null,{"$f":"C104-D104","v":16},{"$f":"G104-H104","v":-5},{"$f":"K104-L104","v":1},{"$f":"O104-P104","v":23},{"$f":"S104-T104","v":0},null,{"$f":"(MAX($W104:$AA104)-W104)/2","v":3.5},{"$f":"(MAX($W104:$AA104)-X104)/2","v":14},{"$f":"(MAX($W104:$AA104)-Y104)/2","v":11},{"$f":"(MAX($W104:$AA104)-Z104)/2","v":0},{"$f":"(MAX($W104:$AA104)-AA104)/2","v":11.5}]
["2011-07-11",null,54,38,null,null,43,48,null,null,46,45,null,null,57,34,null,null,46,46,null,null,{"$f":"C105-D105","v":16},{"$f":"G105-H105","v":-5},{"$f":"K105-L105","v":1},{"$f":"O105-P105","v":23},{"$f":"S105-T105","v":0},null,{"$f":"(MAX($W105:$AA105)-W105)/2","v":3.5},{"$f":"(MAX($W105:$AA105)-X105)/2","v":14},{"$f":"(MAX($W105:$AA105)-Y105)/2","v":11},{"$f":"(MAX($W105:$AA105)-Z105)/2","v":0},{"$f":"(MAX($W105:$AA105)-AA105)/2","v":11.5}]
["2011-07-12",null,54,38,null,null,43,48,null,null,46,45,null,null,57,34,null,null,46,46,null,null,{"$f":"C106-D106","v":16},{"$f":"G106-H106","v":-5},{"$f":"K106-L106","v":1},{"$f":"O106-P106","v":23},{"$f":"S106-T106","v":0},null,{"$f":"(MAX($W106:$AA106)-W106)/2","v":3.5},{"$f":"(MAX($W106:$AA106)-X106)/2","v":14},{"$f":"(MAX($W106:$AA106)-Y106)/2","v":11},{"$f":"(MAX($W106:$AA106)-Z106)/2","v":0},{"$f":"(MAX($W106:$AA106)-AA106)/2","v":11.5}]
["2011-07-13",null,54,38,null,null,43,48,null,null,46,45,null,null,57,34,null,null,46,46,null,null,{"$f":"C107-D107","v":16},{"$f":"G107-H107","v":-5},{"$f":"K107-L107","v":1},{"$f":"O107-P107","v":23},{"$f":"S107-T107","v":0},null,{"$f":"(MAX($W107:$AA107)-W107)/2","v":3.5},{"$f":"(MAX($W107:$AA107)-X107)/2","v":14},{"$f":"(MAX($W107:$AA107)-Y107)/2","v":11},{"$f":"(MAX($W107:$AA107)-Z107)/2","v":0},{"$f":"(MAX($W107:$AA107)-AA107)/2","v":11.5}]
["2011-07-14",null,54,38,null,1,44,48,null,null,46,45,null,null,57,34,null,null,46,46,null,null,{"$f":"C108-D108","v":16},{"$f":"G108-H108","v":-4},{"$f":"K108-L108","v":1},{"$f":"O108-P108","v":23},{"$f":"S108-T108","v":0},null,{"$f":"(MAX($W108:$AA108)-W108)/2","v":3.5},{"$f":"(MAX($W108:$AA108)-X108)/2","v":13.5},{"$f":"(MAX($W108:$AA108)-Y108)/2","v":11},{"$f":"(MAX($W108:$AA108)-Z108)/2","v":0},{"$f":"(MAX($W108:$AA108)-AA108)/2","v":11.5}]
["2011-07-15",1,55,38,null,-1,44,49,null,-1,46,46,null,1,58,34,null,-1,46,47,null,null,{"$f":"C109-D109","v":17},{"$f":"G109-H109","v":-5},{"$f":"K109-L109","v":0},{"$f":"O109-P109","v":24},{"$f":"S109-T109","v":-1},null,{"$f":"(MAX($W109:$AA109)-W109)/2","v":3.5},{"$f":"(MAX($W109:$AA109)-X109)/2","v":14.5},{"$f":"(MAX($W109:$AA109)-Y109)/2","v":12},{"$f":"(MAX($W109:$AA109)-Z109)/2","v":0},{"$f":"(MAX($W109:$AA109)-AA109)/2","v":12.5}]
["2011-07-16",-1,55,39,null,1,45,49,null,1,47,46,null,-1,58,35,null,1,{"$f":"S109+IF(R110>0,R110,0)","v":47},{"$f":"T109-IF(R110<0,R110,0)","v":47},null,null,{"$f":"C110-D110","v":16},{"$f":"G110-H110","v":-4},{"$f":"K110-L110","v":1},{"$f":"O110-P110","v":23},{"$f":"S110-T110","v":0},null,{"$f":"(MAX($W110:$AA110)-W110)/2","v":3.5},{"$f":"(MAX($W110:$AA110)-X110)/2","v":13.5},{"$f":"(MAX($W110:$AA110)-Y110)/2","v":11},{"$f":"(MAX($W110:$AA110)-Z110)/2","v":0},{"$f":"(MAX($W110:$AA110)-AA110)/2","v":11.5}]
["2011-07-17",1,56,39,null,1,46,49,null,-1,47,47,null,1,59,35,null,-1,47,48,null,null,{"$f":"C111-D111","v":17},{"$f":"G111-H111","v":-3},{"$f":"K111-L111","v":0},{"$f":"O111-P111","v":24},{"$f":"S111-T111","v":-1},null,{"$f":"(MAX($W111:$AA111)-W111)/2","v":3.5},{"$f":"(MAX($W111:$AA111)-X111)/2","v":13.5},{"$f":"(MAX($W111:$AA111)-Y111)/2","v":12},{"$f":"(MAX($W111:$AA111)-Z111)/2","v":0},{"$f":"(MAX($W111:$AA111)-AA111)/2","v":12.5}]
["2011-07-18",1,57,39,null,1,47,49,null,-1,47,48,null,-1,59,36,null,1,48,48,null,null,{"$f":"C112-D112","v":18},{"$f":"G112-H112","v":-2},{"$f":"K112-L112","v":-1},{"$f":"O112-P112","v":23},{"$f":"S112-T112","v":0},null,{"$f":"(MAX($W112:$AA112)-W112)/2","v":2.5},{"$f":"(MAX($W112:$AA112)-X112)/2","v":12.5},{"$f":"(MAX($W112:$AA112)-Y112)/2","v":12},{"$f":"(MAX($W112:$AA112)-Z112)/2","v":0},{"$f":"(MAX($W112:$AA112)-AA112)/2","v":11.5}]
["2011-07-19",-1,57,40,null,-1,47,50,null,1,48,48,null,1,60,36,null,-1,48,49,null,null,{"$f":"C113-D113","v":17},{"$f":"G113-H113","v":-3},{"$f":"K113-L113","v":0},{"$f":"O113-P113","v":24},{"$f":"S113-T113","v":-1},null,{"$f":"(MAX($W113:$AA113)-W113)/2","v":3.5},{"$f":"(MAX($W113:$AA113)-X113)/2","v":13.5},{"$f":"(MAX($W113:$AA113)-Y113)/2","v":12},{"$f":"(MAX($W113:$AA113)-Z113)/2","v":0},{"$f":"(MAX($W113:$AA113)-AA113)/2","v":12.5}]
["2011-07-20",-1,57,41,null,-1,47,51,null,1,49,48,null,1,61,36,null,-1,48,50,null,null,{"$f":"C114-D114","v":16},{"$f":"G114-H114","v":-4},{"$f":"K114-L114","v":1},{"$f":"O114-P114","v":25},{"$f":"S114-T114","v":-2},null,{"$f":"(MAX($W114:$AA114)-W114)/2","v":4.5},{"$f":"(MAX($W114:$AA114)-X114)/2","v":14.5},{"$f":"(MAX($W114:$AA114)-Y114)/2","v":12},{"$f":"(MAX($W114:$AA114)-Z114)/2","v":0},{"$f":"(MAX($W114:$AA114)-AA114)/2","v":13.5}]
["2011-07-21",1,58,41,null,-1,47,52,null,-1,49,49,null,null,61,36,null,null,48,50,null,null,{"$f":"C115-D115","v":17},{"$f":"G115-H115","v":-5},{"$f":"K115-L115","v":0},{"$f":"O115-P115","v":25},{"$f":"S115-T115","v":-2},null,{"$f":"(MAX($W115:$AA115)-W115)/2","v":4},{"$f":"(MAX($W115:$AA115)-X115)/2","v":15},{"$f":"(MAX($W115:$AA115)-Y115)/2","v":12.5},{"$f":"(MAX($W115:$AA115)-Z115)/2","v":0},{"$f":"(MAX($W115:$AA115)-AA115)/2","v":13.5}]
["2011-07-22",1,59,41,null,-1,47,53,null,1,50,49,null,1,62,36,null,1,49,50,null,null,{"$f":"C116-D116","v":18},{"$f":"G116-H116","v":-6},{"$f":"K116-L116","v":1},{"$f":"O116-P116","v":26},{"$f":"S116-T116","v":-1},null,{"$f":"(MAX($W116:$AA116)-W116)/2","v":4},{"$f":"(MAX($W116:$AA116)-X116)/2","v":16},{"$f":"(MAX($W116:$AA116)-Y116)/2","v":12.5},{"$f":"(MAX($W116:$AA116)-Z116)/2","v":0},{"$f":"(MAX($W116:$AA116)-AA116)/2","v":13.5}]
["2011-07-23",-1,59,42,null,1,48,53,null,-1,50,50,null,1,63,36,null,-1,49,51,null,null,{"$f":"C117-D117","v":17},{"$f":"G117-H117","v":-5},{"$f":"K117-L117","v":0},{"$f":"O117-P117","v":27},{"$f":"S117-T117","v":-2},null,{"$f":"(MAX($W117:$AA117)-W117)/2","v":5},{"$f":"(MAX($W117:$AA117)-X117)/2","v":16},{"$f":"(MAX($W117:$AA117)-Y117)/2","v":13.5},{"$f":"(MAX($W117:$AA117)-Z117)/2","v":0},{"$f":"(MAX($W117:$AA117)-AA117)/2","v":14.5}]
["2011-07-24",-1,59,43,null,1,49,53,null,-1,50,51,null,1,64,36,null,-1,49,52,null,null,{"$f":"C118-D118","v":16},{"$f":"G118-H118","v":-4},{"$f":"K118-L118","v":-1},{"$f":"O118-P118","v":28},{"$f":"S118-T118","v":-3},null,{"$f":"(MAX($W118:$AA118)-W118)/2","v":6},{"$f":"(MAX($W118:$AA118)-X118)/2","v":16},{"$f":"(MAX($W118:$AA118)-Y118)/2","v":14.5},{"$f":"(MAX($W118:$AA118)-Z118)/2","v":0},{"$f":"(MAX($W118:$AA118)-AA118)/2","v":15.5}]
["2011-07-25",-1,59,44,null,null,49,53,null,1,51,51,null,-1,64,37,null,null,49,52,null,null,{"$f":"C119-D119","v":15},{"$f":"G119-H119","v":-4},{"$f":"K119-L119","v":0},{"$f":"O119-P119","v":27},{"$f":"S119-T119","v":-3},null,{"$f":"(MAX($W119:$AA119)-W119)/2","v":6},{"$f":"(MAX($W119:$AA119)-X119)/2","v":15.5},{"$f":"(MAX($W119:$AA119)-Y119)/2","v":13.5},{"$f":"(MAX($W119:$AA119)-Z119)/2","v":0},{"$f":"(MAX($W119:$AA119)-AA119)/2","v":15}]
["2011-07-26",1,60,44,null,1,50,53,null,1,52,51,null,1,65,37,null,-1,49,53,null,null,{"$f":"C120-D120","v":16},{"$f":"G120-H120","v":-3},{"$f":"K120-L120","v":1},{"$f":"O120-P120","v":28},{"$f":"S120-T120","v":-4},null,{"$f":"(MAX($W120:$AA120)-W120)/2","v":6},{"$f":"(MAX($W120:$AA120)-X120)/2","v":15.5},{"$f":"(MAX($W120:$AA120)-Y120)/2","v":13.5},{"$f":"(MAX($W120:$AA120)-Z120)/2","v":0},{"$f":"(MAX($W120:$AA120)-AA120)/2","v":16}]
["2011-07-27",1,61,44,null,1,51,53,null,1,53,51,null,-1,65,38,null,-1,49,54,null,null,{"$f":"C121-D121","v":17},{"$f":"G121-H121","v":-2},{"$f":"K121-L121","v":2},{"$f":"O121-P121","v":27},{"$f":"S121-T121","v":-5},null,{"$f":"(MAX($W121:$AA121)-W121)/2","v":5},{"$f":"(MAX($W121:$AA121)-X121)/2","v":14.5},{"$f":"(MAX($W121:$AA121)-Y121)/2","v":12.5},{"$f":"(MAX($W121:$AA121)-Z121)/2","v":0},{"$f":"(MAX($W121:$AA121)-AA121)/2","v":16}]
["2011-07-28",-1,61,45,null,1,52,53,null,1,54,51,null,-1,65,39,null,-1,49,55,null,null,{"$f":"C122-D122","v":16},{"$f":"G122-H122","v":-1},{"$f":"K122-L122","v":3},{"$f":"O122-P122","v":26},{"$f":"S122-T122","v":-6},null,{"$f":"(MAX($W122:$AA122)-W122)/2","v":5},{"$f":"(MAX($W122:$AA122)-X122)/2","v":13.5},{"$f":"(MAX($W122:$AA122)-Y122)/2","v":11.5},{"$f":"(MAX($W122:$AA122)-Z122)/2","v":0},{"$f":"(MAX($W122:$AA122)-AA122)/2","v":16}]
["2011-07-29",1,62,45,null,-1,52,54,null,1,55,51,null,1,66,39,null,-1,49,56,null,null,{"$f":"C123-D123","v":17},{"$f":"G123-H123","v":-2},{"$f":"K123-L123","v":4},{"$f":"O123-P123","v":27},{"$f":"S123-T123","v":-7},null,{"$f":"(MAX($W123:$AA123)-W123)/2","v":5},{"$f":"(MAX($W123:$AA123)-X123)/2","v":14.5},{"$f":"(MAX($W123:$AA123)-Y123)/2","v":11.5},{"$f":"(MAX($W123:$AA123)-Z123)/2","v":0},{"$f":"(MAX($W123:$AA123)-AA123)/2","v":17}]
["2011-07-30",1,63,45,null,-1,52,55,null,-1,55,52,null,1,67,39,null,1,50,56,null,null,{"$f":"C124-D124","v":18},{"$f":"G124-H124","v":-3},{"$f":"K124-L124","v":3},{"$f":"O124-P124","v":28},{"$f":"S124-T124","v":-6},null,{"$f":"(MAX($W124:$AA124)-W124)/2","v":5},{"$f":"(MAX($W124:$AA124)-X124)/2","v":15.5},{"$f":"(MAX($W124:$AA124)-Y124)/2","v":12.5},{"$f":"(MAX($W124:$AA124)-Z124)/2","v":0},{"$f":"(MAX($W124:$AA124)-AA124)/2","v":17}]
["2011-07-31",-1,63,46,null,1,53,55,null,-1,55,53,null,1,68,39,null,1,51,56,null,null,{"$f":"C125-D125","v":17},{"$f":"G125-H125","v":-2},{"$f":"K125-L125","v":2},{"$f":"O125-P125","v":29},{"$f":"S125-T125","v":-5},null,{"$f":"(MAX($W125:$AA125)-W125)/2","v":6},{"$f":"(MAX($W125:$AA125)-X125)/2","v":15.5},{"$f":"(MAX($W125:$AA125)-Y125)/2","v":13.5},{"$f":"(MAX($W125:$AA125)-Z125)/2","v":0},{"$f":"(MAX($W125:$AA125)-AA125)/2","v":17}]
["2011-08-01",-1,63,47,null,1,54,55,null,-1,55,54,null,1,69,39,null,1,52,56,null,null,{"$f":"C126-D126","v":16},{"$f":"G126-H126","v":-1},{"$f":"K126-L126","v":1},{"$f":"O126-P126","v":30},{"$f":"S126-T126","v":-4},null,{"$f":"(MAX($W126:$AA126)-W126)/2","v":7},{"$f":"(MAX($W126:$AA126)-X126)/2","v":15.5},{"$f":"(MAX($W126:$AA126)-Y126)/2","v":14.5},{"$f":"(MAX($W126:$AA126)-Z126)/2","v":0},{"$f":"(MAX($W126:$AA126)-AA126)/2","v":17}]
["2011-08-02",-1,63,48,null,1,55,55,null,-1,55,55,null,1,70,39,null,1,53,56,null,null,{"$f":"C127-D127","v":15},{"$f":"G127-H127","v":0},{"$f":"K127-L127","v":0},{"$f":"O127-P127","v":31},{"$f":"S127-T127","v":-3},null,{"$f":"(MAX($W127:$AA127)-W127)/2","v":8},{"$f":"(MAX($W127:$AA127)-X127)/2","v":15.5},{"$f":"(MAX($W127:$AA127)-Y127)/2","v":15.5},{"$f":"(MAX($W127:$AA127)-Z127)/2","v":0},{"$f":"(MAX($W127:$AA127)-AA127)/2","v":17}]
["2011-08-03",1,64,48,null,null,55,55,null,null,55,55,null,1,71,39,null,-1,53,57,null,null,{"$f":"C128-D128","v":16},{"$f":"G128-H128","v":0},{"$f":"K128-L128","v":0},{"$f":"O128-P128","v":32},{"$f":"S128-T128","v":-4},null,{"$f":"(MAX($W128:$AA128)-W128)/2","v":8},{"$f":"(MAX($W128:$AA128)-X128)/2","v":16},{"$f":"(MAX($W128:$AA128)-Y128)/2","v":16},{"$f":"(MAX($W128:$AA128)-Z128)/2","v":0},{"$f":"(MAX($W128:$AA128)-AA128)/2","v":18}]
["2011-08-04",null,64,48,null,-1,55,56,null,null,55,55,null,1,72,39,null,-1,53,58,null,null,{"$f":"C129-D129","v":16},{"$f":"G129-H129","v":-1},{"$f":"K129-L129","v":0},{"$f":"O129-P129","v":33},{"$f":"S129-T129","v":-5},null,{"$f":"(MAX($W129:$AA129)-W129)/2","v":8.5},{"$f":"(MAX($W129:$AA129)-X129)/2","v":17},{"$f":"(MAX($W129:$AA129)-Y129)/2","v":16.5},{"$f":"(MAX($W129:$AA129)-Z129)/2","v":0},{"$f":"(MAX($W129:$AA129)-AA129)/2","v":19}]
["2011-08-05",1,65,48,null,-1,55,57,null,-1,55,56,null,1,73,39,null,1,54,58,null,null,{"$f":"C130-D130","v":17},{"$f":"G130-H130","v":-2},{"$f":"K130-L130","v":-1},{"$f":"O130-P130","v":34},{"$f":"S130-T130","v":-4},null,{"$f":"(MAX($W130:$AA130)-W130)/2","v":8.5},{"$f":"(MAX($W130:$AA130)-X130)/2","v":18},{"$f":"(MAX($W130:$AA130)-Y130)/2","v":17.5},{"$f":"(MAX($W130:$AA130)-Z130)/2","v":0},{"$f":"(MAX($W130:$AA130)-AA130)/2","v":19}]
["2011-08-06",-1,65,49,null,-1,55,58,null,1,56,56,null,1,74,39,null,-1,54,59,null,null,{"$f":"C131-D131","v":16},{"$f":"G131-H131","v":-3},{"$f":"K131-L131","v":0},{"$f":"O131-P131","v":35},{"$f":"S131-T131","v":-5},null,{"$f":"(MAX($W131:$AA131)-W131)/2","v":9.5},{"$f":"(MAX($W131:$AA131)-X131)/2","v":19},{"$f":"(MAX($W131:$AA131)-Y131)/2","v":17.5},{"$f":"(MAX($W131:$AA131)-Z131)/2","v":0},{"$f":"(MAX($W131:$AA131)-AA131)/2","v":20}]
["2011-08-07",1,66,49,null,-1,55,59,null,-1,56,57,null,-1,74,40,null,1,55,59,null,null,{"$f":"C132-D132","v":17},{"$f":"G132-H132","v":-4},{"$f":"K132-L132","v":-1},{"$f":"O132-P132","v":34},{"$f":"S132-T132","v":-4},null,{"$f":"(MAX($W132:$AA132)-W132)/2","v":8.5},{"$f":"(MAX($W132:$AA132)-X132)/2","v":19},{"$f":"(MAX($W132:$AA132)-Y132)/2","v":17.5},{"$f":"(MAX($W132:$AA132)-Z132)/2","v":0},{"$f":"(MAX($W132:$AA132)-AA132)/2","v":19}]
["2011-08-08",1,67,49,null,-1,55,60,null,1,57,57,null,1,75,40,null,null,55,59,null,null,{"$f":"C133-D133","v":18},{"$f":"G133-H133","v":-5},{"$f":"K133-L133","v":0},{"$f":"O133-P133","v":35},{"$f":"S133-T133","v":-4},null,{"$f":"(MAX($W133:$AA133)-W133)/2","v":8.5},{"$f":"(MAX($W133:$AA133)-X133)/2","v":20},{"$f":"(MAX($W133:$AA133)-Y133)/2","v":17.5},{"$f":"(MAX($W133:$AA133)-Z133)/2","v":0},{"$f":"(MAX($W133:$AA133)-AA133)/2","v":19.5}]
["2011-08-09",1,68,49,null,-1,55,61,null,1,58,57,null,1,76,40,null,1,56,59,null,null,{"$f":"C134-D134","v":19},{"$f":"G134-H134","v":-6},{"$f":"K134-L134","v":1},{"$f":"O134-P134","v":36},{"$f":"S134-T134","v":-3},null,{"$f":"(MAX($W134:$AA134)-W134)/2","v":8.5},{"$f":"(MAX($W134:$AA134)-X134)/2","v":21},{"$f":"(MAX($W134:$AA134)-Y134)/2","v":17.5},{"$f":"(MAX($W134:$AA134)-Z134)/2","v":0},{"$f":"(MAX($W134:$AA134)-AA134)/2","v":19.5}]
["2011-08-10",1,{"$f":"C134+IF(B135>0,B135,0)","v":69},{"$f":"D134-IF(B135<0,B135,0)","v":49},null,-1,{"$f":"G134+IF(F135>0,F135,0)","v":55},{"$f":"H134-IF(F135<0,F135,0)","v":62},null,-1,{"$f":"K134+IF(J135>0,J135,0)","v":58},{"$f":"L134-IF(J135<0,J135,0)","v":58},null,1,{"$f":"O134+IF(N135>0,N135,0)","v":77},{"$f":"P134-IF(N135<0,N135,0)","v":40},null,-1,56,60,null,null,{"$f":"C135-D135","v":20},{"$f":"G135-H135","v":-7},{"$f":"K135-L135","v":0},{"$f":"O135-P135","v":37},{"$f":"S135-T135","v":-4},null,{"$f":"(MAX($W135:$AA135)-W135)/2","v":8.5},{"$f":"(MAX($W135:$AA135)-X135)/2","v":22},{"$f":"(MAX($W135:$AA135)-Y135)/2","v":18.5},{"$f":"(MAX($W135:$AA135)-Z135)/2","v":0},{"$f":"(MAX($W135:$AA135)-AA135)/2","v":20.5}]
["2011-08-11",null,69,49,null,null,55,62,null,-1,58,59,null,null,77,40,null,-1,56,61,null,null,{"$f":"C136-D136","v":20},{"$f":"G136-H136","v":-7},{"$f":"K136-L136","v":-1},{"$f":"O136-P136","v":37},{"$f":"S136-T136","v":-5},null,{"$f":"(MAX($W136:$AA136)-W136)/2","v":8.5},{"$f":"(MAX($W136:$AA136)-X136)/2","v":22},{"$f":"(MAX($W136:$AA136)-Y136)/2","v":19},{"$f":"(MAX($W136:$AA136)-Z136)/2","v":0},{"$f":"(MAX($W136:$AA136)-AA136)/2","v":21}]
["2011-08-12",1,70,49,null,1,56,62,null,-1,58,60,null,-1,77,41,null,1,57,61,null,null,{"$f":"C137-D137","v":21},{"$f":"G137-H137","v":-6},{"$f":"K137-L137","v":-2},{"$f":"O137-P137","v":36},{"$f":"S137-T137","v":-4},null,{"$f":"(MAX($W137:$AA137)-W137)/2","v":7.5},{"$f":"(MAX($W137:$AA137)-X137)/2","v":21},{"$f":"(MAX($W137:$AA137)-Y137)/2","v":19},{"$f":"(MAX($W137:$AA137)-Z137)/2","v":0},{"$f":"(MAX($W137:$AA137)-AA137)/2","v":20}]
["2011-08-13",-1,70,50,null,-1,56,63,null,-1,58,61,null,1,78,41,null,-1,57,62,null,null,{"$f":"C138-D138","v":20},{"$f":"G138-H138","v":-7},{"$f":"K138-L138","v":-3},{"$f":"O138-P138","v":37},{"$f":"S138-T138","v":-5},null,{"$f":"(MAX($W138:$AA138)-W138)/2","v":8.5},{"$f":"(MAX($W138:$AA138)-X138)/2","v":22},{"$f":"(MAX($W138:$AA138)-Y138)/2","v":20},{"$f":"(MAX($W138:$AA138)-Z138)/2","v":0},{"$f":"(MAX($W138:$AA138)-AA138)/2","v":21}]
["2011-08-14",-1,70,51,null,-1,56,64,null,-1,58,62,null,null,78,41,null,null,57,62,null,null,{"$f":"C139-D139","v":19},{"$f":"G139-H139","v":-8},{"$f":"K139-L139","v":-4},{"$f":"O139-P139","v":37},{"$f":"S139-T139","v":-5},null,{"$f":"(MAX($W139:$AA139)-W139)/2","v":9},{"$f":"(MAX($W139:$AA139)-X139)/2","v":22.5},{"$f":"(MAX($W139:$AA139)-Y139)/2","v":20.5},{"$f":"(MAX($W139:$AA139)-Z139)/2","v":0},{"$f":"(MAX($W139:$AA139)-AA139)/2","v":21}]
["2011-08-15",1,71,51,null,-1,56,65,null,1,59,62,null,null,78,41,null,null,57,62,null,null,{"$f":"C140-D140","v":20},{"$f":"G140-H140","v":-9},{"$f":"K140-L140","v":-3},{"$f":"O140-P140","v":37},{"$f":"S140-T140","v":-5},null,{"$f":"(MAX($W140:$AA140)-W140)/2","v":8.5},{"$f":"(MAX($W140:$AA140)-X140)/2","v":23},{"$f":"(MAX($W140:$AA140)-Y140)/2","v":20},{"$f":"(MAX($W140:$AA140)-Z140)/2","v":0},{"$f":"(MAX($W140:$AA140)-AA140)/2","v":21}]
["2011-08-16",1,72,51,null,1,57,65,null,-1,59,63,null,-1,78,42,null,1,58,62,null,null,{"$f":"C141-D141","v":21},{"$f":"G141-H141","v":-8},{"$f":"K141-L141","v":-4},{"$f":"O141-P141","v":36},{"$f":"S141-T141","v":-4},null,{"$f":"(MAX($W141:$AA141)-W141)/2","v":7.5},{"$f":"(MAX($W141:$AA141)-X141)/2","v":22},{"$f":"(MAX($W141:$AA141)-Y141)/2","v":20},{"$f":"(MAX($W141:$AA141)-Z141)/2","v":0},{"$f":"(MAX($W141:$AA141)-AA141)/2","v":20}]
["2011-08-17",-1,72,52,null,-1,57,66,null,1,60,63,null,1,79,42,null,-1,{"$f":"S141+IF(R142>0,R142,0)","v":58},{"$f":"T141-IF(R142<0,R142,0)","v":63},null,null,{"$f":"C142-D142","v":20},{"$f":"G142-H142","v":-9},{"$f":"K142-L142","v":-3},{"$f":"O142-P142","v":37},{"$f":"S142-T142","v":-5},null,{"$f":"(MAX($W142:$AA142)-W142)/2","v":8.5},{"$f":"(MAX($W142:$AA142)-X142)/2","v":23},{"$f":"(MAX($W142:$AA142)-Y142)/2","v":20},{"$f":"(MAX($W142:$AA142)-Z142)/2","v":0},{"$f":"(MAX($W142:$AA142)-AA142)/2","v":21}]
["2011-08-18",1,73,52,null,-1,57,67,null,null,60,63,null,1,80,42,null,1,59,63,null,null,{"$f":"C143-D143","v":21},{"$f":"G143-H143","v":-10},{"$f":"K143-L143","v":-3},{"$f":"O143-P143","v":38},{"$f":"S143-T143","v":-4},null,{"$f":"(MAX($W143:$AA143)-W143)/2","v":8.5},{"$f":"(MAX($W143:$AA143)-X143)/2","v":24},{"$f":"(MAX($W143:$AA143)-Y143)/2","v":20.5},{"$f":"(MAX($W143:$AA143)-Z143)/2","v":0},{"$f":"(MAX($W143:$AA143)-AA143)/2","v":21}]
["2011-08-19",1,74,52,null,-1,57,68,null,-1,60,64,null,-1,80,43,null,1,60,63,null,null,{"$f":"C144-D144","v":22},{"$f":"G144-H144","v":-11},{"$f":"K144-L144","v":-4},{"$f":"O144-P144","v":37},{"$f":"S144-T144","v":-3},null,{"$f":"(MAX($W144:$AA144)-W144)/2","v":7.5},{"$f":"(MAX($W144:$AA144)-X144)/2","v":24},{"$f":"(MAX($W144:$AA144)-Y144)/2","v":20.5},{"$f":"(MAX($W144:$AA144)-Z144)/2","v":0},{"$f":"(MAX($W144:$AA144)-AA144)/2","v":20}]
["2011-08-20",1,75,52,null,-1,57,69,null,-1,60,65,null,1,81,43,null,-1,60,64,null,null,{"$f":"C145-D145","v":23},{"$f":"G145-H145","v":-12},{"$f":"K145-L145","v":-5},{"$f":"O145-P145","v":38},{"$f":"S145-T145","v":-4},null,{"$f":"(MAX($W145:$AA145)-W145)/2","v":7.5},{"$f":"(MAX($W145:$AA145)-X145)/2","v":25},{"$f":"(MAX($W145:$AA145)-Y145)/2","v":21.5},{"$f":"(MAX($W145:$AA145)-Z145)/2","v":0},{"$f":"(MAX($W145:$AA145)-AA145)/2","v":21}]
["2011-08-21",1,76,52,null,-1,57,70,null,-1,60,66,null,-1,81,44,null,1,61,64,null,null,{"$f":"C146-D146","v":24},{"$f":"G146-H146","v":-13},{"$f":"K146-L146","v":-6},{"$f":"O146-P146","v":37},{"$f":"S146-T146","v":-3},null,{"$f":"(MAX($W146:$AA146)-W146)/2","v":6.5},{"$f":"(MAX($W146:$AA146)-X146)/2","v":25},{"$f":"(MAX($W146:$AA146)-Y146)/2","v":21.5},{"$f":"(MAX($W146:$AA146)-Z146)/2","v":0},{"$f":"(MAX($W146:$AA146)-AA146)/2","v":20}]
["2011-08-22",1,77,52,null,null,57,70,null,-1,60,67,null,1,{"$f":"O146+IF(N147>0,N147,0)","v":82},{"$f":"P146-IF(N147<0,N147,0)","v":44},null,1,{"$f":"S146+IF(R147>0,R147,0)","v":62},{"$f":"T146-IF(R147<0,R147,0)","v":64},null,null,{"$f":"C147-D147","v":25},{"$f":"G147-H147","v":-13},{"$f":"K147-L147","v":-7},{"$f":"O147-P147","v":38},{"$f":"S147-T147","v":-2},null,{"$f":"(MAX($W147:$AA147)-W147)/2","v":6.5},{"$f":"(MAX($W147:$AA147)-X147)/2","v":25.5},{"$f":"(MAX($W147:$AA147)-Y147)/2","v":22.5},{"$f":"(MAX($W147:$AA147)-Z147)/2","v":0},{"$f":"(MAX($W147:$AA147)-AA147)/2","v":20}]
["2011-08-23",1,78,52,null,-1,57,71,null,-1,60,68,null,1,83,44,null,-1,62,65,null,null,{"$f":"C148-D148","v":26},{"$f":"G148-H148","v":-14},{"$f":"K148-L148","v":-8},{"$f":"O148-P148","v":39},{"$f":"S148-T148","v":-3},null,{"$f":"(MAX($W148:$AA148)-W148)/2","v":6.5},{"$f":"(MAX($W148:$AA148)-X148)/2","v":26.5},{"$f":"(MAX($W148:$AA148)-Y148)/2","v":23.5},{"$f":"(MAX($W148:$AA148)-Z148)/2","v":0},{"$f":"(MAX($W148:$AA148)-AA148)/2","v":21}]
["2011-08-24",-1,78,53,null,0,58,72,null,1,61,68,null,-1,83,45,null,-1,62,66,null,null,{"$f":"C149-D149","v":25},{"$f":"G149-H149","v":-14},{"$f":"K149-L149","v":-7},{"$f":"O149-P149","v":38},{"$f":"S149-T149","v":-4},null,{"$f":"(MAX($W149:$AA149)-W149)/2","v":6.5},{"$f":"(MAX($W149:$AA149)-X149)/2","v":26},{"$f":"(MAX($W149:$AA149)-Y149)/2","v":22.5},{"$f":"(MAX($W149:$AA149)-Z149)/2","v":0},{"$f":"(MAX($W149:$AA149)-AA149)/2","v":21}]
["2011-08-25",1,79,53,null,null,58,72,null,null,61,68,null,null,83,45,null,-1,62,67,null,null,{"$f":"C150-D150","v":26},{"$f":"G150-H150","v":-14},{"$f":"K150-L150","v":-7},{"$f":"O150-P150","v":38},{"$f":"S150-T150","v":-5},null,{"$f":"(MAX($W150:$AA150)-W150)/2","v":6},{"$f":"(MAX($W150:$AA150)-X150)/2","v":26},{"$f":"(MAX($W150:$AA150)-Y150)/2","v":22.5},{"$f":"(MAX($W150:$AA150)-Z150)/2","v":0},{"$f":"(MAX($W150:$AA150)-AA150)/2","v":21.5}]
["2011-08-26",-1,79,54,null,1,59,72,null,1,62,68,null,-1,83,46,null,-1,62,68,null,null,{"$f":"C151-D151","v":25},{"$f":"G151-H151","v":-13},{"$f":"K151-L151","v":-6},{"$f":"O151-P151","v":37},{"$f":"S151-T151","v":-6},null,{"$f":"(MAX($W151:$AA151)-W151)/2","v":6},{"$f":"(MAX($W151:$AA151)-X151)/2","v":25},{"$f":"(MAX($W151:$AA151)-Y151)/2","v":21.5},{"$f":"(MAX($W151:$AA151)-Z151)/2","v":0},{"$f":"(MAX($W151:$AA151)-AA151)/2","v":21.5}]
["2011-08-27",null,79,54,null,null,59,72,null,null,62,68,null,null,83,46,null,-1,62,69,null,null,{"$f":"C152-D152","v":25},{"$f":"G152-H152","v":-13},{"$f":"K152-L152","v":-6},{"$f":"O152-P152","v":37},{"$f":"S152-T152","v":-7},null,{"$f":"(MAX($W152:$AA152)-W152)/2","v":6},{"$f":"(MAX($W152:$AA152)-X152)/2","v":25},{"$f":"(MAX($W152:$AA152)-Y152)/2","v":21.5},{"$f":"(MAX($W152:$AA152)-Z152)/2","v":0},{"$f":"(MAX($W152:$AA152)-AA152)/2","v":22}]
["2011-08-28",null,79,54,null,null,59,72,null,null,62,68,null,null,83,46,null,-1,62,70,null,null,{"$f":"C153-D153","v":25},{"$f":"G153-H153","v":-13},{"$f":"K153-L153","v":-6},{"$f":"O153-P153","v":37},{"$f":"S153-T153","v":-8},null,{"$f":"(MAX($W153:$AA153)-W153)/2","v":6},{"$f":"(MAX($W153:$AA153)-X153)/2","v":25},{"$f":"(MAX($W153:$AA153)-Y153)/2","v":21.5},{"$f":"(MAX($W153:$AA153)-Z153)/2","v":0},{"$f":"(MAX($W153:$AA153)-AA153)/2","v":22.5}]
["2011-08-29",null,79,54,null,-2,59,74,null,2,64,68,null,1,84,46,null,null,62,70,null,null,{"$f":"C154-D154","v":25},{"$f":"G154-H154","v":-15},{"$f":"K154-L154","v":-4},{"$f":"O154-P154","v":38},{"$f":"S154-T154","v":-8},null,{"$f":"(MAX($W154:$AA154)-W154)/2","v":6.5},{"$f":"(MAX($W154:$AA154)-X154)/2","v":26.5},{"$f":"(MAX($W154:$AA154)-Y154)/2","v":21},{"$f":"(MAX($W154:$AA154)-Z154)/2","v":0},{"$f":"(MAX($W154:$AA154)-AA154)/2","v":23}]
["2011-08-30",-1,{"$f":"C154+IF(B155>0,B155,0)","v":79},{"$f":"D154-IF(B155<0,B155,0)","v":55},null,1,60,74,null,-1,64,69,null,1,85,46,null,1,63,70,null,null,{"$f":"C155-D155","v":24},{"$f":"G155-H155","v":-14},{"$f":"K155-L155","v":-5},{"$f":"O155-P155","v":39},{"$f":"S155-T155","v":-7},null,{"$f":"(MAX($W155:$AA155)-W155)/2","v":7.5},{"$f":"(MAX($W155:$AA155)-X155)/2","v":26.5},{"$f":"(MAX($W155:$AA155)-Y155)/2","v":22},{"$f":"(MAX($W155:$AA155)-Z155)/2","v":0},{"$f":"(MAX($W155:$AA155)-AA155)/2","v":23}]
["2011-08-31",1,80,55,null,-1,60,75,null,1,65,69,null,1,86,46,null,-1,63,71,null,null,{"$f":"C156-D156","v":25},{"$f":"G156-H156","v":-15},{"$f":"K156-L156","v":-4},{"$f":"O156-P156","v":40},{"$f":"S156-T156","v":-8},null,{"$f":"(MAX($W156:$AA156)-W156)/2","v":7.5},{"$f":"(MAX($W156:$AA156)-X156)/2","v":27.5},{"$f":"(MAX($W156:$AA156)-Y156)/2","v":22},{"$f":"(MAX($W156:$AA156)-Z156)/2","v":0},{"$f":"(MAX($W156:$AA156)-AA156)/2","v":24}]
["2011-09-01",1,81,55,null,-1,{"$f":"G156+IF(F157>0,F157,0)","v":60},{"$f":"H156-IF(F157<0,F157,0)","v":76},null,1,66,69,null,1,87,46,null,-1,63,72,null,null,{"$f":"C157-D157","v":26},{"$f":"G157-H157","v":-16},{"$f":"K157-L157","v":-3},{"$f":"O157-P157","v":41},{"$f":"S157-T157","v":-9},null,{"$f":"(MAX($W157:$AA157)-W157)/2","v":7.5},{"$f":"(MAX($W157:$AA157)-X157)/2","v":28.5},{"$f":"(MAX($W157:$AA157)-Y157)/2","v":22},{"$f":"(MAX($W157:$AA157)-Z157)/2","v":0},{"$f":"(MAX($W157:$AA157)-AA157)/2","v":25}]
["2011-09-02",-1,81,56,null,-1,60,77,null,1,67,69,null,1,88,46,null,-1,63,73,null,null,{"$f":"C158-D158","v":25},{"$f":"G158-H158","v":-17},{"$f":"K158-L158","v":-2},{"$f":"O158-P158","v":42},{"$f":"S158-T158","v":-10},null,{"$f":"(MAX($W158:$AA158)-W158)/2","v":8.5},{"$f":"(MAX($W158:$AA158)-X158)/2","v":29.5},{"$f":"(MAX($W158:$AA158)-Y158)/2","v":22},{"$f":"(MAX($W158:$AA158)-Z158)/2","v":0},{"$f":"(MAX($W158:$AA158)-AA158)/2","v":26}]
["2011-09-03",-1,81,57,null,1,61,77,null,-1,67,70,null,-1,88,47,null,1,64,73,null,null,{"$f":"C159-D159","v":24},{"$f":"G159-H159","v":-16},{"$f":"K159-L159","v":-3},{"$f":"O159-P159","v":41},{"$f":"S159-T159","v":-9},null,{"$f":"(MAX($W159:$AA159)-W159)/2","v":8.5},{"$f":"(MAX($W159:$AA159)-X159)/2","v":28.5},{"$f":"(MAX($W159:$AA159)-Y159)/2","v":22},{"$f":"(MAX($W159:$AA159)-Z159)/2","v":0},{"$f":"(MAX($W159:$AA159)-AA159)/2","v":25}]
["2011-09-04",1,82,57,null,1,62,77,null,1,68,70,null,-1,88,48,null,-1,64,74,null,null,{"$f":"C160-D160","v":25},{"$f":"G160-H160","v":-15},{"$f":"K160-L160","v":-2},{"$f":"O160-P160","v":40},{"$f":"S160-T160","v":-10},null,{"$f":"(MAX($W160:$AA160)-W160)/2","v":7.5},{"$f":"(MAX($W160:$AA160)-X160)/2","v":27.5},{"$f":"(MAX($W160:$AA160)-Y160)/2","v":21},{"$f":"(MAX($W160:$AA160)-Z160)/2","v":0},{"$f":"(MAX($W160:$AA160)-AA160)/2","v":25}]
["2011-09-05",-1,82,58,null,1,63,77,null,-1,68,71,null,1,89,48,null,1,65,74,null,null,{"$f":"C161-D161","v":24},{"$f":"G161-H161","v":-14},{"$f":"K161-L161","v":-3},{"$f":"O161-P161","v":41},{"$f":"S161-T161","v":-9},null,{"$f":"(MAX($W161:$AA161)-W161)/2","v":8.5},{"$f":"(MAX($W161:$AA161)-X161)/2","v":27.5},{"$f":"(MAX($W161:$AA161)-Y161)/2","v":22},{"$f":"(MAX($W161:$AA161)-Z161)/2","v":0},{"$f":"(MAX($W161:$AA161)-AA161)/2","v":25}]
["2011-09-06",-1,82,59,null,-1,63,78,null,1,69,71,null,1,90,48,null,-1,65,75,null,null,{"$f":"C162-D162","v":23},{"$f":"G162-H162","v":-15},{"$f":"K162-L162","v":-2},{"$f":"O162-P162","v":42},{"$f":"S162-T162","v":-10},null,{"$f":"(MAX($W162:$AA162)-W162)/2","v":9.5},{"$f":"(MAX($W162:$AA162)-X162)/2","v":28.5},{"$f":"(MAX($W162:$AA162)-Y162)/2","v":22},{"$f":"(MAX($W162:$AA162)-Z162)/2","v":0},{"$f":"(MAX($W162:$AA162)-AA162)/2","v":26}]
["2011-09-07",-1,82,60,null,-1,63,79,null,1,70,71,null,1,91,48,null,null,65,75,null,null,{"$f":"C163-D163","v":22},{"$f":"G163-H163","v":-16},{"$f":"K163-L163","v":-1},{"$f":"O163-P163","v":43},{"$f":"S163-T163","v":-10},null,{"$f":"(MAX($W163:$AA163)-W163)/2","v":10.5},{"$f":"(MAX($W163:$AA163)-X163)/2","v":29.5},{"$f":"(MAX($W163:$AA163)-Y163)/2","v":22},{"$f":"(MAX($W163:$AA163)-Z163)/2","v":0},{"$f":"(MAX($W163:$AA163)-AA163)/2","v":26.5}]
["2011-09-08",2,84,60,null,null,63,79,null,-2,70,73,null,1,92,48,null,-1,65,76,null,null,{"$f":"C164-D164","v":24},{"$f":"G164-H164","v":-16},{"$f":"K164-L164","v":-3},{"$f":"O164-P164","v":44},{"$f":"S164-T164","v":-11},null,{"$f":"(MAX($W164:$AA164)-W164)/2","v":10},{"$f":"(MAX($W164:$AA164)-X164)/2","v":30},{"$f":"(MAX($W164:$AA164)-Y164)/2","v":23.5},{"$f":"(MAX($W164:$AA164)-Z164)/2","v":0},{"$f":"(MAX($W164:$AA164)-AA164)/2","v":27.5}]
["2011-09-09",-1,84,61,null,1,64,79,null,1,{"$f":"K164+IF(J165>0,J165,0)","v":71},{"$f":"L164-IF(J165<0,J165,0)","v":73},null,1,93,48,null,1,{"$f":"S164+IF(R165>0,R165,0)","v":66},{"$f":"T164-IF(R165<0,R165,0)","v":76},null,null,{"$f":"C165-D165","v":23},{"$f":"G165-H165","v":-15},{"$f":"K165-L165","v":-2},{"$f":"O165-P165","v":45},{"$f":"S165-T165","v":-10},null,{"$f":"(MAX($W165:$AA165)-W165)/2","v":11},{"$f":"(MAX($W165:$AA165)-X165)/2","v":30},{"$f":"(MAX($W165:$AA165)-Y165)/2","v":23.5},{"$f":"(MAX($W165:$AA165)-Z165)/2","v":0},{"$f":"(MAX($W165:$AA165)-AA165)/2","v":27.5}]
["2011-09-10",-1,{"$f":"C165+IF(B166>0,B166,0)","v":84},{"$f":"D165-IF(B166<0,B166,0)","v":62},null,1,65,79,null,-1,71,74,null,1,94,48,null,-1,66,77,null,null,{"$f":"C166-D166","v":22},{"$f":"G166-H166","v":-14},{"$f":"K166-L166","v":-3},{"$f":"O166-P166","v":46},{"$f":"S166-T166","v":-11},null,{"$f":"(MAX($W166:$AA166)-W166)/2","v":12},{"$f":"(MAX($W166:$AA166)-X166)/2","v":30},{"$f":"(MAX($W166:$AA166)-Y166)/2","v":24.5},{"$f":"(MAX($W166:$AA166)-Z166)/2","v":0},{"$f":"(MAX($W166:$AA166)-AA166)/2","v":28.5}]
["2011-09-11",-1,84,63,null,1,{"$f":"G166+IF(F167>0,F167,0)","v":66},{"$f":"H166-IF(F167<0,F167,0)","v":79},null,-1,71,75,null,-1,{"$f":"O166+IF(N167>0,N167,0)","v":94},{"$f":"P166-IF(N167<0,N167,0)","v":49},null,1,67,77,null,null,{"$f":"C167-D167","v":21},{"$f":"G167-H167","v":-13},{"$f":"K167-L167","v":-4},{"$f":"O167-P167","v":45},{"$f":"S167-T167","v":-10},null,{"$f":"(MAX($W167:$AA167)-W167)/2","v":12},{"$f":"(MAX($W167:$AA167)-X167)/2","v":29},{"$f":"(MAX($W167:$AA167)-Y167)/2","v":24.5},{"$f":"(MAX($W167:$AA167)-Z167)/2","v":0},{"$f":"(MAX($W167:$AA167)-AA167)/2","v":27.5}]
["2011-09-12",-1,84,64,null,1,67,79,null,-1,71,76,null,-1,94,50,null,1,68,77,null,null,{"$f":"C168-D168","v":20},{"$f":"G168-H168","v":-12},{"$f":"K168-L168","v":-5},{"$f":"O168-P168","v":44},{"$f":"S168-T168","v":-9},null,{"$f":"(MAX($W168:$AA168)-W168)/2","v":12},{"$f":"(MAX($W168:$AA168)-X168)/2","v":28},{"$f":"(MAX($W168:$AA168)-Y168)/2","v":24.5},{"$f":"(MAX($W168:$AA168)-Z168)/2","v":0},{"$f":"(MAX($W168:$AA168)-AA168)/2","v":26.5}]
["2011-09-13",1,85,64,null,-1,67,80,null,-1,71,77,null,-1,94,51,null,1,69,77,null,null,{"$f":"C169-D169","v":21},{"$f":"G169-H169","v":-13},{"$f":"K169-L169","v":-6},{"$f":"O169-P169","v":43},{"$f":"S169-T169","v":-8},null,{"$f":"(MAX($W169:$AA169)-W169)/2","v":11},{"$f":"(MAX($W169:$AA169)-X169)/2","v":28},{"$f":"(MAX($W169:$AA169)-Y169)/2","v":24.5},{"$f":"(MAX($W169:$AA169)-Z169)/2","v":0},{"$f":"(MAX($W169:$AA169)-AA169)/2","v":25.5}]
["2011-09-14",1,86,64,null,-1,67,81,null,-1,71,78,null,1,95,51,null,1,70,77,null,null,{"$f":"C170-D170","v":22},{"$f":"G170-H170","v":-14},{"$f":"K170-L170","v":-7},{"$f":"O170-P170","v":44},{"$f":"S170-T170","v":-7},null,{"$f":"(MAX($W170:$AA170)-W170)/2","v":11},{"$f":"(MAX($W170:$AA170)-X170)/2","v":29},{"$f":"(MAX($W170:$AA170)-Y170)/2","v":25.5},{"$f":"(MAX($W170:$AA170)-Z170)/2","v":0},{"$f":"(MAX($W170:$AA170)-AA170)/2","v":25.5}]
["2011-09-15",null,86,64,null,-2,67,83,null,-1,71,79,null,2,97,51,null,1,71,77,null,null,{"$f":"C171-D171","v":22},{"$f":"G171-H171","v":-16},{"$f":"K171-L171","v":-8},{"$f":"O171-P171","v":46},{"$f":"S171-T171","v":-6},null,{"$f":"(MAX($W171:$AA171)-W171)/2","v":12},{"$f":"(MAX($W171:$AA171)-X171)/2","v":31},{"$f":"(MAX($W171:$AA171)-Y171)/2","v":27},{"$f":"(MAX($W171:$AA171)-Z171)/2","v":0},{"$f":"(MAX($W171:$AA171)-AA171)/2","v":26}]
["2011-09-16",-1,86,65,null,1,68,83,null,1,72,79,null,-1,97,52,null,-1,71,78,null,null,{"$f":"C172-D172","v":21},{"$f":"G172-H172","v":-15},{"$f":"K172-L172","v":-7},{"$f":"O172-P172","v":45},{"$f":"S172-T172","v":-7},null,{"$f":"(MAX($W172:$AA172)-W172)/2","v":12},{"$f":"(MAX($W172:$AA172)-X172)/2","v":30},{"$f":"(MAX($W172:$AA172)-Y172)/2","v":26},{"$f":"(MAX($W172:$AA172)-Z172)/2","v":0},{"$f":"(MAX($W172:$AA172)-AA172)/2","v":26}]
["2011-09-17",1,87,65,null,1,69,83,null,-1,72,80,null,1,98,52,null,-1,71,79,null,null,{"$f":"C173-D173","v":22},{"$f":"G173-H173","v":-14},{"$f":"K173-L173","v":-8},{"$f":"O173-P173","v":46},{"$f":"S173-T173","v":-8},null,{"$f":"(MAX($W173:$AA173)-W173)/2","v":12},{"$f":"(MAX($W173:$AA173)-X173)/2","v":30},{"$f":"(MAX($W173:$AA173)-Y173)/2","v":27},{"$f":"(MAX($W173:$AA173)-Z173)/2","v":0},{"$f":"(MAX($W173:$AA173)-AA173)/2","v":27}]
["2011-09-18",-1,87,66,null,-1,69,84,null,1,73,80,null,-1,98,53,null,1,72,79,null,null,{"$f":"C174-D174","v":21},{"$f":"G174-H174","v":-15},{"$f":"K174-L174","v":-7},{"$f":"O174-P174","v":45},{"$f":"S174-T174","v":-7},null,{"$f":"(MAX($W174:$AA174)-W174)/2","v":12},{"$f":"(MAX($W174:$AA174)-X174)/2","v":30},{"$f":"(MAX($W174:$AA174)-Y174)/2","v":26},{"$f":"(MAX($W174:$AA174)-Z174)/2","v":0},{"$f":"(MAX($W174:$AA174)-AA174)/2","v":26}]
["2011-09-19",-1,87,67,null,1,70,84,null,null,73,80,null,-1,98,54,null,null,72,79,null,null,{"$f":"C175-D175","v":20},{"$f":"G175-H175","v":-14},{"$f":"K175-L175","v":-7},{"$f":"O175-P175","v":44},{"$f":"S175-T175","v":-7},null,{"$f":"(MAX($W175:$AA175)-W175)/2","v":12},{"$f":"(MAX($W175:$AA175)-X175)/2","v":29},{"$f":"(MAX($W175:$AA175)-Y175)/2","v":25.5},{"$f":"(MAX($W175:$AA175)-Z175)/2","v":0},{"$f":"(MAX($W175:$AA175)-AA175)/2","v":25.5}]
["2011-09-20",1,{"$f":"C175+IF(B176>0,B176,0)","v":88},{"$f":"D175-IF(B176<0,B176,0)","v":67},null,-1,70,85,null,-1,73,81,null,-2,98,56,null,2,74,79,null,null,{"$f":"C176-D176","v":21},{"$f":"G176-H176","v":-15},{"$f":"K176-L176","v":-8},{"$f":"O176-P176","v":42},{"$f":"S176-T176","v":-5},null,{"$f":"(MAX($W176:$AA176)-W176)/2","v":10.5},{"$f":"(MAX($W176:$AA176)-X176)/2","v":28.5},{"$f":"(MAX($W176:$AA176)-Y176)/2","v":25},{"$f":"(MAX($W176:$AA176)-Z176)/2","v":0},{"$f":"(MAX($W176:$AA176)-AA176)/2","v":23.5}]
["2011-09-21",-1,88,68,null,1,71,85,null,-1,73,82,null,-1,98,57,null,1,75,79,null,null,{"$f":"C177-D177","v":20},{"$f":"G177-H177","v":-14},{"$f":"K177-L177","v":-9},{"$f":"O177-P177","v":41},{"$f":"S177-T177","v":-4},null,{"$f":"(MAX($W177:$AA177)-W177)/2","v":10.5},{"$f":"(MAX($W177:$AA177)-X177)/2","v":27.5},{"$f":"(MAX($W177:$AA177)-Y177)/2","v":25},{"$f":"(MAX($W177:$AA177)-Z177)/2","v":0},{"$f":"(MAX($W177:$AA177)-AA177)/2","v":22.5}]
["2011-09-22",null,88,68,null,null,71,85,null,1,74,82,null,-1,98,58,null,1,76,79,null,null,{"$f":"C178-D178","v":20},{"$f":"G178-H178","v":-14},{"$f":"K178-L178","v":-8},{"$f":"O178-P178","v":40},{"$f":"S178-T178","v":-3},null,{"$f":"(MAX($W178:$AA178)-W178)/2","v":10},{"$f":"(MAX($W178:$AA178)-X178)/2","v":27},{"$f":"(MAX($W178:$AA178)-Y178)/2","v":24},{"$f":"(MAX($W178:$AA178)-Z178)/2","v":0},{"$f":"(MAX($W178:$AA178)-AA178)/2","v":21.5}]
["2011-09-23",1,89,68,null,-1,71,86,null,null,74,82,null,null,98,58,null,-1,76,80,null,null,{"$f":"C179-D179","v":21},{"$f":"G179-H179","v":-15},{"$f":"K179-L179","v":-8},{"$f":"O179-P179","v":40},{"$f":"S179-T179","v":-4},null,{"$f":"(MAX($W179:$AA179)-W179)/2","v":9.5},{"$f":"(MAX($W179:$AA179)-X179)/2","v":27.5},{"$f":"(MAX($W179:$AA179)-Y179)/2","v":24},{"$f":"(MAX($W179:$AA179)-Z179)/2","v":0},{"$f":"(MAX($W179:$AA179)-AA179)/2","v":22}]
["2011-09-24",-1,89,69,null,-1,71,87,null,2,76,82,null,-2,98,60,null,1,77,80,null,null,{"$f":"C180-D180","v":20},{"$f":"G180-H180","v":-16},{"$f":"K180-L180","v":-6},{"$f":"O180-P180","v":38},{"$f":"S180-T180","v":-3},null,{"$f":"(MAX($W180:$AA180)-W180)/2","v":9},{"$f":"(MAX($W180:$AA180)-X180)/2","v":27},{"$f":"(MAX($W180:$AA180)-Y180)/2","v":22},{"$f":"(MAX($W180:$AA180)-Z180)/2","v":0},{"$f":"(MAX($W180:$AA180)-AA180)/2","v":20.5},null,null,"Team","GB","%"]
["2011-09-25",-1,89,70,null,-1,71,88,null,-1,76,83,null,1,99,60,null,1,78,80,null,null,{"$f":"C181-D181","v":19},{"$f":"G181-H181","v":-17},{"$f":"K181-L181","v":-7},{"$f":"O181-P181","v":39},{"$f":"S181-T181","v":-2},null,{"$f":"(MAX($W181:$AA181)-W181)/2","v":10},{"$f":"(MAX($W181:$AA181)-X181)/2","v":28},{"$f":"(MAX($W181:$AA181)-Y181)/2","v":23},{"$f":"(MAX($W181:$AA181)-Z181)/2","v":0},{"$f":"(MAX($W181:$AA181)-AA181)/2","v":20.5},null,null,{"$f":"AF$1","v":"PHI"},{"$f":"AF$185","v":0},{"$f":"AF$187","v":0.62962962962962965}]
["2011-09-26",-1,89,71,null,-1,71,89,null,-1,76,84,null,1,100,60,null,1,79,80,null,null,{"$f":"C182-D182","v":18},{"$f":"G182-H182","v":-18},{"$f":"K182-L182","v":-8},{"$f":"O182-P182","v":40},{"$f":"S182-T182","v":-1},null,{"$f":"(MAX($W182:$AA182)-W182)/2","v":11},{"$f":"(MAX($W182:$AA182)-X182)/2","v":29},{"$f":"(MAX($W182:$AA182)-Y182)/2","v":24},{"$f":"(MAX($W182:$AA182)-Z182)/2","v":0},{"$f":"(MAX($W182:$AA182)-AA182)/2","v":20.5},null,null,{"$f":"AC$1","v":"ATL"},{"$f":"AC$185","v":13},{"$f":"AC$187","v":0.54938271604938271}]
["2011-09-27",-1,89,72,null,1,72,89,null,-1,76,85,null,1,101,60,null,-1,79,81,null,null,{"$f":"C183-D183","v":17},{"$f":"G183-H183","v":-17},{"$f":"K183-L183","v":-9},{"$f":"O183-P183","v":41},{"$f":"S183-T183","v":-2},null,{"$f":"(MAX($W183:$AA183)-W183)/2","v":12},{"$f":"(MAX($W183:$AA183)-X183)/2","v":29},{"$f":"(MAX($W183:$AA183)-Y183)/2","v":25},{"$f":"(MAX($W183:$AA183)-Z183)/2","v":0},{"$f":"(MAX($W183:$AA183)-AA183)/2","v":21.5},null,null,{"$f":"AG$1","v":"WSH"},{"$f":"AG$185","v":21.5},{"$f":"AG$187","v":0.49689440993788819}]
["2011-09-28",-1,89,73,null,-1,72,90,null,1,77,85,null,1,102,60,null,1,80,81,null,null,{"$f":"C184-D184","v":16},{"$f":"G184-H184","v":-18},{"$f":"K184-L184","v":-8},{"$f":"O184-P184","v":42},{"$f":"S184-T184","v":-1},null,{"$f":"(MAX($W184:$AA184)-W184)/2","v":13},{"$f":"(MAX($W184:$AA184)-X184)/2","v":30},{"$f":"(MAX($W184:$AA184)-Y184)/2","v":25},{"$f":"(MAX($W184:$AA184)-Z184)/2","v":0},{"$f":"(MAX($W184:$AA184)-AA184)/2","v":21.5},null,null,{"$f":"AE$1","v":"NYM"},{"$f":"AE$185","v":25},{"$f":"AE$187","v":0.47530864197530864}]
["2011-09-29",null,89,73,null,null,72,90,null,null,77,85,null,null,102,60,null,null,80,81,null,null,{"$f":"C185-D185","v":16},{"$f":"G185-H185","v":-18},{"$f":"K185-L185","v":-8},{"$f":"O185-P185","v":42},{"$f":"S185-T185","v":-1},null,{"$f":"(MAX($W185:$AA185)-W185)/2","v":13},{"$f":"(MAX($W185:$AA185)-X185)/2","v":30},{"$f":"(MAX($W185:$AA185)-Y185)/2","v":25},{"$f":"(MAX($W185:$AA185)-Z185)/2","v":0},{"$f":"(MAX($W185:$AA185)-AA185)/2","v":21.5},null,null,{"$f":"AD$1","v":"FLA"},{"$f":"AD$185","v":30},{"$f":"AD$187","v":0.44444444444444442}]
[]
[null,null,null,null,null,null,null,null,null,null,null,null,null,null,null,null,null,null,null,null,null,null,null,null,null,null,null,null,{"$f":"C185/(C185+D185)","v":0.54938271604938271},{"$f":"G185/(G185+H185)","v":0.44444444444444442},{"$f":"K185/(K185+L185)","v":0.47530864197530864},{"$f":"O185/(O185+P185)","v":0.62962962962962965},{"$f":"S185/(S185+T185)","v":0.49689440993788819}]