{"text_format":"1","workbook":"xlsx","n_sheets":2,"sheets":["Chart","ALE11"],"not_rendered":{"charts":2,"images":0,"macros":1,"external_links":0,"defined_names":1,"comments":0,"pivot_tables":0},"unopened":[],"bounds":{"document_bytes":16777216,"sheet_cells":100000,"rows_first":2000,"rows_last":500,"rows_between":2000,"halvings":0,"cell_chars":16384,"cell_head_chars":4096},"cells_cut":0,"cells_raw":0,"read":"whole","date_system":"1900"}

{"sheet":"Chart","index":0,"n_rows":38,"n_cols":6,"rows_kept":38,"cut":false,"hidden":false,"merged":[]}
[" "]
[null,{"$f":"'ALE11'!AJ181","v":"NYY"},{"$f":"'ALE11'!AK181","v":0},{"$f":"'ALE11'!AL181","v":0.59876543209876543}]
[null,{"$f":"'ALE11'!AJ182","v":"TBR"},{"$f":"'ALE11'!AK182","v":6},{"$f":"'ALE11'!AL182","v":0.56172839506172845}]
[null,{"$f":"'ALE11'!AJ183","v":"BOS"},{"$f":"'ALE11'!AK183","v":7},{"$f":"'ALE11'!AL183","v":0.55555555555555558}]
[null,{"$f":"'ALE11'!AJ184","v":"TOR"},{"$f":"'ALE11'!AK184","v":16},{"$f":"'ALE11'!AL184","v":0.5}]
[null,{"$f":"'ALE11'!AJ185","v":"BAL"},{"$f":"'ALE11'!AK185","v":28},{"$f":"'ALE11'!AL185","v":0.42592592592592593}]
[]
[]
[]
[]
[null,"MLB.mobi Scores"]
[]
[]
[null,"PHP Results"]
[]
[]
[null,"HTML Results"]
[]
[]
[]
[]
[]
[]
[]
[]
[]
[]
[]
[]
[]
[]
[]
[]
[]
[]
[]
[]
[null,null,null,null,null,"Note: You must enable macros for this workbook to update correctly"]

{"sheet":"ALE11","index":1,"n_rows":187,"n_cols":38,"rows_kept":187,"cut":false,"hidden":false,"merged":[]}
["ALE11","BAL","W","L",null,"BOS","W","L",null,"NYY","W","L",null,"TBR","W","L",null,"TOR","W","L",null,null,{"$f":"B1","v":"BAL"},{"$f":"F1","v":"BOS"},{"$f":"J1","v":"NYY"},{"$f":"N1","v":"TBR"},{"$f":"R1","v":"TOR"},null,{"$f":"W1","v":"BAL"},{"$f":"X1","v":"BOS"},{"$f":"Y1","v":"NYY"},{"$f":"Z1","v":"TBR"},{"$f":"AA1","v":"TOR"}]
["2011-03-30",null,0,0,null,null,0,0,null,null,0,0,null,null,0,0,null,null,0,0,null,null,0,0,0,0,0,null,0,0,0,0,0]
["2011-03-31",null,{"$f":"C2+IF(B3>0,B3,0)","v":0},{"$f":"D2-IF(B3<0,B3,0)","v":0},null,null,{"$f":"G2+IF(F3>0,F3,0)","v":0},{"$f":"H2-IF(F3<0,F3,0)","v":0},null,1,{"$f":"K2+IF(J3>0,J3,0)","v":1},{"$f":"L2-IF(J3<0,J3,0)","v":0},null,null,{"$f":"O2+IF(N3>0,N3,0)","v":0},{"$f":"P2-IF(N3<0,N3,0)","v":0},null,null,{"$f":"S2+IF(R3>0,R3,0)","v":0},{"$f":"T2-IF(R3<0,R3,0)","v":0},null,null,{"$f":"C3-D3","v":0},{"$f":"G3-H3","v":0},{"$f":"K3-L3","v":1},{"$f":"O3-P3","v":0},{"$f":"S3-T3","v":0},null,{"$f":"(MAX($W3:$AA3)-W3)/2","v":0.5},{"$f":"(MAX($W3:$AA3)-X3)/2","v":0.5},{"$f":"(MAX($W3:$AA3)-Y3)/2","v":0},{"$f":"(MAX($W3:$AA3)-Z3)/2","v":0.5},{"$f":"(MAX($W3:$AA3)-AA3)/2","v":0.5}]
["2011-04-01",1,1,0,null,-1,0,1,null,null,1,0,null,-1,0,1,null,1,1,0,null,null,1,-1,1,-1,1,null,0,1,0,1,0]
["2011-04-02",1,2,0,null,-1,0,2,null,1,2,0,null,-1,0,2,null,1,2,0,null,null,2,-2,2,-2,2,null,0,2,0,2,0]
["2011-04-03",1,3,0,null,-1,0,3,null,-1,2,1,null,-1,0,3,null,-1,2,1,null,null,3,-3,1,-3,1,null,0,3,1,3,1]
["2011-04-04",1,4,0,null,null,0,3,null,1,3,1,null,null,0,3,null,null,2,1,null,null,4,-3,2,-3,1,null,0,3.5,1,3.5,1.5]
["2011-04-05",null,4,0,null,-1,0,4,null,-1,3,2,null,-1,0,4,null,1,3,1,null,null,4,-4,1,-4,2,null,0,4,1.5,4,1]
["2011-04-06",-1,4,1,null,-1,0,5,null,null,3,2,null,-1,{"$f":"O8+IF(N9>0,N9,0)","v":0},5,null,1,4,1,null,null,3,-5,1,-5,3,null,0,4,1,4,0]
["2011-04-07",1,5,1,null,-1,0,6,null,1,4,2,null,-1,0,6,null,-1,4,2,null,null,4,-6,2,-6,2,null,0,5,1,5,1]
["2011-04-08",null,5,1,null,1,1,6,null,-1,4,3,null,1,1,6,null,1,5,2,null,null,4,-5,1,-5,3,null,0,4.5,1.5,4.5,0.5]
["2011-04-09",0,6,2,null,-1,1,7,null,1,5,3,null,-1,1,7,null,-1,5,3,null,null,4,-6,2,-6,2,null,0,5,1,5,1]
["2011-04-10",-1,6,3,null,1,2,7,null,-1,5,4,null,-1,1,8,null,-1,5,4,null,null,3,-5,1,-7,1,null,0,4,1,5,1]
["2011-04-11",null,6,3,null,-1,2,8,null,null,5,4,null,1,2,8,null,-1,5,5,null,null,3,-6,1,-6,0,null,0,4.5,1,4.5,1.5]
["2011-04-12",null,6,3,null,-1,2,9,null,null,5,4,null,1,3,8,null,-1,5,6,null,null,3,-7,1,-5,-1,null,0,5,1,4,2]
["2011-04-13",-1,6,4,null,null,2,9,null,1,6,4,null,null,3,8,null,1,6,6,null,null,2,-7,2,-5,0,null,0,4.5,0,3.5,1]
["2011-04-14",-1,6,5,null,null,2,9,null,1,7,4,null,1,4,8,null,null,6,6,null,null,1,-7,3,-4,0,null,1,5,0,3.5,1.5]
["2011-04-15",-1,6,6,null,-1,2,10,null,-1,7,5,null,1,5,8,null,1,7,6,null,null,0,-8,2,-3,1,null,1,5,0,2.5,0.5]
["2011-04-16",-1,6,7,null,1,3,10,null,1,8,5,null,1,6,8,null,-1,7,7,null,null,-1,-7,3,-2,0,null,2,5,0,2.5,1.5]
["2011-04-17",-1,6,8,null,1,4,10,null,1,9,5,null,-1,6,9,null,-1,7,8,null,null,-2,-6,4,-3,-1,null,3,5,0,3.5,2.5]
["2011-04-18",-1,6,9,null,1,5,10,null,null,9,5,null,1,7,9,null,-1,7,9,null,null,-3,-5,4,-2,-2,null,3.5,4.5,0,3,3]
["2011-04-19",1,7,9,null,-1,5,11,null,-1,9,6,null,1,8,9,null,1,8,9,null,null,-2,-6,3,-1,-1,null,2.5,4.5,0,2,2]
["2011-04-20",1,{"$f":"C22+IF(B23>0,B23,0)","v":8},{"$f":"D22-IF(B23<0,B23,0)","v":9},null,1,6,11,null,1,10,6,null,1,9,9,null,-1,{"$f":"S22+IF(R23>0,R23,0)","v":8},{"$f":"T22-IF(R23<0,R23,0)","v":10},null,null,-1,-5,4,0,-2,null,2.5,4.5,0,2,3]
["2011-04-21",-1,8,10,null,1,7,11,null,null,10,6,null,-1,9,10,null,null,8,10,null,null,-2,-4,4,-1,-2,null,3,4,0,2.5,3]
["2011-04-22",null,8,10,null,1,8,11,null,null,10,6,null,-1,9,11,null,1,9,10,null,null,-2,-3,4,-2,-1,null,3,3.5,0,3,2.5]
["2011-04-23",-1,8,11,null,1,9,11,null,1,11,6,null,1,10,11,null,-1,9,11,null,null,-3,-2,5,-1,-2,null,4,3.5,0,3,3.5]
["2011-04-24",-1,8,12,null,1,10,11,null,1,12,6,null,1,11,11,null,-1,9,12,null,null,-4,-1,6,0,-3,null,5,3.5,0,3,4.5]
["2011-04-25",null,8,12,null,null,10,11,null,-1,12,7,null,null,11,11,null,1,10,12,null,null,-4,-1,5,0,-2,null,4.5,3,0,2.5,3.5]
["2011-04-26",1,9,12,null,-1,10,12,null,-1,12,8,null,null,11,11,null,1,11,12,null,null,-3,-2,4,0,-1,null,3.5,3,0,2,2.5]
["2011-04-27",1,10,12,null,-1,10,13,null,1,13,8,null,1,12,11,null,-1,11,13,null,null,-2,-3,5,1,-2,null,3.5,4,0,2,3.5]
["2011-04-28",-1,10,13,null,1,11,13,null,1,14,8,null,2,14,11,null,1,12,13,null,null,-3,-2,6,3,-1,null,4.5,4,0,1.5,3.5]
["2011-04-29",1,11,13,null,-1,11,14,null,-1,14,9,null,-1,14,12,null,1,13,13,null,null,-2,-3,5,2,0,null,3.5,4,0,1.5,2.5]
["2011-04-30",1,12,13,null,-1,11,15,null,1,15,9,null,1,15,12,null,-1,13,14,null,null,-1,-4,6,3,-1,null,3.5,5,0,1.5,3.5]
["2011-05-01",1,13,13,null,1,12,15,null,1,16,9,null,-1,15,13,null,-1,13,15,null,null,0,-3,7,2,-2,null,3.5,5,0,2.5,4.5]
["2011-05-02",-1,13,14,null,1,13,15,null,1,17,9,null,null,15,13,null,null,13,15,null,null,{"$f":"C35-D35","v":-1},{"$f":"G35-H35","v":-2},{"$f":"K35-L35","v":8},{"$f":"O35-P35","v":2},{"$f":"S35-T35","v":-2},null,{"$f":"(MAX($W35:$AA35)-W35)/2","v":4.5},{"$f":"(MAX($W35:$AA35)-X35)/2","v":5},{"$f":"(MAX($W35:$AA35)-Y35)/2","v":0},{"$f":"(MAX($W35:$AA35)-Z35)/2","v":3},{"$f":"(MAX($W35:$AA35)-AA35)/2","v":5}]
["2011-05-03",-1,13,15,null,1,14,15,null,-1,17,10,null,1,16,13,null,-1,13,16,null,null,-2,-1,7,3,-3,null,4.5,4,0,2,5]
["2011-05-04",1,14,15,null,-1,14,16,null,-1,17,11,null,-1,16,14,null,1,14,16,null,null,-1,-2,6,2,-2,null,3.5,4,0,2,4]
["2011-05-05",-1,14,16,null,-1,14,17,null,-1,17,12,null,1,17,14,null,-1,14,17,null,null,-2,-3,5,3,-3,null,3.5,4,0,1,4]
["2011-05-06",-1,{"$f":"C38+IF(B39>0,B39,0)","v":14},{"$f":"D38-IF(B39<0,B39,0)","v":17},null,-1,{"$f":"G38+IF(F39>0,F39,0)","v":14},{"$f":"H38-IF(F39<0,F39,0)","v":18},null,1,{"$f":"K38+IF(J39>0,J39,0)","v":18},{"$f":"L38-IF(J39<0,J39,0)","v":12},null,1,{"$f":"O38+IF(N39>0,N39,0)","v":18},{"$f":"P38-IF(N39<0,N39,0)","v":14},null,1,15,17,null,null,-3,-4,6,4,-2,null,4.5,5,0,1,4]
["2011-05-07",-1,14,18,null,1,15,18,null,-1,18,13,null,1,19,14,null,-1,15,18,null,null,-4,-3,5,5,-3,null,4.5,4,0,0,4]
["2011-05-08",-1,14,19,null,1,16,18,null,1,19,13,null,1,20,14,null,-1,15,19,null,null,-5,-2,6,6,-4,null,5.5,4,0,0,5]
["2011-05-09",null,14,19,null,1,17,18,null,null,19,13,null,null,20,14,null,-1,15,20,null,null,-5,-1,6,6,-5,null,5.5,3.5,0,0,5.5]
["2011-05-10",1,15,19,null,-1,{"$f":"G42+IF(F43>0,F43,0)","v":17},{"$f":"H42-IF(F43<0,F43,0)","v":19},null,1,20,13,null,-1,20,15,null,1,16,20,null,null,-4,-2,7,5,-4,null,5.5,4.5,0,1,5.5,null,null,{"$f":"AJ181","v":"NYY"},0,0.59876543209876543]
["2011-05-11",1,16,19,null,-1,17,20,null,-1,20,14,null,1,21,15,null,1,17,20,null,null,-3,-3,6,6,-3,null,4.5,4.5,0,0,4.5,null,null,{"$f":"AJ182","v":"TBR"},6,0.56172839506172845]
["2011-05-12",1,{"$f":"C44+IF(B45>0,B45,0)","v":17},{"$f":"D44-IF(B45<0,B45,0)","v":19},null,null,{"$f":"G44+IF(F45>0,F45,0)","v":17},{"$f":"H44-IF(F45<0,F45,0)","v":20},null,-1,{"$f":"K44+IF(J45>0,J45,0)","v":20},{"$f":"L44-IF(J45<0,J45,0)","v":15},null,1,{"$f":"O44+IF(N45>0,N45,0)","v":22},{"$f":"P44-IF(N45<0,N45,0)","v":15},null,null,{"$f":"S44+IF(R45>0,R45,0)","v":17},{"$f":"T44-IF(R45<0,R45,0)","v":20},null,null,-2,-3,5,7,-3,null,4.5,5,1,0,5,null,null,"BOS",7,0.55555555555555558]
["2011-05-13",-1,17,20,null,1,18,20,null,-1,20,16,null,1,23,15,null,1,{"$f":"S45+IF(R46>0,R46,0)","v":18},{"$f":"T45-IF(R46<0,R46,0)","v":20},null,null,-3,-2,4,8,-2,null,5.5,5,2,0,5,null,null,"TOR",16,0.5]
["2011-05-14",1,18,20,null,1,19,20,null,-1,20,17,null,-1,23,16,null,1,19,20,null,null,-2,-1,3,7,-1,null,4.5,4,2,0,4,null,null,"BAL",28,0.42592592592592593]
["2011-05-15",1,19,20,null,1,20,20,null,-1,20,18,null,-1,23,17,null,1,20,20,null,null,-1,0,2,6,0,null,3.5,3,2,0,3]
["2011-05-16",-1,19,21,null,1,21,20,null,-1,20,19,null,1,24,17,null,1,21,20,null,null,-2,1,1,7,1,null,4.5,3,3,0,3]
["2011-05-17",null,19,21,null,null,21,20,null,1,21,19,null,-1,24,18,null,null,21,20,null,null,-2,1,2,6,1,null,4,2.5,2,0,2.5]
["2011-05-18",-1,19,22,null,1,22,20,null,1,22,19,null,1,25,18,null,-1,21,21,null,null,-3,2,3,7,0,null,5,2.5,2,0,3.5]
["2011-05-19",-1,19,23,null,1,23,20,null,1,23,19,null,-1,25,19,null,1,22,21,null,null,-4,3,4,6,1,null,5,1.5,1,0,2.5]
["2011-05-20",-1,19,24,null,1,24,20,null,-1,23,20,null,-1,25,20,null,-1,22,22,null,null,-5,4,3,5,0,null,5,0.5,1,0,2.5]
["2011-05-21",1,20,24,null,-1,24,21,null,1,24,20,null,-1,25,21,null,1,23,22,null,null,-4,3,4,4,1,null,4,0.5,0,0,1.5]
["2011-05-22",1,21,24,null,1,25,21,null,1,25,20,null,1,26,21,null,-1,23,23,null,null,-3,4,5,5,0,null,4,0.5,0,0,2.5]
["2011-05-23",null,{"$f":"C55+IF(B56>0,B56,0)","v":21},{"$f":"D55-IF(B56<0,B56,0)","v":24},null,-1,25,22,null,-1,25,21,null,-1,26,22,null,1,24,23,null,null,-3,3,4,4,1,null,3.5,0.5,0,0,1.5]
["2011-05-24",1,22,24,null,1,26,22,null,1,26,21,null,-1,26,23,null,-1,24,24,null,null,-2,4,5,3,0,null,3.5,0.5,0,1,2.5]
["2011-05-25",1,23,24,null,1,27,22,null,1,27,21,null,null,26,23,null,-1,24,25,null,null,-1,5,6,3,-1,null,3.5,0.5,0,1.5,3.5]
["2011-05-26",1,24,24,null,1,28,22,null,null,27,21,null,null,26,23,null,-1,24,26,null,null,0,6,6,3,-2,null,3,0,0,1.5,4]
["2011-05-27",-1,24,25,null,1,29,22,null,-1,27,22,null,1,27,23,null,1,25,26,null,null,-1,7,5,4,-1,null,4,0,1,1.5,4]
["2011-05-28",-1,24,26,null,null,29,22,null,-1,27,23,null,-1,27,24,null,1,26,26,null,null,-2,7,4,3,0,null,4.5,0,1.5,2,3.5]
["2011-05-29",-1,24,27,null,0,30,23,null,1,28,23,null,1,28,24,null,1,27,26,null,null,-3,7,5,4,1,null,5,0,1,1.5,3]
["2011-05-30",-1,24,28,null,-1,30,24,null,1,29,23,null,-1,28,25,null,1,28,26,null,null,-4,6,6,3,2,null,5,0,0,1.5,2]
["2011-05-31",-1,24,29,null,-1,30,25,null,1,30,23,null,1,29,25,null,-1,28,27,null,null,-5,5,7,4,1,null,6,1,0,1.5,3]
["2011-06-01",1,25,29,null,-1,30,26,null,1,31,23,null,-1,29,26,null,-1,28,28,null,null,-4,4,8,3,0,null,6,2,0,2.5,4]
["2011-06-02",null,25,29,null,null,30,26,null,null,31,23,null,-1,29,27,null,null,28,28,null,null,-4,4,8,2,0,null,6,2,0,3,4]
["2011-06-03",-1,25,30,null,1,31,26,null,-1,31,24,null,-1,29,28,null,1,29,28,null,null,{"$f":"C67-D67","v":-5},{"$f":"G67-H67","v":5},{"$f":"K67-L67","v":7},{"$f":"O67-P67","v":1},{"$f":"S67-T67","v":1},null,{"$f":"(MAX($W67:$AA67)-W67)/2","v":6},{"$f":"(MAX($W67:$AA67)-X67)/2","v":1},{"$f":"(MAX($W67:$AA67)-Y67)/2","v":0},{"$f":"(MAX($W67:$AA67)-Z67)/2","v":3},{"$f":"(MAX($W67:$AA67)-AA67)/2","v":3}]
["2011-06-04",1,26,30,null,1,32,26,null,1,32,24,null,1,30,28,null,-1,29,29,null,null,-4,6,8,2,0,null,6,1,0,3,4]
["2011-06-05",-1,26,31,null,1,33,26,null,1,33,24,null,-1,30,29,null,1,30,29,null,null,-5,7,9,1,1,null,7,1,0,4,4]
["2011-06-06",1,{"$f":"C69+IF(B70>0,B70,0)","v":27},{"$f":"D69-IF(B70<0,B70,0)","v":31},null,null,{"$f":"G69+IF(F70>0,F70,0)","v":33},{"$f":"H69-IF(F70<0,F70,0)","v":26},null,0,{"$f":"K69+IF(J70>0,J70,0)","v":33},{"$f":"L69-IF(J70<0,J70,0)","v":24},null,1,31,29,null,-1,30,30,null,null,-4,7,9,2,0,null,6.5,1,0,3.5,4.5]
["2011-06-07",1,{"$f":"C70+IF(B71>0,B71,0)","v":28},{"$f":"D70-IF(B71<0,B71,0)","v":31},null,1,{"$f":"G70+IF(F71>0,F71,0)","v":34},{"$f":"H70-IF(F71<0,F71,0)","v":26},null,-1,{"$f":"K70+IF(J71>0,J71,0)","v":33},{"$f":"L70-IF(J71<0,J71,0)","v":25},null,1,{"$f":"O70+IF(N71>0,N71,0)","v":32},{"$f":"P70-IF(N71<0,N71,0)","v":29},null,1,31,30,null,null,-3,8,8,3,1,null,5.5,0,0,2.5,3.5]
["2011-06-08",1,{"$f":"C71+IF(B72>0,B72,0)","v":29},{"$f":"D71-IF(B72<0,B72,0)","v":31},null,1,{"$f":"G71+IF(F72>0,F72,0)","v":35},{"$f":"H71-IF(F72<0,F72,0)","v":26},null,-1,{"$f":"K71+IF(J72>0,J72,0)","v":33},{"$f":"L71-IF(J72<0,J72,0)","v":26},null,1,33,29,null,1,32,30,null,null,-2,9,7,4,2,null,5.5,0,1,2.5,3.5]
["2011-06-09",null,{"$f":"C72+IF(B73>0,B73,0)","v":29},{"$f":"D72-IF(B73<0,B73,0)","v":31},null,1,{"$f":"G72+IF(F73>0,F73,0)","v":36},{"$f":"H72-IF(F73<0,F73,0)","v":26},null,-1,{"$f":"K72+IF(J73>0,J73,0)","v":33},{"$f":"L72-IF(J73<0,J73,0)","v":27},null,null,33,29,null,-1,32,31,null,null,-2,10,6,4,1,null,6,0,2,3,4.5]
["2011-06-10",1,30,31,null,1,37,26,null,1,{"$f":"K73+IF(J74>0,J74,0)","v":34},{"$f":"L73-IF(J74<0,J74,0)","v":27},null,-1,33,30,null,-1,32,32,null,null,-1,11,7,3,0,null,6,0,2,4,5.5]
["2011-06-11",-1,30,32,null,1,38,26,null,1,{"$f":"K74+IF(J75>0,J75,0)","v":35},{"$f":"L74-IF(J75<0,J75,0)","v":27},null,1,34,30,null,-1,32,33,null,null,-2,12,8,4,-1,null,7,0,2,4,6.5]
["2011-06-12",-1,30,33,null,1,39,26,null,1,{"$f":"K75+IF(J76>0,J76,0)","v":36},{"$f":"L75-IF(J76<0,J76,0)","v":27},null,1,35,30,null,-1,32,34,null,null,-3,13,9,5,-2,null,8,0,2,4,7.5]
["2011-06-13",null,30,33,null,null,39,26,null,-1,{"$f":"K76+IF(J77>0,J77,0)","v":36},{"$f":"L76-IF(J77<0,J77,0)","v":28},null,-1,35,31,null,null,32,34,null,null,-3,13,8,4,-2,null,8,0,2.5,4.5,7.5]
["2011-06-14",-1,30,34,null,-1,39,27,null,1,{"$f":"K77+IF(J78>0,J78,0)","v":37},{"$f":"L77-IF(J78<0,J78,0)","v":28},null,1,36,31,null,1,{"$f":"S77+IF(R78>0,R78,0)","v":33},{"$f":"T77-IF(R78<0,R78,0)","v":34},null,null,-4,12,9,5,-1,null,8,0,1.5,3.5,6.5]
["2011-06-15",-1,30,35,null,1,40,27,null,1,{"$f":"K78+IF(J79>0,J79,0)","v":38},{"$f":"L78-IF(J79<0,J79,0)","v":28},null,-1,36,32,null,1,34,34,null,null,-5,13,10,4,0,null,9,0,1.5,4.5,6.5]
["2011-06-16",1,31,35,null,1,41,27,null,1,{"$f":"K79+IF(J80>0,J80,0)","v":39},{"$f":"L79-IF(J80<0,J80,0)","v":28},null,-1,36,33,null,-1,34,35,null,null,-4,14,11,3,-1,null,9,0,1.5,5.5,7.5]
["2011-06-17",-1,31,36,null,1,42,27,null,-1,{"$f":"K80+IF(J81>0,J81,0)","v":39},{"$f":"L80-IF(J81<0,J81,0)","v":29},null,1,37,33,null,1,35,35,null,null,-5,15,10,4,0,null,10,0,2.5,5.5,7.5]
["2011-06-18",-1,31,37,null,-1,42,28,null,1,{"$f":"K81+IF(J82>0,J82,0)","v":40},{"$f":"L81-IF(J82<0,J82,0)","v":29},null,1,38,33,null,1,36,35,null,null,-6,14,11,5,1,null,10,0,1.5,4.5,6.5]
["2011-06-19",1,32,37,null,1,43,28,null,1,{"$f":"K82+IF(J83>0,J83,0)","v":41},{"$f":"L82-IF(J83<0,J83,0)","v":29},null,1,39,33,null,-1,36,36,null,null,-5,15,12,6,0,null,10,0,1.5,4.5,7.5]
["2011-06-20",1,33,37,null,1,44,28,null,1,{"$f":"K83+IF(J84>0,J84,0)","v":42},{"$f":"L83-IF(J84<0,J84,0)","v":29},null,1,40,33,null,-1,36,37,null,null,-4,16,13,7,-1,null,10,0,1.5,4.5,8.5]
["2011-06-21",-1,33,38,null,-1,44,29,null,null,{"$f":"K84+IF(J85>0,J85,0)","v":42},{"$f":"L84-IF(J85<0,J85,0)","v":29},null,-1,40,34,null,-1,36,38,null,null,-5,15,13,6,-2,null,10,0,1,4.5,8.5]
["2011-06-22",-1,33,39,null,-1,{"$f":"G85+IF(F86>0,F86,0)","v":44},{"$f":"H85-IF(F86<0,F86,0)","v":30},null,0,43,30,null,1,41,34,null,-1,36,39,null,null,-6,14,13,7,-3,null,10,0,0.5,3.5,8.5]
["2011-06-23",null,33,39,null,null,44,30,null,null,{"$f":"K86+IF(J87>0,J87,0)","v":43},{"$f":"L86-IF(J87<0,J87,0)","v":30},null,null,41,34,null,null,36,39,null,null,-6,14,13,7,-3,null,10,0,0.5,3.5,8.5]
["2011-06-24",1,34,39,null,-1,44,31,null,-1,43,31,null,1,42,34,null,1,{"$f":"S87+IF(R88>0,R88,0)","v":37},{"$f":"T87-IF(R88<0,R88,0)","v":39},null,null,-5,13,12,8,-2,null,9,0,0.5,2.5,7.5]
["2011-06-25",-1,34,40,null,-1,44,32,null,1,44,31,null,1,43,34,null,1,38,39,null,null,-6,12,13,9,-1,null,9.5,0.5,0,2,7]
["2011-06-26",1,35,40,null,1,45,32,null,1,45,31,null,1,44,34,null,1,39,39,null,null,-5,13,14,10,0,null,9.5,0.5,0,2,7]
["2011-06-27",null,35,40,null,null,45,32,null,null,45,31,null,-1,44,35,null,-1,39,40,null,null,-5,13,14,9,-1,null,9.5,0.5,0,2.5,7.5]
["2011-06-28",-1,35,41,null,-1,45,33,null,1,46,31,null,1,45,35,null,-1,39,41,null,null,-6,12,15,10,-2,null,10.5,1.5,0,2.5,8.5]
["2011-06-29",-1,35,42,null,-1,45,34,null,1,47,31,null,-1,45,36,null,1,40,41,null,null,-7,11,16,9,-1,null,11.5,2.5,0,3.5,8.5]
["2011-06-30",-1,35,43,null,1,46,34,null,1,48,31,null,null,45,36,null,-1,40,42,null,null,-8,12,17,9,-2,null,12.5,2.5,0,4,9.5]
["2011-07-01",-1,35,44,null,1,47,34,null,1,49,31,null,-1,45,37,null,-1,40,43,null,null,-9,13,18,8,-3,null,13.5,2.5,0,5,10.5]
["2011-07-02",-1,35,45,null,1,48,34,null,1,50,31,null,1,46,37,null,-1,{"$f":"S95+IF(R96>0,R96,0)","v":40},{"$f":"T95-IF(R96<0,R96,0)","v":44},null,null,-10,14,19,9,-4,null,14.5,2.5,0,5,11.5]
["2011-07-03",1,36,45,null,1,49,34,null,-1,50,32,null,1,47,37,null,1,41,44,null,null,-9,15,18,10,-3,null,13.5,1.5,0,4,10.5]
["2011-07-04",-1,36,46,null,-1,49,35,null,-1,50,33,null,-1,47,38,null,1,42,44,null,null,-10,14,17,9,-2,null,13.5,1.5,0,4,9.5]
["2011-07-05",-1,36,47,null,1,50,35,null,1,51,33,null,-1,47,39,null,-1,42,45,null,null,{"$f":"C99-D99","v":-11},{"$f":"G99-H99","v":15},{"$f":"K99-L99","v":18},{"$f":"O99-P99","v":8},{"$f":"S99-T99","v":-3},null,{"$f":"(MAX($W99:$AA99)-W99)/2","v":14.5},{"$f":"(MAX($W99:$AA99)-X99)/2","v":1.5},{"$f":"(MAX($W99:$AA99)-Y99)/2","v":0},{"$f":"(MAX($W99:$AA99)-Z99)/2","v":5},{"$f":"(MAX($W99:$AA99)-AA99)/2","v":10.5}]
["2011-07-06",-1,{"$f":"C99+IF(B100>0,B100,0)","v":36},{"$f":"D99-IF(B100<0,B100,0)","v":48},null,1,51,35,null,-1,51,34,null,1,48,39,null,-1,42,46,null,null,-12,16,17,9,-4,null,14.5,0.5,0,4,10.5]
["2011-07-07",-1,36,49,null,1,52,35,null,-1,51,35,null,1,49,39,null,-1,42,47,null,null,-13,17,16,10,-5,null,15,0,0.5,3.5,11]
["2011-07-08",-1,36,50,null,1,53,35,null,null,51,35,null,null,49,39,null,1,43,47,null,null,-14,18,16,10,-4,null,16,0,1,4,11]
["2011-07-09",-1,{"$f":"C102+IF(B103>0,B103,0)","v":36},{"$f":"D102-IF(B103<0,B103,0)","v":51},null,1,{"$f":"G102+IF(F103>0,F103,0)","v":54},{"$f":"H102-IF(F103<0,F103,0)","v":35},null,1,{"$f":"K102+IF(J103>0,J103,0)","v":52},{"$f":"L102-IF(J103<0,J103,0)","v":35},null,-1,{"$f":"O102+IF(N103>0,N103,0)","v":49},{"$f":"P102-IF(N103<0,N103,0)","v":40},null,1,44,47,null,null,-15,19,17,9,-3,null,17,0,1,5,11]
["2011-07-10",-1,36,52,null,1,55,35,null,1,53,35,null,-1,49,41,null,1,45,47,null,null,-16,20,18,8,-2,null,18,0,1,6,11]
["2011-07-11",null,36,52,null,null,55,35,null,null,53,35,null,null,49,41,null,null,45,47,null,null,-16,20,18,8,-2,null,18,0,1,6,11]
["2011-07-12",null,36,52,null,null,55,35,null,null,53,35,null,null,49,41,null,null,45,47,null,null,-16,20,18,8,-2,null,18,0,1,6,11]
["2011-07-13",null,36,52,null,null,55,35,null,null,53,35,null,null,49,41,null,null,45,47,null,null,-16,20,18,8,-2,null,18,0,1,6,11]
["2011-07-14",-1,36,53,null,null,55,35,null,-1,53,36,null,null,49,41,null,1,46,47,null,null,-17,20,17,8,-1,null,18.5,0,1.5,6,10.5]
["2011-07-15",-1,36,54,null,-1,55,36,null,-1,53,37,null,1,50,41,null,1,47,47,null,null,-18,19,16,9,0,null,18.5,0,1.5,5,9.5]
["2011-07-16",1,37,54,null,1,56,36,null,1,54,37,null,-1,50,42,null,-1,{"$f":"S109+IF(R110>0,R110,0)","v":47},{"$f":"T109-IF(R110<0,R110,0)","v":48},null,null,-17,20,17,8,-1,null,18.5,0,1.5,6,10.5]
["2011-07-17",1,38,54,null,1,57,36,null,1,55,37,null,-1,50,43,null,-1,47,49,null,null,-16,21,18,7,-2,null,18.5,0,1.5,7,11.5]
["2011-07-18",-1,38,55,null,1,58,36,null,1,56,37,null,-1,50,44,null,null,47,49,null,null,-17,22,19,6,-2,null,19.5,0,1.5,8,12]
["2011-07-19",1,39,55,null,-1,58,37,null,-1,56,38,null,1,51,44,null,1,48,49,null,null,-16,21,18,7,-1,null,18.5,0,1.5,7,11]
["2011-07-20",-1,39,56,null,1,59,37,null,1,57,38,null,-1,51,45,null,1,49,49,null,null,-17,22,19,6,0,null,19.5,0,1.5,8,11]
["2011-07-21",null,39,56,null,null,59,37,null,-1,57,39,null,1,52,45,null,1,50,49,null,null,-17,22,18,7,1,null,19.5,0,2,7.5,10.5]
["2011-07-22",-1,39,57,null,1,60,37,null,1,58,39,null,-1,52,46,null,-1,50,50,null,null,-18,23,19,6,0,null,20.5,0,2,8.5,11.5]
["2011-07-23",1,40,57,null,1,61,37,null,-1,58,40,null,-1,52,47,null,-1,50,51,null,null,-17,24,18,5,-1,null,20.5,0,3,9.5,12.5]
["2011-07-24",-1,40,58,null,1,62,37,null,1,59,40,null,1,53,47,null,1,51,51,null,null,-18,25,19,6,0,null,21.5,0,3,9.5,12.5]
["2011-07-25",null,40,58,null,-1,62,38,null,1,60,40,null,-1,53,48,null,null,51,51,null,null,-18,24,20,5,0,null,21,0,2,9.5,12]
["2011-07-26",1,41,58,null,1,63,38,null,1,61,40,null,-1,53,49,null,-1,51,52,null,null,-17,25,21,4,-1,null,21,0,2,10.5,13]
["2011-07-27",-1,41,59,null,1,64,38,null,-1,61,41,null,-1,53,50,null,1,52,52,null,null,-18,26,20,3,0,null,22,0,3,11.5,13]
["2011-07-28",-1,41,60,null,-1,64,39,null,null,61,41,null,1,54,50,null,1,53,52,null,null,-19,25,20,4,1,null,22,0,2.5,10.5,12]
["2011-07-29",1,42,60,null,-1,64,40,null,-1,61,42,null,1,55,50,null,1,54,52,null,null,-18,24,19,5,2,null,21,0,2.5,9.5,11]
["2011-07-30",-2,42,62,null,1,65,40,null,2,63,42,null,-1,55,51,null,-1,54,53,null,null,-20,25,21,4,1,null,22.5,0,2,10.5,12]
["2011-07-31",-1,42,63,null,1,66,40,null,1,64,42,null,1,56,51,null,1,55,53,null,null,-21,26,22,5,2,null,23.5,0,2,10.5,12]
["2011-08-01",null,42,63,null,-1,66,41,null,1,65,42,null,null,56,51,null,null,55,53,null,null,-21,25,23,5,2,null,23,0,1,10,11.5]
["2011-08-02",1,43,63,null,1,67,41,null,1,66,42,null,-1,56,52,null,1,56,53,null,null,-20,26,24,4,3,null,23,0,1,11,11.5]
["2011-08-03",-1,43,64,null,1,68,41,null,1,67,42,null,1,57,52,null,-1,56,54,null,null,-21,27,25,5,2,null,24,0,1,11,12.5]
["2011-08-04",-1,43,65,null,-1,68,42,null,1,68,42,null,1,58,52,null,-1,56,55,null,null,-22,26,26,6,1,null,24,0,0,10,12.5]
["2011-08-05",-1,43,66,null,-1,68,43,null,1,69,42,null,1,59,52,null,1,57,55,null,null,-23,25,27,7,2,null,25,1,0,10,12.5]
["2011-08-06",1,44,66,null,1,69,43,null,-1,69,43,null,-1,59,53,null,-1,57,56,null,null,{"$f":"C131-D131","v":-22},{"$f":"G131-H131","v":26},{"$f":"K131-L131","v":26},{"$f":"O131-P131","v":6},{"$f":"S131-T131","v":1},null,{"$f":"(MAX($W131:$AA131)-W131)/2","v":24},{"$f":"(MAX($W131:$AA131)-X131)/2","v":0},{"$f":"(MAX($W131:$AA131)-Y131)/2","v":0},{"$f":"(MAX($W131:$AA131)-Z131)/2","v":10},{"$f":"(MAX($W131:$AA131)-AA131)/2","v":12.5}]
["2011-08-07",-1,44,67,null,1,70,43,null,-1,69,44,null,-1,59,54,null,1,58,56,null,null,-23,27,25,5,2,null,25,0,1,11,12.5]
["2011-08-08",-1,44,68,null,1,71,43,null,null,69,44,null,1,60,54,null,null,58,56,null,null,-24,28,25,6,2,null,26,0,1.5,11,13]
["2011-08-09",-1,44,69,null,1,72,43,null,-1,69,45,null,1,61,54,null,-1,58,57,null,null,-25,29,24,7,1,null,27,0,2.5,11,14]
["2011-08-10",1,{"$f":"C134+IF(B135>0,B135,0)","v":45},{"$f":"D134-IF(B135<0,B135,0)","v":69},null,-1,{"$f":"G134+IF(F135>0,F135,0)","v":72},{"$f":"H134-IF(F135<0,F135,0)","v":44},null,1,{"$f":"K134+IF(J135>0,J135,0)","v":70},{"$f":"L134-IF(J135<0,J135,0)","v":45},null,1,{"$f":"O134+IF(N135>0,N135,0)","v":62},{"$f":"P134-IF(N135<0,N135,0)","v":54},null,1,59,57,null,null,-24,28,25,8,2,null,26,0,1.5,10,13]
["2011-08-11",-1,45,70,null,null,72,44,null,1,71,45,null,1,63,54,null,-1,59,58,null,null,-25,28,26,9,1,null,26.5,0,1,9.5,13.5]
["2011-08-12",-1,45,71,null,1,73,44,null,-1,71,46,null,1,64,54,null,-1,59,59,null,null,-26,29,25,10,0,null,27.5,0,2,9.5,14.5]
["2011-08-13",-1,45,72,null,-1,73,45,null,1,72,46,null,-1,64,55,null,1,60,59,null,null,-27,28,26,9,1,null,27.5,0,1,9.5,13.5]
["2011-08-14",1,46,72,null,-1,73,46,null,null,72,46,null,null,64,55,null,1,61,59,null,null,-26,27,26,9,2,null,26.5,0,0.5,9,12.5]
["2011-08-15",1,47,72,null,null,73,46,null,1,73,46,null,null,64,55,null,-1,61,60,null,null,-25,27,27,9,1,null,26,0,0,9,13]
["2011-08-16",-1,47,73,null,0,74,47,null,1,74,46,null,0,65,56,null,1,62,60,null,null,-26,27,28,9,2,null,27,0.5,0,9.5,13]
["2011-08-17",-1,47,74,null,-1,74,48,null,-1,74,47,null,1,66,56,null,1,{"$f":"S141+IF(R142>0,R142,0)","v":63},{"$f":"T141-IF(R142<0,R142,0)","v":60},null,null,-27,26,27,10,3,null,27,0.5,0,8.5,12]
["2011-08-18",null,47,74,null,1,75,48,null,1,75,47,null,null,66,56,null,1,64,60,null,null,-27,27,28,10,4,null,27.5,0.5,0,9,12]
["2011-08-19",-1,47,75,null,1,76,48,null,1,76,47,null,1,67,56,null,-1,64,61,null,null,-28,28,29,11,3,null,28.5,0.5,0,9,13]
["2011-08-20",-1,47,76,null,-1,76,49,null,-1,76,48,null,1,68,56,null,-1,64,62,null,null,-29,27,28,12,2,null,28.5,0.5,0,8,13]
["2011-08-21",-1,47,77,null,1,77,49,null,1,77,48,null,1,69,56,null,1,65,62,null,null,-30,28,29,13,3,null,29.5,0.5,0,8,13]
["2011-08-22",1,48,77,null,-1,77,50,null,null,77,48,null,-1,{"$f":"O146+IF(N147>0,N147,0)","v":69},{"$f":"P146-IF(N147<0,N147,0)","v":57},null,null,{"$f":"S146+IF(R147>0,R147,0)","v":65},{"$f":"T146-IF(R147<0,R147,0)","v":62},null,null,-29,27,29,12,3,null,29,1,0,8.5,13]
["2011-08-23",1,49,77,null,1,78,50,null,-1,77,49,null,-1,69,58,null,-1,65,63,null,null,-28,28,28,11,2,null,28,0,0,8.5,13]
["2011-08-24",1,50,77,null,1,{"$f":"G148+IF(F149>0,F149,0)","v":79},{"$f":"H148-IF(F149<0,F149,0)","v":50},null,-1,77,50,null,1,70,58,null,1,66,63,null,null,-27,29,27,12,3,null,28,0,1,8.5,13]
["2011-08-25",1,51,77,null,1,80,50,null,1,78,50,null,-1,70,59,null,-1,66,64,null,null,-26,30,28,11,2,null,28,0,1,9.5,14]
["2011-08-26",1,52,77,null,-1,80,51,null,-1,78,51,null,1,71,59,null,-1,66,65,null,null,-25,29,27,12,1,null,27,0,1,8.5,14]
["2011-08-27",null,52,77,null,2,82,51,null,null,78,51,null,1,72,59,null,-1,66,66,null,null,-25,31,27,13,0,null,28,0,2,9,15.5]
["2011-08-28",0,53,78,null,null,82,51,null,0,79,52,null,1,73,59,null,-1,66,67,null,null,-25,31,27,14,-1,null,28,0,2,8.5,16]
["2011-08-29",-1,53,79,null,null,82,51,null,1,80,52,null,-1,73,60,null,1,67,67,null,null,-26,31,28,13,0,null,28.5,0,1.5,9,15.5]
["2011-08-30",1,{"$f":"C154+IF(B155>0,B155,0)","v":54},{"$f":"D154-IF(B155<0,B155,0)","v":79},null,-1,82,52,null,1,81,52,null,-1,73,61,null,-1,67,68,null,null,-25,30,29,12,-1,null,27.5,0,0.5,9,15.5]
["2011-08-31",-1,54,80,null,1,83,52,null,-1,81,53,null,1,74,61,null,1,68,68,null,null,-26,31,28,13,0,null,28.5,0,1.5,9,15.5]
["2011-09-01",-1,54,81,null,-1,{"$f":"G156+IF(F157>0,F157,0)","v":83},{"$f":"H156-IF(F157<0,F157,0)","v":53},null,1,82,53,null,-1,74,62,null,1,69,68,null,null,-27,30,29,12,1,null,28.5,0,0.5,9,14.5]
["2011-09-02",1,55,81,null,-1,83,54,null,1,83,53,null,-1,74,63,null,-1,69,69,null,null,-26,29,30,11,0,null,28,0.5,0,9.5,15]
["2011-09-03",-1,55,82,null,1,84,54,null,1,84,53,null,1,75,63,null,-1,69,70,null,null,-27,30,31,12,-1,null,29,0.5,0,9.5,16]
["2011-09-04",-1,55,83,null,-1,84,55,null,1,85,53,null,1,76,63,null,-1,69,71,null,null,-28,29,32,13,-2,null,30,1.5,0,9.5,17]
["2011-09-05",-1,55,84,null,-1,84,56,null,1,86,53,null,1,77,63,null,1,70,71,null,null,-29,28,33,14,-1,null,31,2.5,0,9.5,17]
["2011-09-06",-1,55,85,null,1,85,56,null,1,87,53,null,-1,77,64,null,-1,70,72,null,null,-30,29,34,13,-2,null,32,2.5,0,10.5,18]
["2011-09-07",1,56,85,null,-1,85,57,null,-1,87,54,null,1,78,64,null,1,71,72,null,null,{"$f":"C163-D163","v":-29},{"$f":"G163-H163","v":28},{"$f":"K163-L163","v":33},{"$f":"O163-P163","v":14},{"$f":"S163-T163","v":-1},null,{"$f":"(MAX($W163:$AA163)-W163)/2","v":31},{"$f":"(MAX($W163:$AA163)-X163)/2","v":2.5},{"$f":"(MAX($W163:$AA163)-Y163)/2","v":0},{"$f":"(MAX($W163:$AA163)-Z163)/2","v":9.5},{"$f":"(MAX($W163:$AA163)-AA163)/2","v":17}]
["2011-09-08",1,57,85,null,-1,85,58,null,-1,87,55,null,null,78,64,null,1,72,72,null,null,-28,27,32,14,0,null,30,2.5,0,9,16]
["2011-09-09",1,58,85,null,-1,85,59,null,-1,{"$f":"K164+IF(J165>0,J165,0)","v":87},{"$f":"L164-IF(J165<0,J165,0)","v":56},null,1,79,64,null,-1,{"$f":"S164+IF(R165>0,R165,0)","v":72},{"$f":"T164-IF(R165<0,R165,0)","v":73},null,null,-27,26,31,15,-1,null,29,2.5,0,8,16]
["2011-09-10",-1,{"$f":"C165+IF(B166>0,B166,0)","v":58},{"$f":"D165-IF(B166<0,B166,0)","v":86},null,-1,85,60,null,-1,87,57,null,1,80,64,null,1,73,73,null,null,-28,25,30,16,0,null,29,2.5,0,7,15]
["2011-09-11",-1,58,87,null,-1,{"$f":"G166+IF(F167>0,F167,0)","v":85},{"$f":"H166-IF(F167<0,F167,0)","v":61},null,1,88,57,null,1,{"$f":"O166+IF(N167>0,N167,0)","v":81},{"$f":"P166-IF(N167<0,N167,0)","v":64},null,1,74,73,null,null,-29,24,31,17,1,null,30,3.5,0,7,15]
["2011-09-12",-1,58,88,null,null,85,61,null,1,89,57,null,1,82,64,null,null,74,73,null,null,-30,24,32,18,1,null,31,4,0,7,15.5]
["2011-09-13",1,59,88,null,1,86,61,null,1,90,57,null,-1,82,65,null,-1,74,74,null,null,-29,25,33,17,0,null,31,4,0,8,16.5]
["2011-09-14",1,60,88,null,-1,86,62,null,-1,90,58,null,-1,82,66,null,1,75,74,null,null,-28,24,32,16,1,null,30,4,0,8,15.5]
["2011-09-15",null,60,88,null,-1,86,63,null,null,90,58,null,1,83,66,null,null,75,74,null,null,-28,23,32,17,1,null,30,4.5,0,7.5,15.5]
["2011-09-16",1,61,88,null,1,87,63,null,-1,90,59,null,-1,83,67,null,1,76,74,null,null,-27,24,31,16,2,null,29,3.5,0,7.5,14.5]
["2011-09-17",1,62,88,null,-1,87,64,null,1,91,59,null,1,84,67,null,-1,76,75,null,null,-26,23,32,17,1,null,29,4.5,0,7.5,15.5]
["2011-09-18",-1,62,89,null,-1,87,65,null,-1,91,60,null,1,85,67,null,1,77,75,null,null,-27,22,31,18,2,null,29,4.5,0,6.5,14.5]
["2011-09-19",0,63,90,null,0,88,66,null,1,92,60,null,null,85,67,null,1,78,75,null,null,-27,22,32,18,3,null,29.5,5,0,7,14.5]
["2011-09-20",1,{"$f":"C175+IF(B176>0,B176,0)","v":64},{"$f":"D175-IF(B176<0,B176,0)","v":90},null,-1,88,67,null,1,93,60,null,-1,85,68,null,-1,78,76,null,null,-26,21,33,17,2,null,29.5,6,0,8,15.5]
["2011-09-21",1,65,90,null,-1,88,68,null,2,95,60,null,-2,85,70,null,-1,78,77,null,null,-25,20,35,15,1,null,30,7.5,0,10,17]
["2011-09-22",1,66,90,null,null,88,68,null,-1,95,61,null,1,86,70,null,1,79,77,null,null,-24,20,34,16,2,null,29,7,0,9,16]
["2011-09-23",-1,66,91,null,null,88,68,null,null,95,61,null,-1,86,71,null,1,80,77,null,null,-25,20,34,15,3,null,29.5,7,0,9.5,15.5]
["2011-09-24",1,67,91,null,-1,88,69,null,1,96,61,null,1,87,71,null,-1,80,78,null,null,-24,19,35,16,2,null,29.5,8,0,9.5,16.5,null,null,"Team","GB","%"]
["2011-09-25",-1,67,92,null,0,89,70,null,0,97,62,null,1,88,71,null,-1,80,79,null,null,-25,19,35,17,1,null,30,8,0,9,17,null,null,{"$f":"AE$1","v":"NYY"},{"$f":"AE$185","v":0},{"$f":"AE$187","v":0.59876543209876543}]
["2011-09-26",1,68,92,null,-1,89,71,null,-1,97,63,null,1,89,71,null,-1,80,80,null,null,-24,18,34,18,0,null,29,8,0,8,17,null,null,{"$f":"AF$1","v":"TBR"},{"$f":"AF$185","v":6},{"$f":"AF$187","v":0.56172839506172845}]
["2011-09-27",-1,68,93,null,1,90,71,null,-1,97,64,null,1,90,71,null,-1,80,81,null,null,-25,19,33,19,-1,null,29,7,0,7,17,null,null,{"$f":"AD$1","v":"BOS"},{"$f":"AD$185","v":7},{"$f":"AD$187","v":0.55555555555555558}]
["2011-09-28",1,69,93,null,-1,90,72,null,-1,97,65,null,1,91,71,null,1,81,81,null,null,-24,18,32,20,0,null,28,7,0,6,16,null,null,{"$f":"AG$1","v":"TOR"},{"$f":"AG$185","v":16},{"$f":"AG$187","v":0.5}]
["2011-09-29",null,69,93,null,null,90,72,null,null,97,65,null,null,91,71,null,null,81,81,null,null,-24,18,32,20,0,null,28,7,0,6,16,null,null,{"$f":"AC$1","v":"BAL"},{"$f":"AC$185","v":28},{"$f":"AC$187","v":0.42592592592592593}]
[]
[null,null,null,null,null,null,null,null,null,null,null,null,null,null,null,null,null,null,null,null,null,null,null,null,null,null,null,null,{"$f":"C185/(C185+D185)","v":0.42592592592592593},{"$f":"G185/(G185+H185)","v":0.55555555555555558},{"$f":"K185/(K185+L185)","v":0.59876543209876543},{"$f":"O185/(O185+P185)","v":0.56172839506172845},{"$f":"S185/(S185+T185)","v":0.5}]