{"text_format":"1","workbook":"xlsx","n_sheets":2,"sheets":["Chart","NLC09"],"not_rendered":{"charts":2,"images":0,"macros":1,"external_links":0,"defined_names":1,"comments":0,"pivot_tables":0},"unopened":[],"bounds":{"document_bytes":16777216,"sheet_cells":100000,"rows_first":2000,"rows_last":500,"rows_between":2000,"halvings":0,"cell_chars":16384,"cell_head_chars":4096},"cells_cut":0,"cells_raw":0,"read":"whole","date_system":"1900"}

{"sheet":"Chart","index":0,"n_rows":38,"n_cols":6,"rows_kept":38,"cut":false,"hidden":false,"merged":[]}
[]
[null,{"$f":"'NLC09'!AP182","v":"STL"},{"$f":"'NLC09'!AQ182","v":0},{"$f":"'NLC09'!AR182","v":0.56172839506172845}]
[null,{"$f":"'NLC09'!AP183","v":"CHC"},{"$f":"'NLC09'!AQ183","v":7.5},{"$f":"'NLC09'!AR183","v":0.51552795031055898}]
[null,{"$f":"'NLC09'!AP184","v":"MIL"},{"$f":"'NLC09'!AQ184","v":11},{"$f":"'NLC09'!AR184","v":0.49382716049382713}]
[null,{"$f":"'NLC09'!AP185","v":"CIN"},{"$f":"'NLC09'!AQ185","v":13},{"$f":"'NLC09'!AR185","v":0.48148148148148145}]
[null,{"$f":"'NLC09'!AP186","v":"HOU"},{"$f":"'NLC09'!AQ186","v":17},{"$f":"'NLC09'!AR186","v":0.4567901234567901}]
[null,{"$f":"'NLC09'!AP187","v":"PIT"},{"$f":"'NLC09'!AQ187","v":28.5},{"$f":"'NLC09'!AR187","v":0.38509316770186336}]
[]
[]
[]
[]
[null,"MLB.mobi Scores"]
[]
[]
[null,"PHP Results"]
[]
[]
[null,"HTML Results"]
[]
[]
[]
[]
[]
[]
[]
[]
[]
[]
[]
[]
[]
[]
[]
[]
[]
[]
[]
[null,null,null,null,null,"Note: You must enable macros for this workbook to update correctly"]

{"sheet":"NLC09","index":1,"n_rows":187,"n_cols":44,"rows_kept":187,"cut":false,"hidden":false,"merged":[]}
["NLC09","CHC","W","L",null,"CIN","W","L",null,"HOU","W","L",null,"MIL","W","L",null,"PIT","W","L",null,"STL","W","L",null,null,{"$f":"B1","v":"CHC"},{"$f":"F1","v":"CIN"},{"$f":"J1","v":"HOU"},{"$f":"N1","v":"MIL"},{"$f":"R1","v":"PIT"},{"$f":"V1","v":"STL"},null,{"$f":"AA1","v":"CHC"},"CIN","HOU","MIL","PIT","STL"]
["2009-04-05",0,0,0,null,0,0,0,null,0,0,0,null,0,0,0,null,0,0,0,null,0,0,0,null,null,0,0,0,0,0,0,null,0,0,0,0,0,0]
["2009-04-06",1,{"$f":"C2+IF(B3>0,B3,0)","v":1},{"$f":"D2-IF(B3<0,B3,0)","v":0},null,-1,{"$f":"G2+IF(F3>0,F3,0)","v":0},{"$f":"H2-IF(F3<0,F3,0)","v":1},null,-1,{"$f":"K2+IF(J3>0,J3,0)","v":0},{"$f":"L2-IF(J3<0,J3,0)","v":1},null,0,{"$f":"O2+IF(N3>0,N3,0)","v":0},{"$f":"P2-IF(N3<0,N3,0)","v":0},null,1,{"$f":"S2+IF(R3>0,R3,0)","v":1},{"$f":"T2-IF(R3<0,R3,0)","v":0},null,-1,{"$f":"W2+IF(V3>0,V3,0)","v":0},{"$f":"X2-IF(V3<0,V3,0)","v":1},null,null,{"$f":"C3-D3","v":1},{"$f":"G3-H3","v":-1},{"$f":"K3-L3","v":-1},{"$f":"O3-P3","v":0},{"$f":"S3-T3","v":1},{"$f":"W3-X3","v":-1},null,{"$f":"(MAX($AA3:$AF3)-AA3)/2","v":0},{"$f":"(MAX($AA3:$AF3)-AB3)/2","v":1},{"$f":"(MAX($AA3:$AF3)-AC3)/2","v":1},{"$f":"(MAX($AA3:$AF3)-AD3)/2","v":0.5},{"$f":"(MAX($AA3:$AF3)-AE3)/2","v":0},{"$f":"(MAX($AA3:$AF3)-AF3)/2","v":1}]
["2009-04-07",-1,1,1,null,0,0,1,null,1,1,1,null,-1,0,1,null,-1,1,1,null,1,1,1,null,null,0,-1,0,{"$f":"O4-P4","v":-1},0,0,null,0,0.5,0,0.5,0,0]
["2009-04-08",1,2,1,null,-1,0,2,null,-1,1,2,null,1,1,1,null,1,2,1,null,-1,1,2,null,null,1,-2,-1,{"$f":"O5-P5","v":0},1,-1,null,0,1.5,1,0.5,0,1]
["2009-04-09",0,2,1,null,1,1,2,null,0,1,2,null,-1,1,2,null,-1,2,2,null,1,2,2,null,null,1,-1,-1,{"$f":"O6-P6","v":-1},0,0,null,0,1,1,1,0.5,0.5]
["2009-04-10",-1,2,2,null,0,1,2,null,-1,1,3,null,1,2,2,null,0,2,2,null,1,3,2,null,null,0,-1,-2,{"$f":"O7-P7","v":0},0,1,null,0.5,1,1.5,0.5,0.5,0]
["2009-04-11",1,3,2,null,-1,1,3,null,-1,1,4,null,-1,2,3,null,1,3,2,null,1,4,2,null,null,1,-2,-3,{"$f":"O8-P8","v":-1},1,2,null,0.5,2,2.5,1.5,0.5,0]
["2009-04-12",1,4,2,null,1,2,3,null,-1,1,5,null,-1,{"$f":"O8+IF(N9>0,N9,0)","v":2},4,null,-1,3,3,null,1,5,2,null,null,2,-1,-4,-2,0,3,null,0.5,2,3.5,2.5,1.5,0]
["2009-04-13",1,5,2,null,1,3,3,null,-1,1,6,null,-1,2,5,null,1,4,3,null,1,6,2,null,null,3,0,-5,-3,1,4,null,0.5,2,4.5,3.5,1.5,0]
["2009-04-14",0,5,2,null,1,4,3,null,0,1,6,null,-1,2,6,null,0,4,3,null,-1,6,3,null,null,3,1,-5,-4,1,3,null,0,1,4,3.5,1,0]
["2009-04-15",-1,5,3,null,-1,4,4,null,1,2,6,null,1,3,6,null,-1,4,4,null,1,7,3,null,null,2,0,-4,-3,0,4,null,1,2,4,3.5,2,0]
["2009-04-16",-1,5,4,null,0,4,4,null,1,3,6,null,0,3,6,null,-1,4,5,null,1,8,3,null,null,1,0,-3,-3,-1,5,null,2,2.5,4,4,3,0]
["2009-04-17",1,6,4,null,1,5,4,null,-1,3,7,null,-1,3,7,null,1,5,5,null,-1,8,4,null,null,2,1,-4,-4,0,4,null,1,1.5,4,4,2,0]
["2009-04-18",1,7,4,null,-1,5,5,null,1,4,7,null,-1,3,8,null,1,6,5,null,-1,8,5,null,null,3,0,-3,-5,1,3,null,0,1.5,3,4,1,0]
["2009-04-19",0,7,4,null,1,6,5,null,-1,4,8,null,1,4,8,null,-1,6,6,null,0,8,5,null,null,3,1,-4,-4,0,3,null,0,1,3.5,3.5,1.5,0]
["2009-04-20",0,7,4,null,1,7,5,null,-1,4,9,null,0,4,8,null,1,7,6,null,0,8,5,null,null,3,2,-5,-4,1,3,null,0,0.5,4,3.5,1,0]
["2009-04-21",1,8,4,null,-1,7,6,null,1,5,9,null,-1,4,9,null,1,8,6,null,1,9,5,null,null,4,1,-4,-5,2,4,null,0,1.5,4,4.5,1,0]
["2009-04-22",-1,8,5,null,1,8,6,null,1,6,9,null,1,5,9,null,1,9,6,null,1,10,5,null,null,3,2,-3,-4,3,5,null,1,1.5,4,4.5,1,0]
["2009-04-23",-1,8,6,null,1,9,6,null,-1,6,10,null,1,6,9,null,0,9,6,null,1,11,5,null,null,2,3,-4,-3,3,6,null,2,1.5,5,4.5,1.5,0]
["2009-04-24",-1,8,7,null,-1,9,7,null,-1,6,11,null,1,7,9,null,-1,9,7,null,1,12,5,null,null,1,2,-5,-2,2,7,null,3,2.5,6,4.5,2.5,0]
["2009-04-25",-1,8,8,null,-1,9,8,null,-1,6,12,null,1,8,9,null,1,10,7,null,1,13,5,null,null,0,1,-6,-1,3,8,null,4,3.5,7,4.5,2.5,0]
["2009-04-26",1,9,8,null,1,10,8,null,1,7,12,null,-1,8,10,null,1,11,7,null,-1,13,6,null,null,1,2,-5,-2,4,7,null,3,2.5,6,4.5,1.5,0]
["2009-04-27",-1,9,9,null,-1,10,9,null,1,8,12,null,1,9,10,null,-1,11,8,null,1,14,6,null,null,0,1,-4,-1,3,8,null,4,3.5,6,4.5,2.5,0]
["2009-04-28",1,10,9,null,-1,10,10,null,1,9,12,null,1,10,10,null,-1,11,9,null,-1,14,7,null,null,1,0,-3,0,2,7,null,3,3.5,5,3.5,2.5,0]
["2009-04-29",-1,10,10,null,1,11,10,null,-1,9,13,null,1,11,10,null,-1,11,10,null,1,15,7,null,null,0,1,-4,1,1,8,null,4,3.5,6,3.5,3.5,0]
["2009-04-30",-1,10,11,null,0,11,10,null,0,9,13,null,1,12,10,null,0,11,10,null,1,16,7,null,null,-1,1,-4,2,1,9,null,5,4,6.5,3.5,4,0]
["2009-05-01",1,11,11,null,1,12,10,null,-1,9,14,null,-1,12,11,null,-1,11,11,null,1,17,7,null,null,0,2,-5,1,0,10,null,5,4,7.5,4.5,5,0]
["2009-05-02",1,12,11,null,-1,12,11,null,1,10,14,null,-1,12,12,null,1,12,11,null,-1,17,8,null,null,1,1,-4,0,1,9,null,4,4,6.5,4.5,4,0]
["2009-05-03",1,13,11,null,1,13,11,null,1,11,14,null,1,13,12,null,-1,12,12,null,0,17,8,null,null,2,2,-3,1,0,9,null,3.5,3.5,6,4,4.5,0]
["2009-05-04",1,14,11,null,-1,13,12,null,-1,11,15,null,1,14,12,null,-1,12,13,null,-1,17,9,null,null,3,1,-4,2,-1,8,null,2.5,3.5,6,3,4.5,0]
["2009-05-05",-1,14,12,null,1,14,12,null,-1,11,16,null,1,15,12,null,-1,12,14,null,-1,17,10,null,null,2,2,-5,3,-2,7,null,2.5,2.5,6,2,4.5,0]
["2009-05-06",1,15,12,null,-1,14,13,null,-1,11,17,null,1,16,12,null,-1,12,15,null,1,18,10,null,null,3,1,-6,4,-3,8,null,2.5,3.5,7,2,5.5,0]
["2009-05-07",1,16,12,null,1,15,13,null,-1,11,18,null,-1,16,13,null,-1,12,16,null,1,19,10,null,null,4,2,-7,3,-4,9,null,2.5,3.5,8,3,6.5,0]
["2009-05-08",-1,16,13,null,1,16,13,null,1,12,18,null,1,17,13,null,-1,12,17,null,-1,19,11,null,null,3,3,-6,4,-5,8,null,2.5,2.5,7,2,6.5,0]
["2009-05-09",-1,16,14,null,1,17,13,null,1,13,18,null,1,18,13,null,-1,12,18,null,-1,19,12,null,null,2,4,-5,5,-6,7,null,2.5,1.5,6,1,6.5,0]
["2009-05-10",1,17,14,null,-1,17,14,null,1,14,18,null,-1,18,14,null,-1,12,19,null,1,20,12,null,null,3,3,-4,4,-7,8,null,2.5,2.5,6,2,7.5,0]
["2009-05-11",0,17,14,null,1,18,14,null,0,14,18,null,0,18,14,null,0,12,19,null,0,20,12,null,null,{"$f":"C38-D38","v":3},{"$f":"G38-H38","v":4},{"$f":"K38-L38","v":-4},{"$f":"O38-P38","v":4},{"$f":"S38-T38","v":-7},{"$f":"W38-X38","v":8},null,{"$f":"(MAX($AA38:$AF38)-AA38)/2","v":2.5},{"$f":"(MAX($AA38:$AF38)-AB38)/2","v":2},{"$f":"(MAX($AA38:$AF38)-AC38)/2","v":6},{"$f":"(MAX($AA38:$AF38)-AD38)/2","v":2},{"$f":"(MAX($AA38:$AF38)-AE38)/2","v":7.5},{"$f":"(MAX($AA38:$AF38)-AF38)/2","v":0}]
["2009-05-12",1,{"$f":"C38+IF(B39>0,B39,0)","v":18},{"$f":"D38-IF(B39<0,B39,0)","v":14},null,1,{"$f":"G38+IF(F39>0,F39,0)","v":19},{"$f":"H38-IF(F39<0,F39,0)","v":14},null,-1,{"$f":"K38+IF(J39>0,J39,0)","v":14},{"$f":"L38-IF(J39<0,J39,0)","v":19},null,1,{"$f":"O38+IF(N39>0,N39,0)","v":19},{"$f":"P38-IF(N39<0,N39,0)","v":14},null,1,13,19,null,-1,{"$f":"W38+IF(V39>0,V39,0)","v":20},{"$f":"X38-IF(V39<0,V39,0)","v":13},null,null,4,5,-5,5,-6,7,null,1.5,1,6,1,6.5,0]
["2009-05-13",1,19,14,null,1,20,14,null,1,15,19,null,1,20,14,null,1,14,19,null,-1,20,14,null,null,5,6,-4,6,-5,6,null,0.5,0,5,0,5.5,0]
["2009-05-14",1,20,14,null,0,20,14,null,1,16,19,null,1,21,14,null,-1,14,20,null,1,21,14,null,null,6,6,-3,7,-6,7,null,0.5,0.5,5,0,6.5,0]
["2009-05-15",0,20,14,null,-1,20,15,null,0,16,19,null,0,21,14,null,-1,14,21,null,0,21,14,null,null,6,5,-3,7,-7,7,null,0.5,1,5,0,7,0]
["2009-05-16",1,21,14,null,-1,{"$f":"G42+IF(F43>0,F43,0)","v":20},{"$f":"H42-IF(F43<0,F43,0)","v":16},null,-1,16,20,null,1,22,14,null,1,15,21,null,-1,21,15,null,null,7,4,-4,8,-6,6,null,0.5,2,6,0,7,1,null,null,{"$f":"AP182","v":"STL"},0,0.56172839506172845]
["2009-05-17",-1,21,15,null,-1,20,17,null,1,17,20,null,1,23,14,null,1,16,21,null,-1,21,16,null,null,6,3,-3,9,-5,5,null,1.5,3,6,0,7,2,null,null,"CHC",7.5,0.51552795031055898]
["2009-05-18",0,{"$f":"C44+IF(B45>0,B45,0)","v":21},{"$f":"D44-IF(B45<0,B45,0)","v":15},null,0,{"$f":"G44+IF(F45>0,F45,0)","v":20},{"$f":"H44-IF(F45<0,F45,0)","v":17},null,0,{"$f":"K44+IF(J45>0,J45,0)","v":17},{"$f":"L44-IF(J45<0,J45,0)","v":20},null,1,{"$f":"O44+IF(N45>0,N45,0)","v":24},{"$f":"P44-IF(N45<0,N45,0)","v":14},null,1,{"$f":"S44+IF(R45>0,R45,0)","v":17},{"$f":"T44-IF(R45<0,R45,0)","v":21},null,-1,{"$f":"W44+IF(V45>0,V45,0)","v":21},{"$f":"X44-IF(V45<0,V45,0)","v":17},null,null,6,3,-3,10,-4,4,null,2,3.5,6.5,0,7,3,null,null,"MIL",11,0.49382716049382713]
["2009-05-19",-1,21,16,null,-1,20,18,null,-1,17,21,null,1,25,14,null,1,{"$f":"S45+IF(R46>0,R46,0)","v":18},{"$f":"T45-IF(R46<0,R46,0)","v":21},null,1,22,17,null,null,5,2,-4,11,-3,5,null,3,4.5,7.5,0,7,3,null,null,"CIN",13,0.48148148148148145]
["2009-05-20",-1,21,17,null,1,21,18,null,1,18,21,null,-1,25,15,null,1,19,21,null,1,23,17,null,null,4,3,-3,10,-2,6,null,3,3.5,6.5,0,6,2,null,null,"HOU",17,0.4567901234567901]
["2009-05-21",-1,21,18,null,-1,21,19,null,-1,18,22,null,1,26,15,null,-1,19,22,null,1,24,17,null,null,3,2,-4,11,-3,7,null,4,4.5,7.5,0,7,2,null,null,"PIT",28.5,0.38509316770186336]
["2009-05-22",-1,21,19,null,1,22,19,null,-1,18,23,null,-1,26,16,null,-1,19,23,null,1,25,17,null,null,2,3,-5,10,-4,8,null,4,3.5,7.5,0,7,1]
["2009-05-23",-1,21,20,null,-1,22,20,null,-1,18,24,null,-1,26,17,null,-1,19,24,null,1,26,17,null,null,1,2,-6,9,-5,9,null,4,3.5,7.5,0,7,0]
["2009-05-24",-1,21,21,null,1,23,20,null,-1,18,25,null,-1,26,18,null,1,20,24,null,-1,26,18,null,null,0,3,-7,8,-4,8,null,4,2.5,7.5,0,6,0]
["2009-05-25",-1,21,22,null,1,24,20,null,-1,18,26,null,1,27,18,null,1,21,24,null,-1,26,19,null,null,-1,4,-8,9,-3,7,null,5,2.5,8.5,0,6,1]
["2009-05-26",1,22,22,null,1,25,20,null,-1,18,27,null,-1,27,19,null,-1,21,25,null,1,27,19,null,null,0,5,-9,8,-4,8,null,4,1.5,8.5,0,6,0]
["2009-05-27",1,23,22,null,1,26,20,null,-1,18,28,null,-1,27,20,null,-1,21,26,null,1,28,19,null,null,1,6,-10,7,-5,9,null,4,1.5,9.5,1,7,0]
["2009-05-28",-1,23,23,null,0,26,20,null,0,18,28,null,0,27,20,null,0,21,26,null,0,28,19,null,null,0,6,-10,7,-5,9,null,4.5,1.5,9.5,1,7,0]
["2009-05-29",1,24,23,null,-1,26,21,null,1,19,28,null,1,28,20,null,-1,21,27,null,-1,28,20,null,null,1,5,-9,8,-6,8,null,3.5,1.5,8.5,0,7,0]
["2009-05-30",1,25,23,null,-1,26,22,null,-1,19,29,null,1,29,20,null,1,22,27,null,1,29,20,null,null,2,4,-10,9,-5,9,null,3.5,2.5,9.5,0,7,0]
["2009-05-31",-1,25,24,null,-1,26,23,null,1,20,29,null,1,30,20,null,-1,22,28,null,-1,29,21,null,null,1,3,-9,10,-6,8,null,4.5,3.5,9.5,0,8,1]
["2009-06-01",0,25,24,null,1,27,23,null,1,21,29,null,-1,30,21,null,1,23,28,null,-1,29,22,null,null,1,4,-8,9,-5,7,null,4,2.5,8.5,0,7,1]
["2009-06-02",-1,25,25,null,-1,27,24,null,1,22,29,null,-1,30,22,null,1,24,28,null,1,30,22,null,null,0,3,-7,8,-4,8,null,4,2.5,7.5,0,6,0]
["2009-06-03",1,26,25,null,1,28,24,null,1,23,29,null,1,31,22,null,0,24,28,null,-1,30,23,null,null,1,4,-6,9,-4,7,null,4,2.5,7.5,0,6.5,1]
["2009-06-04",0,26,25,null,-1,28,25,null,-1,23,30,null,-1,31,23,null,1,25,28,null,1,31,23,null,null,1,3,-7,8,-3,8,null,3.5,2.5,7.5,0,5.5,0]
["2009-06-05",1,27,25,null,-1,28,26,null,1,24,30,null,1,32,23,null,-1,25,29,null,-1,31,24,null,null,2,2,-6,9,-4,7,null,3.5,3.5,7.5,0,6.5,1]
["2009-06-06",-1,27,26,null,1,29,26,null,-1,24,31,null,1,33,23,null,1,26,29,null,-1,31,25,null,null,1,3,-7,10,-3,6,null,4.5,3.5,8.5,0,6.5,2]
["2009-06-07",1,28,26,null,-1,29,27,null,1,25,31,null,-1,33,24,null,-1,26,30,null,-1,31,26,null,null,2,2,-6,9,-4,5,null,3.5,3.5,7.5,0,6.5,2]
["2009-06-08",0,28,26,null,0,29,27,null,0,25,31,null,0,33,24,null,-1,26,31,null,-1,31,27,null,null,2,2,-6,9,-5,4,null,3.5,3.5,7.5,0,7,2.5]
["2009-06-09",1,29,26,null,1,30,27,null,-1,25,32,null,-1,33,25,null,-1,26,32,null,-1,31,28,null,null,3,3,-7,8,-6,3,null,2.5,2.5,7.5,0,7,2.5]
["2009-06-10",-1,29,27,null,1,31,27,null,1,26,32,null,-1,33,26,null,1,27,32,null,1,32,28,null,null,2,4,-6,7,-5,4,null,2.5,1.5,6.5,0,6,1.5]
["2009-06-11",-1,29,28,null,-1,31,28,null,1,27,32,null,-1,33,27,null,1,28,32,null,1,{"$f":"W68+IF(V69>0,V69,0)","v":33},{"$f":"X68-IF(V69<0,V69,0)","v":28},null,null,1,3,-5,6,-4,5,null,2.5,1.5,5.5,0,5,0.5]
["2009-06-12",-1,{"$f":"C69+IF(B70>0,B70,0)","v":29},{"$f":"D69-IF(B70<0,B70,0)","v":29},null,-1,{"$f":"G69+IF(F70>0,F70,0)","v":31},{"$f":"H69-IF(F70<0,F70,0)","v":29},null,-1,27,33,null,1,34,27,null,-1,28,33,null,-1,33,29,null,null,{"$f":"C70-D70","v":0},{"$f":"G70-H70","v":2},{"$f":"K70-L70","v":-6},{"$f":"O70-P70","v":7},{"$f":"S70-T70","v":-5},{"$f":"W70-X70","v":4},null,{"$f":"(MAX($AA70:$AF70)-AA70)/2","v":3.5},{"$f":"(MAX($AA70:$AF70)-AB70)/2","v":2.5},{"$f":"(MAX($AA70:$AF70)-AC70)/2","v":6.5},{"$f":"(MAX($AA70:$AF70)-AD70)/2","v":0},{"$f":"(MAX($AA70:$AF70)-AE70)/2","v":6},{"$f":"(MAX($AA70:$AF70)-AF70)/2","v":1.5}]
["2009-06-13",-1,{"$f":"C70+IF(B71>0,B71,0)","v":29},{"$f":"D70-IF(B71<0,B71,0)","v":30},null,-1,{"$f":"G70+IF(F71>0,F71,0)","v":31},{"$f":"H70-IF(F71<0,F71,0)","v":30},null,1,{"$f":"K70+IF(J71>0,J71,0)","v":28},{"$f":"L70-IF(J71<0,J71,0)","v":33},null,-1,{"$f":"O70+IF(N71>0,N71,0)","v":34},{"$f":"P70-IF(N71<0,N71,0)","v":28},null,1,29,33,null,1,{"$f":"W70+IF(V71>0,V71,0)","v":34},{"$f":"X70-IF(V71<0,V71,0)","v":29},null,null,-1,1,-5,6,-4,5,null,3.5,2.5,5.5,0,5,0.5]
["2009-06-14",1,{"$f":"C71+IF(B72>0,B72,0)","v":30},{"$f":"D71-IF(B72<0,B72,0)","v":30},null,-1,{"$f":"G71+IF(F72>0,F72,0)","v":31},{"$f":"H71-IF(F72<0,F72,0)","v":31},null,1,29,33,null,-1,34,29,null,1,30,33,null,-1,34,30,null,null,0,0,-4,5,-3,4,null,2.5,2.5,4.5,0,4,0.5]
["2009-06-15",0,{"$f":"C72+IF(B73>0,B73,0)","v":30},{"$f":"D72-IF(B73<0,B73,0)","v":30},null,0,{"$f":"G72+IF(F73>0,F73,0)","v":31},{"$f":"H72-IF(F73<0,F73,0)","v":31},null,0,29,33,null,1,35,29,null,0,30,33,null,0,34,30,null,null,0,0,-4,6,-3,4,null,3,3,5,0,4.5,1]
["2009-06-16",0,30,30,null,1,32,31,null,-1,29,34,null,1,36,29,null,-1,30,34,null,1,35,30,null,null,0,1,-5,7,-4,5,null,3.5,3,6,0,5.5,1]
["2009-06-17",-1,30,31,null,1,33,31,null,-1,29,35,null,1,37,29,null,1,31,34,null,1,36,30,null,null,-1,2,-6,8,-3,6,null,4.5,3,7,0,5.5,1]
["2009-06-18",1,31,31,null,-1,33,32,null,1,30,35,null,0,37,29,null,-1,31,35,null,-1,36,31,null,null,0,1,-5,8,-4,5,null,4,3.5,6.5,0,6,1.5]
["2009-06-19",1,32,31,null,1,34,32,null,-1,30,36,null,-1,37,30,null,-1,31,36,null,1,37,31,null,null,1,2,-6,7,-5,6,null,3,2.5,6.5,0,6,0.5]
["2009-06-20",1,33,31,null,-1,34,33,null,1,31,36,null,-1,37,31,null,-1,{"$f":"S77+IF(R78>0,R78,0)","v":31},{"$f":"T77-IF(R78<0,R78,0)","v":37},null,1,38,31,null,null,2,1,-5,6,-6,7,null,2.5,3,6,0.5,6.5,0]
["2009-06-21",1,34,31,null,-1,34,34,null,1,32,36,null,-1,37,32,null,-1,31,38,null,1,39,31,null,null,3,0,-4,5,-7,8,null,2.5,4,6,1.5,7.5,0]
["2009-06-22",-1,34,32,null,0,34,34,null,0,32,36,null,0,37,32,null,0,31,38,null,-1,39,32,null,null,2,0,-4,5,-7,7,null,2.5,3.5,5.5,1,7,0]
["2009-06-23",-1,34,33,null,-1,34,35,null,-1,32,37,null,-1,37,33,null,-1,31,39,null,1,40,32,null,null,1,-1,-5,4,-8,8,null,3.5,4.5,6.5,2,8,0]
["2009-06-24",-1,34,34,null,-1,34,36,null,-1,32,38,null,1,38,33,null,1,32,39,null,-1,40,33,null,null,0,-2,-6,5,-7,7,null,3.5,4.5,6.5,1,7,0]
["2009-06-25",-1,34,35,null,1,35,36,null,1,33,38,null,-1,38,34,null,1,33,39,null,-1,40,34,null,null,-1,-1,-5,4,-6,6,null,3.5,3.5,5.5,1,6,0]
["2009-06-26",1,35,35,null,-1,35,37,null,1,34,38,null,1,39,34,null,1,34,39,null,-1,40,35,null,null,0,-2,-4,5,-5,5,null,2.5,3.5,4.5,0,5,0]
["2009-06-27",-1,35,36,null,1,36,37,null,1,35,38,null,1,40,34,null,1,35,39,null,1,41,35,null,null,-1,-1,-3,6,-4,6,null,3.5,3.5,4.5,0,5,0]
["2009-06-28",-1,35,37,null,1,37,37,null,-1,35,39,null,-1,40,35,null,-1,35,40,null,-1,41,36,null,null,-2,0,-4,5,-5,5,null,3.5,2.5,4.5,0,5,0]
["2009-06-29",1,36,37,null,0,37,37,null,1,36,39,null,1,41,35,null,-1,35,41,null,-1,41,37,null,null,-1,0,-3,6,-6,4,null,3.5,3,4.5,0,6,1]
["2009-06-30",-1,36,38,null,-1,37,38,null,-1,36,40,null,1,42,35,null,1,{"$f":"S87+IF(R88>0,R88,0)","v":36},{"$f":"T87-IF(R88<0,R88,0)","v":41},null,-1,{"$f":"W87+IF(V88>0,V88,0)","v":41},{"$f":"X87-IF(V88<0,V88,0)","v":38},null,null,-2,-1,-4,7,-5,3,null,4.5,4,5.5,0,6,2]
["2009-07-01",1,37,38,null,1,38,38,null,1,37,40,null,-1,42,36,null,-1,36,42,null,1,42,38,null,null,-1,0,-3,6,-6,4,null,3.5,3,4.5,0,6,1]
["2009-07-02",1,38,38,null,1,39,38,null,1,38,40,null,-1,42,37,null,-1,36,43,null,1,43,38,null,null,0,1,-2,5,-7,5,null,2.5,2,3.5,0,6,0]
["2009-07-03",1,39,38,null,-1,39,39,null,-1,38,41,null,-1,42,38,null,1,37,43,null,1,44,38,null,null,1,0,-3,4,-6,6,null,2.5,3,4.5,1,6,0]
["2009-07-04",-1,39,39,null,1,40,39,null,-1,38,42,null,1,43,38,null,-1,37,44,null,-1,44,39,null,null,0,1,-4,5,-7,5,null,2.5,2,4.5,0,6,0]
["2009-07-05",1,40,39,null,-1,40,40,null,1,39,42,null,-1,43,39,null,-1,37,45,null,1,45,39,null,null,1,0,-3,4,-8,6,null,2.5,3,4.5,1,7,0]
["2009-07-06",1,41,39,null,-1,40,41,null,1,40,42,null,0,43,39,null,-1,37,46,null,0,45,39,null,null,2,-1,-2,4,-9,6,null,2,3.5,4,1,7.5,0]
["2009-07-07",-1,41,40,null,1,41,41,null,-1,40,43,null,-1,43,40,null,1,38,46,null,1,46,39,null,null,1,0,-3,3,-8,7,null,3,3.5,5,2,7.5,0]
["2009-07-08",-1,41,41,null,-1,41,42,null,1,41,43,null,1,44,40,null,-1,38,47,null,-1,46,40,null,null,0,-1,-2,4,-9,6,null,3,3.5,4,1,7.5,0]
["2009-07-09",0,41,41,null,-1,41,43,null,1,42,43,null,-1,44,41,null,0,38,47,null,1,47,40,null,null,0,-2,-1,3,-9,7,null,3.5,4.5,4,2,8,0]
["2009-07-10",-1,41,42,null,1,42,43,null,1,43,43,null,-1,44,42,null,-1,38,48,null,1,48,40,null,null,-1,-1,0,2,-10,8,null,4.5,4.5,4,3,9,0]
["2009-07-11",1,42,42,null,-1,42,44,null,-1,43,44,null,1,45,42,null,-1,38,49,null,-1,48,41,null,null,0,-2,-1,3,-11,7,null,3.5,4.5,4,2,9,0]
["2009-07-12",0,43,43,null,-1,42,45,null,1,44,44,null,-1,45,43,null,-1,38,50,null,0,49,42,null,null,0,-3,0,2,-12,7,null,3.5,5,3.5,2.5,9.5,0]
["2009-07-13",0,43,43,null,0,42,45,null,0,44,44,null,0,45,43,null,0,38,50,null,0,49,42,null,null,0,-3,0,2,-12,7,null,3.5,5,3.5,2.5,9.5,0]
["2009-07-14",0,43,43,null,0,42,45,null,0,44,44,null,0,45,43,null,0,38,50,null,0,49,42,null,null,{"$f":"C102-D102","v":0},{"$f":"G102-H102","v":-3},{"$f":"K102-L102","v":0},{"$f":"O102-P102","v":2},{"$f":"S102-T102","v":-12},{"$f":"W102-X102","v":7},null,{"$f":"(MAX($AA102:$AF102)-AA102)/2","v":3.5},{"$f":"(MAX($AA102:$AF102)-AB102)/2","v":5},{"$f":"(MAX($AA102:$AF102)-AC102)/2","v":3.5},{"$f":"(MAX($AA102:$AF102)-AD102)/2","v":2.5},{"$f":"(MAX($AA102:$AF102)-AE102)/2","v":9.5},{"$f":"(MAX($AA102:$AF102)-AF102)/2","v":0}]
["2009-07-15",0,{"$f":"C102+IF(B103>0,B103,0)","v":43},{"$f":"D102-IF(B103<0,B103,0)","v":43},null,0,{"$f":"G102+IF(F103>0,F103,0)","v":42},{"$f":"H102-IF(F103<0,F103,0)","v":45},null,0,{"$f":"K102+IF(J103>0,J103,0)","v":44},{"$f":"L102-IF(J103<0,J103,0)","v":44},null,0,{"$f":"O102+IF(N103>0,N103,0)","v":45},{"$f":"P102-IF(N103<0,N103,0)","v":43},null,0,38,50,null,0,{"$f":"W102+IF(V103>0,V103,0)","v":49},{"$f":"X102-IF(V103<0,V103,0)","v":42},null,null,0,-3,0,2,-12,7,null,3.5,5,3.5,2.5,9.5,0]
["2009-07-16",1,44,43,null,-1,42,46,null,1,45,44,null,1,46,43,null,0,38,50,null,0,49,42,null,null,1,-4,1,3,-12,7,null,3,5.5,3,2,9.5,0]
["2009-07-17",1,45,43,null,1,43,46,null,1,46,44,null,-1,46,44,null,1,39,50,null,1,50,42,null,null,2,-3,2,2,-11,8,null,3,5.5,3,3,9.5,0]
["2009-07-18",1,46,43,null,-1,43,47,null,-1,46,45,null,1,47,44,null,1,40,50,null,-1,50,43,null,null,3,-4,1,3,-10,7,null,2,5.5,3,2,8.5,0]
["2009-07-19",1,47,43,null,1,44,47,null,-1,46,46,null,-1,47,45,null,-1,40,51,null,1,51,43,null,null,4,-3,0,2,-11,8,null,2,5.5,4,3,9.5,0]
["2009-07-20",-1,47,44,null,-1,44,48,null,1,47,46,null,-1,47,46,null,1,41,51,null,-1,51,44,null,null,3,-4,1,1,-10,7,null,2,5.5,3,3,8.5,0]
["2009-07-21",-1,47,45,null,-1,44,49,null,1,48,46,null,1,48,46,null,-1,41,52,null,-1,51,45,null,null,2,-5,2,2,-11,6,null,2,5.5,2,2,8.5,0]
["2009-07-22",1,48,45,null,-1,44,50,null,1,49,46,null,-1,48,47,null,1,{"$f":"S109+IF(R110>0,R110,0)","v":42},{"$f":"T109-IF(R110<0,R110,0)","v":52},null,-1,51,46,null,null,3,-6,3,1,-10,5,null,1,5.5,1,2,7.5,0]
["2009-07-23",0,48,45,null,0,44,50,null,0,49,46,null,0,48,47,null,-1,42,53,null,1,52,46,null,null,3,-6,3,1,-11,6,null,1.5,6,1.5,2.5,8.5,0]
["2009-07-24",1,49,45,null,-1,44,51,null,1,50,46,null,-1,48,48,null,1,43,53,null,1,53,46,null,null,4,-7,4,0,-10,7,null,1.5,7,1.5,3.5,8.5,0]
["2009-07-25",1,50,45,null,-1,44,52,null,-1,50,47,null,1,49,48,null,-1,43,54,null,-1,53,47,null,null,5,-8,3,1,-11,6,null,0.5,7,1.5,2.5,8.5,0]
["2009-07-26",1,51,45,null,-1,44,53,null,-1,50,48,null,-1,49,49,null,-1,43,55,null,-1,53,48,null,null,6,-9,2,0,-12,5,null,0,7.5,2,3,9,0.5]
["2009-07-27",1,52,45,null,1,45,53,null,-1,50,49,null,-1,49,50,null,-1,43,56,null,1,54,48,null,null,7,-8,1,-1,-13,6,null,0,7.5,3,4,10,0.5]
["2009-07-28",-1,52,46,null,-1,45,54,null,1,51,49,null,-1,49,51,null,-1,43,57,null,1,55,48,null,null,6,-9,2,-2,-14,7,null,0.5,8,2.5,4.5,10.5,0]
["2009-07-29",1,53,46,null,-1,45,55,null,-1,51,50,null,1,50,51,null,-1,43,58,null,1,56,48,null,null,7,-10,1,-1,-15,8,null,0.5,9,3.5,4.5,11.5,0]
["2009-07-30",1,54,46,null,-1,45,56,null,-1,51,51,null,1,51,51,null,0,43,58,null,-1,56,49,null,null,8,-11,0,0,-15,7,null,0,9.5,4,4,11.5,0.5]
["2009-07-31",-1,54,47,null,-1,45,57,null,-1,51,52,null,-1,51,52,null,1,44,58,null,1,57,49,null,null,7,-12,-1,-1,-14,8,null,0.5,10,4.5,4.5,11,0]
["2009-08-01",1,55,47,null,-1,45,58,null,-1,51,53,null,-1,51,53,null,1,45,58,null,1,58,49,null,null,8,-13,-2,-2,-13,9,null,0.5,11,5.5,5.5,11,0]
["2009-08-02",-1,55,48,null,-1,45,59,null,1,52,53,null,1,52,53,null,-1,45,59,null,-1,58,50,null,null,7,-14,-1,-1,-14,8,null,0.5,11,4.5,4.5,11,0]
["2009-08-03",1,56,48,null,-1,45,60,null,1,53,53,null,1,53,53,null,-1,45,60,null,0,58,50,null,null,8,-15,0,0,-15,8,null,0,11.5,4,4,11.5,0]
["2009-08-04",1,57,48,null,-1,45,61,null,-1,53,54,null,-1,53,54,null,-1,45,61,null,1,59,50,null,null,9,-16,-1,-1,-16,9,null,0,12.5,5,5,12.5,0]
["2009-08-05",-1,57,49,null,1,46,61,null,-1,53,55,null,1,54,54,null,-1,45,62,null,-1,59,51,null,null,8,-15,-2,0,-17,8,null,0,11.5,5,4,12.5,0]
["2009-08-06",0,57,49,null,0,46,61,null,0,53,55,null,0,54,54,null,-1,45,63,null,0,59,51,null,null,8,-15,-2,0,-18,8,null,0,11.5,5,4,13,0]
["2009-08-07",-1,57,50,null,1,47,61,null,1,54,55,null,-1,54,55,null,-1,45,64,null,1,60,51,null,null,7,-14,-1,-1,-19,9,null,1,11.5,5,5,14,0]
["2009-08-08",1,58,50,null,-1,47,62,null,-1,54,56,null,1,55,55,null,-1,45,65,null,1,61,51,null,null,8,-15,-2,0,-20,10,null,1,12.5,6,5,15,0]
["2009-08-09",-1,58,51,null,1,48,62,null,1,55,56,null,-1,55,56,null,-1,45,66,null,1,62,51,null,null,7,-14,-1,-1,-21,11,null,2,12.5,6,6,16,0]
["2009-08-10",-1,58,52,null,-1,48,63,null,-1,55,57,null,0,55,56,null,0,45,66,null,1,63,51,null,null,6,-15,-2,-1,-21,12,null,3,13.5,7,6.5,16.5,0]
["2009-08-11",-1,58,53,null,1,49,63,null,-1,55,58,null,-1,55,57,null,1,46,66,null,-1,63,52,null,null,5,-14,-3,-2,-20,11,null,3,12.5,7,6.5,15.5,0]
["2009-08-12",-1,58,54,null,-1,49,64,null,1,56,58,null,-1,55,58,null,-1,46,67,null,1,64,52,null,null,4,-15,-2,-3,-21,12,null,4,13.5,7,7.5,16.5,0]
["2009-08-13",-1,58,55,null,1,50,64,null,-1,56,59,null,1,56,58,null,-1,46,68,null,0,64,52,null,null,3,-14,-3,-2,-22,12,null,4.5,13,7.5,7,17,0]
["2009-08-14",1,59,55,null,-1,50,65,null,-1,56,60,null,1,57,58,null,-1,46,69,null,1,65,52,null,null,4,-15,-4,-1,-23,13,null,4.5,14,8.5,7,18,0]
["2009-08-15",1,60,55,null,-1,50,66,null,-1,56,61,null,1,58,58,null,-1,46,70,null,1,66,52,null,null,{"$f":"C134-D134","v":5},{"$f":"G134-H134","v":-16},{"$f":"K134-L134","v":-5},{"$f":"O134-P134","v":0},{"$f":"S134-T134","v":-24},{"$f":"W134-X134","v":14},null,{"$f":"(MAX($AA134:$AF134)-AA134)/2","v":4.5},{"$f":"(MAX($AA134:$AF134)-AB134)/2","v":15},{"$f":"(MAX($AA134:$AF134)-AC134)/2","v":9.5},{"$f":"(MAX($AA134:$AF134)-AD134)/2","v":7},{"$f":"(MAX($AA134:$AF134)-AE134)/2","v":19},{"$f":"(MAX($AA134:$AF134)-AF134)/2","v":0}]
["2009-08-16",0,{"$f":"C134+IF(B135>0,B135,0)","v":60},{"$f":"D134-IF(B135<0,B135,0)","v":55},null,-1,{"$f":"G134+IF(F135>0,F135,0)","v":50},{"$f":"H134-IF(F135<0,F135,0)","v":67},null,1,{"$f":"K134+IF(J135>0,J135,0)","v":57},{"$f":"L134-IF(J135<0,J135,0)","v":61},null,-1,{"$f":"O134+IF(N135>0,N135,0)","v":58},{"$f":"P134-IF(N135<0,N135,0)","v":59},null,0,46,70,null,1,{"$f":"W134+IF(V135>0,V135,0)","v":67},{"$f":"X134-IF(V135<0,V135,0)","v":52},null,null,5,-17,-4,-1,-24,15,null,5,16,9.5,8,19.5,0]
["2009-08-17",-1,60,56,null,0,50,67,null,0,57,61,null,-1,58,60,null,1,47,70,null,1,68,52,null,null,4,-17,-4,-2,-23,16,null,6,16.5,10,9,19.5,0]
["2009-08-18",-1,60,57,null,-1,50,68,null,-1,57,62,null,-1,58,61,null,1,48,70,null,-1,68,53,null,null,3,-18,-5,-3,-22,15,null,6,16.5,10,9,18.5,0]
["2009-08-19",1,61,57,null,-1,50,69,null,1,58,62,null,-1,58,62,null,1,49,70,null,1,69,53,null,null,4,-19,-4,-4,-21,16,null,6,17.5,10,10,18.5,0]
["2009-08-20",-1,61,58,null,1,51,69,null,1,59,62,null,0,58,62,null,0,49,70,null,1,70,53,null,null,3,-18,-3,-4,-21,17,null,7,17.5,10,10.5,19,0]
["2009-08-21",-1,61,59,null,-1,51,70,null,1,60,62,null,1,59,62,null,1,50,70,null,-1,70,54,null,null,2,-19,-2,-3,-20,16,null,7,17.5,9,9.5,18,0]
["2009-08-22",-1,61,60,null,-1,51,71,null,1,61,62,null,1,60,62,null,1,51,70,null,1,71,54,null,null,1,-20,-1,-2,-19,17,null,8,18.5,9,9.5,18,0]
["2009-08-23",1,62,60,null,1,52,71,null,-1,61,63,null,-1,60,63,null,-1,{"$f":"S141+IF(R142>0,R142,0)","v":51},{"$f":"T141-IF(R142<0,R142,0)","v":71},null,1,72,54,null,null,2,-19,-2,-3,-20,18,null,8,18.5,10,10.5,19,0]
["2009-08-24",0,62,60,null,0,52,71,null,0,61,63,null,1,61,63,null,0,51,71,null,0,72,54,null,null,2,-19,-2,-2,-20,18,null,8,18.5,10,10,19,0]
["2009-08-25",-1,62,61,null,1,53,71,null,-1,61,64,null,-1,61,64,null,1,52,71,null,1,73,54,null,null,1,-18,-3,-3,-19,19,null,9,18.5,11,11,19,0]
["2009-08-26",1,63,61,null,1,54,71,null,-1,61,65,null,-1,61,65,null,-1,52,72,null,1,74,54,null,null,2,-17,-4,-4,-20,20,null,9,18.5,12,12,20,0]
["2009-08-27",-1,63,62,null,1,55,71,null,1,62,65,null,-1,61,66,null,1,53,72,null,-1,74,55,null,null,1,-16,-3,-5,-19,19,null,9,17.5,11,12,19,0]
["2009-08-28",1,64,62,null,1,56,71,null,-1,62,66,null,1,62,66,null,-1,53,73,null,1,75,55,null,null,2,-15,-4,-4,-20,20,null,9,17.5,12,12,20,0]
["2009-08-29",1,65,62,null,-1,56,72,null,-1,62,67,null,1,63,66,null,-1,53,74,null,1,76,55,null,null,3,-16,-5,-3,-21,21,null,9,18.5,13,12,21,0]
["2009-08-30",-1,65,63,null,-1,56,73,null,-1,62,68,null,1,64,66,null,-1,53,75,null,1,77,55,null,null,2,-17,-6,-2,-22,22,null,10,19.5,14,12,22,0]
["2009-08-31",-1,65,64,null,2,58,73,null,1,63,68,null,0,64,66,null,-2,53,77,null,0,77,55,null,null,1,-15,-5,-2,-24,22,null,10.5,18.5,13.5,12,23,0]
["2009-09-01",1,66,64,null,1,59,73,null,-1,63,69,null,-1,64,67,null,-1,53,78,null,1,78,55,null,null,2,-14,-6,-3,-25,23,null,10.5,18.5,14.5,13,24,0]
["2009-09-02",1,67,64,null,1,60,73,null,-1,63,70,null,-1,64,68,null,-1,53,79,null,1,79,55,null,null,3,-13,-7,-4,-26,24,null,10.5,18.5,15.5,14,25,0]
["2009-09-03",-1,67,65,null,0,60,73,null,0,63,70,null,1,65,68,null,0,53,79,null,-1,79,56,null,null,2,-13,-7,-3,-26,23,null,10.5,18,15,13,24.5,0]
["2009-09-04",-1,67,66,null,1,61,73,null,1,64,70,null,-1,65,69,null,-1,53,80,null,1,80,56,null,null,1,-12,-6,-4,-27,24,null,11.5,18,15,14,25.5,0]
["2009-09-05",1,{"$f":"C154+IF(B155>0,B155,0)","v":68},{"$f":"D154-IF(B155<0,B155,0)","v":66},null,1,62,73,null,1,65,70,null,-1,65,70,null,-1,53,81,null,1,81,56,null,null,2,-11,-5,-5,-28,25,null,11.5,18,15,15,26.5,0]
["2009-09-06",-1,68,67,null,1,63,73,null,1,66,70,null,1,66,70,null,1,54,81,null,-1,81,57,null,null,1,-10,-4,-4,-27,24,null,11.5,17,14,14,25.5,0]
["2009-09-07",1,69,67,null,-1,{"$f":"G156+IF(F157>0,F157,0)","v":63},{"$f":"H156-IF(F157<0,F157,0)","v":74},null,1,67,70,null,-1,66,71,null,-1,54,82,null,1,82,57,null,null,2,-11,-3,-5,-28,25,null,11.5,18,14,15,26.5,0]
["2009-09-08",1,70,67,null,-1,63,75,null,-1,67,71,null,-1,66,72,null,-1,54,83,null,1,83,57,null,null,3,-12,-4,-6,-29,26,null,11.5,19,15,16,27.5,0]
["2009-09-09",1,71,67,null,-1,63,76,null,1,68,71,null,-1,66,73,null,-1,54,84,null,1,84,57,null,null,4,-13,-3,-7,-30,27,null,11.5,20,15,17,28.5,0]
["2009-09-10",0,71,67,null,-1,63,77,null,-1,68,72,null,0,66,73,null,0,54,84,null,0,84,57,null,null,4,-14,-4,-7,-30,27,null,11.5,20.5,15.5,17,28.5,0]
["2009-09-11",1,72,67,null,-1,63,78,null,1,69,72,null,1,67,73,null,-1,54,85,null,-1,84,58,null,null,5,-15,-3,-6,-31,26,null,10.5,20.5,14.5,16,28.5,0]
["2009-09-12",-1,72,68,null,1,64,78,null,1,70,72,null,1,68,73,null,-1,54,86,null,-1,84,59,null,null,4,-14,-2,-5,-32,25,null,10.5,19.5,13.5,15,28.5,0]
["2009-09-13",1,73,68,null,-1,64,79,null,-1,70,73,null,1,69,73,null,1,55,86,null,-1,84,60,null,null,5,-15,-3,-4,-31,24,null,9.5,19.5,13.5,14,27.5,0]
["2009-09-14",1,74,68,null,1,65,79,null,-1,70,74,null,-1,69,74,null,-1,55,87,null,1,85,60,null,null,6,-14,-4,-5,-32,25,null,9.5,19.5,14.5,15,28.5,0]
["2009-09-15",1,75,68,null,1,66,79,null,-1,{"$f":"K164+IF(J165>0,J165,0)","v":70},{"$f":"L164-IF(J165<0,J165,0)","v":75},null,-1,69,75,null,-1,{"$f":"S164+IF(R165>0,R165,0)","v":55},{"$f":"T164-IF(R165<0,R165,0)","v":88},null,-1,85,61,null,null,7,-13,-5,-6,-33,24,null,8.5,18.5,14.5,15,28.5,0]
["2009-09-16",-1,{"$f":"C165+IF(B166>0,B166,0)","v":75},{"$f":"D165-IF(B166<0,B166,0)","v":69},null,1,67,79,null,-1,70,76,null,1,70,75,null,-1,55,89,null,-1,85,62,null,null,{"$f":"C166-D166","v":6},{"$f":"G166-H166","v":-12},{"$f":"K166-L166","v":-6},{"$f":"O166-P166","v":-5},{"$f":"S166-T166","v":-34},{"$f":"W166-X166","v":23},null,{"$f":"(MAX($AA166:$AF166)-AA166)/2","v":8.5},{"$f":"(MAX($AA166:$AF166)-AB166)/2","v":17.5},{"$f":"(MAX($AA166:$AF166)-AC166)/2","v":14.5},{"$f":"(MAX($AA166:$AF166)-AD166)/2","v":14},{"$f":"(MAX($AA166:$AF166)-AE166)/2","v":28.5},{"$f":"(MAX($AA166:$AF166)-AF166)/2","v":0}]
["2009-09-17",-1,75,70,null,1,{"$f":"G166+IF(F167>0,F167,0)","v":68},{"$f":"H166-IF(F167<0,F167,0)","v":79},null,0,70,76,null,1,{"$f":"O166+IF(N167>0,N167,0)","v":71},{"$f":"P166-IF(N167<0,N167,0)","v":75},null,0,55,89,null,0,{"$f":"W166+IF(V167>0,V167,0)","v":85},{"$f":"X166-IF(V167<0,V167,0)","v":62},null,null,5,-11,-6,-4,-34,23,null,9,17,14.5,13.5,28.5,0]
["2009-09-18",-1,75,71,null,-1,68,80,null,-1,70,77,null,1,72,75,null,1,56,89,null,1,86,62,null,null,4,-12,-7,-3,-33,24,null,10,18,15.5,13.5,28.5,0]
["2009-09-19",-1,75,72,null,-1,68,81,null,-1,70,78,null,1,73,75,null,-1,56,90,null,1,87,62,null,null,3,-13,-8,-2,-34,25,null,11,19,16.5,13.5,29.5,0]
["2009-09-20",1,76,72,null,1,69,81,null,-1,70,79,null,1,74,75,null,-1,56,91,null,-1,87,63,null,null,4,-12,-9,-1,-35,24,null,10,18,16.5,12.5,29.5,0]
["2009-09-21",1,77,72,null,0,69,81,null,-1,70,80,null,-1,74,76,null,-1,56,92,null,1,88,63,null,null,5,-12,-10,-2,-36,25,null,10,18.5,17.5,13.5,30.5,0]
["2009-09-22",1,78,72,null,1,70,81,null,-1,70,81,null,-1,74,77,null,-1,56,93,null,1,89,63,null,null,6,-11,-11,-3,-37,26,null,10,18.5,18.5,14.5,31.5,0]
["2009-09-23",-1,78,73,null,1,71,81,null,1,71,81,null,1,75,77,null,-1,56,94,null,-1,89,64,null,null,5,-10,-10,-2,-38,25,null,10,17.5,17.5,13.5,31.5,0]
["2009-09-24",1,79,73,null,1,72,81,null,0,71,81,null,-1,75,78,null,-1,56,95,null,0,89,64,null,null,6,-9,-10,-3,-39,25,null,9.5,17,17.5,14,32,0]
["2009-09-25",1,80,73,null,1,73,81,null,-1,71,82,null,1,76,78,null,1,57,95,null,-1,89,65,null,null,7,-8,-11,-2,-38,24,null,8.5,16,17.5,13,31,0]
["2009-09-26",1,{"$f":"C175+IF(B176>0,B176,0)","v":81},{"$f":"D175-IF(B176<0,B176,0)","v":73},null,1,74,81,null,-1,71,83,null,1,77,78,null,-1,57,96,null,1,90,65,null,null,8,-7,-12,-1,-39,25,null,8.5,16,18.5,13,32,0]
["2009-09-27",-1,81,74,null,-1,74,82,null,1,72,83,null,-1,77,79,null,1,58,96,null,-1,90,66,null,null,7,-8,-11,-2,-38,24,null,8.5,16,17.5,13,31,0]
["2009-09-28",0,81,74,null,0,74,82,null,1,73,83,null,0,77,79,null,1,59,96,null,0,90,66,null,null,7,-8,-10,-2,-37,24,null,8.5,16,17,13,30.5,0]
["2009-09-29",1,82,74,null,1,75,82,null,-1,73,84,null,-1,77,80,null,-1,59,97,null,-1,90,67,null,null,8,-7,-11,-3,-38,23,null,7.5,15,17,13,30.5,0]
["2009-09-30",-2,82,76,null,1,76,82,null,-1,73,85,null,-1,77,81,null,2,61,97,null,-1,90,68,null,null,6,-6,-12,-4,-36,22,null,8,14,17,13,29,0]
["2009-10-01",0,82,76,null,-1,76,83,null,1,74,85,null,-1,77,82,null,0,61,97,null,1,91,68,null,null,6,-7,-11,-5,-36,23,null,8.5,15,17,14,29.5,0,null,null,"Team","GB","%"]
["2009-10-02",-1,82,77,null,-1,76,84,null,-1,74,86,null,1,78,82,null,1,62,97,null,-1,91,69,null,null,5,-8,-12,-4,-35,22,null,8.5,15,17,13,28.5,0,null,null,{"$f":"AM$1","v":"STL"},{"$f":"AM$185","v":0},{"$f":"AM$187","v":0.56172839506172845}]
["2009-10-03",1,83,77,null,1,77,84,null,-1,74,87,null,1,79,82,null,-1,62,98,null,-1,91,70,null,null,6,-7,-13,-3,-36,21,null,7.5,14,17,12,28.5,0,null,null,{"$f":"AH$1","v":"CHC"},{"$f":"AH$185","v":7.5},{"$f":"AH$187","v":0.51552795031055898}]
["2009-10-04",-1,83,78,null,1,78,84,null,-1,74,88,null,1,80,82,null,-1,62,99,null,-1,91,71,null,null,5,-6,-14,-2,-37,20,null,7.5,13,17,11,28.5,0,null,null,{"$f":"AK$1","v":"MIL"},{"$f":"AK$185","v":11},{"$f":"AK$187","v":0.49382716049382713}]
["2009-10-05",0,83,78,null,0,78,84,null,0,74,88,null,0,80,82,null,0,62,99,null,0,91,71,null,null,5,-6,-14,-2,-37,20,null,7.5,13,17,11,28.5,0,null,null,{"$f":"AI$1","v":"CIN"},{"$f":"AI$185","v":13},{"$f":"AI$187","v":0.48148148148148145}]
[null,null,null,null,null,null,null,null,null,null,null,null,null,null,null,null,null,null,null,null,null,null,null,null,null,null,null,null,null,null,null,null,null,null,null,null,null,null,null,null,null,{"$f":"AJ$1","v":"HOU"},{"$f":"AJ$185","v":17},{"$f":"AJ$187","v":0.4567901234567901}]
[null,null,null,null,null,null,null,null,null,null,null,null,null,null,null,null,null,null,null,null,null,null,null,null,null,null,null,null,null,null,null,null,null,{"$f":"C185/(C185+D185)","v":0.51552795031055898},{"$f":"G185/(G185+H185)","v":0.48148148148148145},{"$f":"K185/(K185+L185)","v":0.4567901234567901},{"$f":"O185/(O185+P185)","v":0.49382716049382713},{"$f":"S185/(S185+T185)","v":0.38509316770186336},{"$f":"W185/(W185+X185)","v":0.56172839506172845},null,null,{"$f":"AL$1","v":"PIT"},{"$f":"AL$185","v":28.5},{"$f":"AL$187","v":0.38509316770186336}]